Workbook

Sheet Startpagina
C4: Kasboek | J4: FJ: | K4: 2018
C8: Naam:
C10: Adres:
C12: Postcode / Plaats
C14: BTW nummer
C16: Banksaldo begin
C18: Kassaldo begin

Sheet Januari
B2: Januari
C5: Inkomsten Kas | J5: Uitgaven Kas | Q5: Saldo
S6: Begin saldo | T6: =0 -> 0
C7: 43101 | J7: 43101 | Q7: 43101 | T7: =T6+F7-M7 -> 0
C8: 43102 | J8: 43102 | Q8: 43102 | T8: =T7+F8-M8 -> 0
C9: 43103 | J9: 43103 | Q9: 43103 | T9: =T8+F9-M9 -> 0
C10: 43104 | J10: 43104 | Q10: 43104 | T10: =T9+F10-M10 -> 0
C11: 43105 | J11: 43105 | Q11: 43105 | T11: =T10+F11-M11 -> 0
C12: 43106 | J12: 43106 | Q12: 43106 | T12: =T11+F12-M12 -> 0
C13: 43107 | J13: 43107 | Q13: 43107 | T13: =T12+F13-M13 -> 0
C14: 43108 | J14: 43108 | Q14: 43108 | T14: =T13+F14-M14 -> 0
C15: 43109 | J15: 43109 | Q15: 43109 | T15: =T14+F15-M15 -> 0
C16: 43110 | J16: 43110 | Q16: 43110 | T16: =T15+F16-M16 -> 0
C17: 43111 | J17: 43111 | Q17: 43111 | T17: =T16+F17-M17 -> 0
C18: 43112 | J18: 43112 | Q18: 43112 | T18: =T17+F18-M18 -> 0
... C37: 43131 | J37: 43131 | Q37: 43131 | T37: =T36+F37-M37 -> 0
D41: Totaal | F41: =SUM(F7:F37) -> 0 | K41: Totaal | M41: =SUM(M7:M37) -> 0 | R41: Totaal | T41: =T37 -> 0
C43: Totaaloverzicht
D44: Kas Inkomsten | F44: =F41 -> 0
D45: Totaal Inkomsten | F45: =SUM(F44:F44) -> 0
D46: Kas Uitgaven | F46: =M41 -> 0
F47: =F45-F46 -> 0

Sheet Februari
B2: Februari
C5: Inkomsten Kas | J5: Uitgaven Kas | Q5: Saldo
S6: Begin saldo | T6: =Januari!T41 -> 0
C7: 43132 | J7: 43132 | Q7: 43132 | T7: =T6+F7-M7 -> 0
C8: 43133 | J8: 43133 | Q8: 43133 | T8: =T7+F8-M8 -> 0
C9: 43134 | J9: 43134 | Q9: 43134 | T9: =T8+F9-M9 -> 0
C10: 43135 | J10: 43135 | Q10: 43135 | T10: =T9+F10-M10 -> 0
C11: 43136 | J11: 43136 | Q11: 43136 | T11: =T10+F11-M11 -> 0
C12: 43137 | J12: 43137 | Q12: 43137 | T12: =T11+F12-M12 -> 0
C13: 43138 | J13: 43138 | Q13: 43138 | T13: =T12+F13-M13 -> 0
C14: 43139 | J14: 43139 | Q14: 43139 | T14: =T13+F14-M14 -> 0
C15: 43140 | J15: 43140 | Q15: 43140 | T15: =T14+F15-M15 -> 0
C16: 43141 | J16: 43141 | Q16: 43141 | T16: =T15+F16-M16 -> 0
C17: 43142 | J17: 43142 | Q17: 43142 | T17: =T16+F17-M17 -> 0
C18: 43143 | J18: 43143 | Q18: 43143 | T18: =T17+F18-M18 -> 0
... C34: 43159 | J34: 43159 | Q34: 43159 | T34: =T33+F34-M34 -> 0
D41: Totaal | F41: =SUM(F7:F37) -> 0 | K41: Totaal | M41: =SUM(M7:M37) -> 0 | R41: Totaal | T41: =T34 -> 0
C43: Totaaloverzicht
D44: Kas Inkomsten | F44: =F41 -> 0
D45: Totaal Inkomsten | F45: =SUM(F44:F44) -> 0
D46: Kas Uitgaven | F46: =M41 -> 0
F47: =F45-F46 -> 0

Sheet Maart
B2: Maart
C5: Inkomsten Kas | J5: Uitgaven Kas | Q5: Saldo
S6: Begin saldo | T6: =Februari!T41 -> 0
C7: 43160 | J7: 43160 | Q7: 43160 | T7: =T6+F7-M7 -> 0
C8: 43161 | J8: 43161 | Q8: 43161 | T8: =T7+F8-M8 -> 0
C9: 43162 | J9: 43162 | Q9: 43162 | T9: =T8+F9-M9 -> 0
C10: 43163 | J10: 43163 | Q10: 43163 | T10: =T9+F10-M10 -> 0
C11: 43164 | J11: 43164 | Q11: 43164 | T11: =T10+F11-M11 -> 0
C12: 43165 | J12: 43165 | Q12: 43165 | T12: =T11+F12-M12 -> 0
C13: 43166 | J13: 43166 | Q13: 43166 | T13: =T12+F13-M13 -> 0
C14: 43167 | J14: 43167 | Q14: 43167 | T14: =T13+F14-M14 -> 0
C15: 43168 | J15: 43168 | Q15: 43168 | T15: =T14+F15-M15 -> 0
C16: 43169 | J16: 43169 | Q16: 43169 | T16: =T15+F16-M16 -> 0
C17: 43170 | J17: 43170 | Q17: 43170 | T17: =T16+F17-M17 -> 0
C18: 43171 | J18: 43171 | Q18: 43171 | T18: =T17+F18-M18 -> 0
... C37: 43190 | J37: 43190 | Q37: 43190 | T37: =T36+F37-M37 -> 0
D41: Totaal | F41: =SUM(F7:F37) -> 0 | K41: Totaal | M41: =SUM(M7:M37) -> 0 | R41: Totaal | T41: =T37 -> 0
C43: Totaaloverzicht
D44: Kas Inkomsten | F44: =F41 -> 0
D45: Totaal Inkomsten | F45: =SUM(F44:F44) -> 0
D46: Kas Uitgaven | F46: =M41 -> 0
F47: =F45-F46 -> 0

Sheet April
B2: April
C5: Inkomsten Kas | J5: Uitgaven Kas | Q5: Saldo
S6: Begin saldo | T6: =Maart!T41 -> 0
C7: 43191 | J7: 43191 | Q7: 43191 | T7: =T6+F7-M7 -> 0
C8: 43192 | J8: 43192 | Q8: 43192 | T8: =T7+F8-M8 -> 0
C9: 43193 | J9: 43193 | Q9: 43193 | T9: =T8+F9-M9 -> 0
C10: 43194 | J10: 43194 | Q10: 43194 | T10: =T9+F10-M10 -> 0
C11: 43195 | J11: 43195 | Q11: 43195 | T11: =T10+F11-M11 -> 0
C12: 43196 | J12: 43196 | Q12: 43196 | T12: =T11+F12-M12 -> 0
C13: 43197 | J13: 43197 | Q13: 43197 | T13: =T12+F13-M13 -> 0
C14: 43198 | J14: 43198 | Q14: 43198 | T14: =T13+F14-M14 -> 0
C15: 43199 | J15: 43199 | Q15: 43199 | T15: =T14+F15-M15 -> 0
C16: 43200 | J16: 43200 | Q16: 43200 | T16: =T15+F16-M16 -> 0
C17: 43201 | J17: 43201 | Q17: 43201 | T17: =T16+F17-M17 -> 0
C18: 43202 | J18: 43202 | Q18: 43202 | T18: =T17+F18-M18 -> 0
... C36: 43220 | J36: 43220 | Q36: 43220 | T36: =T35+F36-M36 -> 0
D41: Totaal | F41: =SUM(F7:F37) -> 0 | K41: Totaal | M41: =SUM(M7:M37) -> 0 | R41: Totaal | T41: =T36 -> 0
C43: Totaaloverzicht
D44: Kas Inkomsten | F44: =F41 -> 0
D45: Totaal Inkomsten | F45: =SUM(F44:F44) -> 0
D46: Kas Uitgaven | F46: =M41 -> 0
F47: =F45-F46 -> 0

Sheet Mei
B2: Mei
C5: Inkomsten Kas | J5: Uitgaven Kas | Q5: Saldo
S6: Begin saldo | T6: =April!T41 -> 0
C7: 43221 | J7: 43221 | Q7: 43221 | T7: =T6+F7-M7 -> 0
C8: 43222 | J8: 43222 | Q8: 43222 | T8: =T7+F8-M8 -> 0
C9: 43223 | J9: 43223 | Q9: 43223 | T9: =T8+F9-M9 -> 0
C10: 43224 | J10: 43224 | Q10: 43224 | T10: =T9+F10-M10 -> 0
C11: 43225 | J11: 43225 | Q11: 43225 | T11: =T10+F11-M11 -> 0
C12: 43226 | J12: 43226 | Q12: 43226 | T12: =T11+F12-M12 -> 0
C13: 43227 | J13: 43227 | Q13: 43227 | T13: =T12+F13-M13 -> 0
C14: 43228 | J14: 43228 | Q14: 43228 | T14: =T13+F14-M14 -> 0
C15: 43229 | J15: 43229 | Q15: 43229 | T15: =T14+F15-M15 -> 0
C16: 43230 | J16: 43230 | Q16: 43230 | T16: =T15+F16-M16 -> 0
C17: 43231 | J17: 43231 | Q17: 43231 | T17: =T16+F17-M17 -> 0
C18: 43232 | J18: 43232 | Q18: 43232 | T18: =T17+F18-M18 -> 0
... C37: 43251 | J37: 43251 | Q37: 43251 | T37: =T36+F37-M37 -> 0
D41: Totaal | F41: =SUM(F7:F37) -> 0 | K41: Totaal | M41: =SUM(M7:M37) -> 0 | R41: Totaal | T41: =T37 -> 0
C43: Totaaloverzicht
D44: Kas Inkomsten | F44: =F41 -> 0
D45: Totaal Inkomsten | F45: =SUM(F44:F44) -> 0
D46: Kas Uitgaven | F46: =M41 -> 0
F47: =F45-F46 -> 0

Sheet Juni
B2: Juni
C5: Inkomsten Kas | J5: Uitgaven Kas | Q5: Saldo
S6: Begin saldo | T6: =Mei!T41 -> 0
C7: 43252 | J7: 43252 | Q7: 43252 | T7: =T6+F7-M7 -> 0
C8: 43253 | J8: 43253 | Q8: 43253 | T8: =T7+F8-M8 -> 0
C9: 43254 | J9: 43254 | Q9: 43254 | T9: =T8+F9-M9 -> 0
C10: 43255 | J10: 43255 | Q10: 43255 | T10: =T9+F10-M10 -> 0
C11: 43256 | J11: 43256 | Q11: 43256 | T11: =T10+F11-M11 -> 0
C12: 43257 | J12: 43257 | Q12: 43257 | T12: =T11+F12-M12 -> 0
C13: 43258 | J13: 43258 | Q13: 43258 | T13: =T12+F13-M13 -> 0
C14: 43259 | J14: 43259 | Q14: 43259 | T14: =T13+F14-M14 -> 0
C15: 43260 | J15: 43260 | Q15: 43260 | T15: =T14+F15-M15 -> 0
C16: 43261 | J16: 43261 | Q16: 43261 | T16: =T15+F16-M16 -> 0
C17: 43262 | J17: 43262 | Q17: 43262 | T17: =T16+F17-M17 -> 0
C18: 43263 | J18: 43263 | Q18: 43263 | T18: =T17+F18-M18 -> 0
... C36: 43281 | J36: 43281 | Q36: 43281 | T36: =T35+F36-M36 -> 0
D41: Totaal | F41: =SUM(F7:F37) -> 0 | K41: Totaal | M41: =SUM(M7:M37) -> 0 | R41: Totaal | T41: =T36 -> 0
C43: Totaaloverzicht
D44: Kas Inkomsten | F44: =F41 -> 0
D45: Totaal Inkomsten | F45: =SUM(F44:F44) -> 0
D46: Kas Uitgaven | F46: =M41 -> 0
F47: =F45-F46 -> 0

Sheet Juli
B2: Juli
C5: Inkomsten Kas | J5: Uitgaven Kas | Q5: Saldo
S6: Begin saldo | T6: =Juni!T41 -> 0
C7: 43282 | J7: 43282 | Q7: 43282 | T7: =T6+F7-M7 -> 0
C8: 43283 | J8: 43283 | Q8: 43283 | T8: =T7+F8-M8 -> 0
C9: 43284 | J9: 43284 | Q9: 43284 | T9: =T8+F9-M9 -> 0
C10: 43285 | J10: 43285 | Q10: 43285 | T10: =T9+F10-M10 -> 0
C11: 43286 | J11: 43286 | Q11: 43286 | T11: =T10+F11-M11 -> 0
C12: 43287 | J12: 43287 | Q12: 43287 | T12: =T11+F12-M12 -> 0
C13: 43288 | J13: 43288 | Q13: 43288 | T13: =T12+F13-M13 -> 0
C14: 43289 | J14: 43289 | Q14: 43289 | T14: =T13+F14-M14 -> 0
C15: 43290 | J15: 43290 | Q15: 43290 | T15: =T14+F15-M15 -> 0
C16: 43291 | J16: 43291 | Q16: 43291 | T16: =T15+F16-M16 -> 0
C17: 43292 | J17: 43292 | Q17: 43292 | T17: =T16+F17-M17 -> 0
C18: 43293 | J18: 43293 | Q18: 43293 | T18: =T17+F18-M18 -> 0
... C37: 43312 | J37: 43312 | Q37: 43312 | T37: =T36+F37-M37 -> 0
D41: Totaal | F41: =SUM(F7:F37) -> 0 | K41: Totaal | M41: =SUM(M7:M37) -> 0 | R41: Totaal | T41: =T37 -> 0
C43: Totaaloverzicht
D44: Kas Inkomsten | F44: =F41 -> 0
D45: Totaal Inkomsten | F45: =SUM(F44:F44) -> 0
D46: Kas Uitgaven | F46: =M41 -> 0
F47: =F45-F46 -> 0

Sheet Augustus
B2: Augustus
C5: Inkomsten Kas | J5: Uitgaven Kas | Q5: Saldo
S6: Begin saldo | T6: =Juli!T41 -> 0
C7: 43313 | J7: 43313 | Q7: 43313 | T7: =T6+F7-M7 -> 0
C8: 43314 | J8: 43314 | Q8: 43314 | T8: =T7+F8-M8 -> 0
C9: 43315 | J9: 43315 | Q9: 43315 | T9: =T8+F9-M9 -> 0
C10: 43316 | J10: 43316 | Q10: 43316 | T10: =T9+F10-M10 -> 0
C11: 43317 | J11: 43317 | Q11: 43317 | T11: =T10+F11-M11 -> 0
C12: 43318 | J12: 43318 | Q12: 43318 | T12: =T11+F12-M12 -> 0
C13: 43319 | J13: 43319 | Q13: 43319 | T13: =T12+F13-M13 -> 0
C14: 43320 | J14: 43320 | Q14: 43320 | T14: =T13+F14-M14 -> 0
C15: 43321 | J15: 43321 | Q15: 43321 | T15: =T14+F15-M15 -> 0
C16: 43322 | J16: 43322 | Q16: 43322 | T16: =T15+F16-M16 -> 0
C17: 43323 | J17: 43323 | Q17: 43323 | T17: =T16+F17-M17 -> 0
C18: 43324 | J18: 43324 | Q18: 43324 | T18: =T17+F18-M18 -> 0
... C37: 43343 | J37: 43343 | Q37: 43343 | T37: =T36+F37-M37 -> 0
D41: Totaal | F41: =SUM(F7:F37) -> 0 | K41: Totaal | M41: =SUM(M7:M37) -> 0 | R41: Totaal | T41: =T37 -> 0
C43: Totaaloverzicht
D44: Kas Inkomsten | F44: =F41 -> 0
D45: Totaal Inkomsten | F45: =SUM(F44:F44) -> 0
D46: Kas Uitgaven | F46: =M41 -> 0
F47: =F45-F46 -> 0

Sheet September
B2: September
C5: Inkomsten Kas | J5: Uitgaven Kas | Q5: Saldo
S6: Begin saldo | T6: =Augustus!T41 -> 0
C7: 43344 | J7: 43344 | Q7: 43344 | T7: =T6+F7-M7 -> 0
C8: 43345 | J8: 43345 | Q8: 43345 | T8: =T7+F8-M8 -> 0
C9: 43346 | J9: 43346 | Q9: 43346 | T9: =T8+F9-M9 -> 0
C10: 43347 | J10: 43347 | Q10: 43347 | T10: =T9+F10-M10 -> 0
C11: 43348 | J11: 43348 | Q11: 43348 | T11: =T10+F11-M11 -> 0
C12: 43349 | J12: 43349 | Q12: 43349 | T12: =T11+F12-M12 -> 0
C13: 43350 | J13: 43350 | Q13: 43350 | T13: =T12+F13-M13 -> 0
C14: 43351 | J14: 43351 | Q14: 43351 | T14: =T13+F14-M14 -> 0
C15: 43352 | J15: 43352 | Q15: 43352 | T15: =T14+F15-M15 -> 0
C16: 43353 | J16: 43353 | Q16: 43353 | T16: =T15+F16-M16 -> 0
C17: 43354 | J17: 43354 | Q17: 43354 | T17: =T16+F17-M17 -> 0
C18: 43355 | J18: 43355 | Q18: 43355 | T18: =T17+F18-M18 -> 0
... C36: 43373 | J36: 43373 | Q36: 43373 | T36: =T35+F36-M36 -> 0
D41: Totaal | F41: =SUM(F7:F37) -> 0 | K41: Totaal | M41: =SUM(M7:M37) -> 0 | R41: Totaal | T41: =T36 -> 0
C43: Totaaloverzicht
D44: Kas Inkomsten | F44: =F41 -> 0
D45: Totaal Inkomsten | F45: =SUM(F44:F44) -> 0
D46: Kas Uitgaven | F46: =M41 -> 0
F47: =F45-F46 -> 0

Sheet Oktober
B2: Oktober
C5: Inkomsten Kas | J5: Uitgaven Kas | Q5: Saldo
S6: Begin saldo | T6: =September!T41 -> 0
C7: 43374 | J7: 43374 | Q7: 43374 | T7: =T6+F7-M7 -> 0
C8: 43375 | J8: 43375 | Q8: 43375 | T8: =T7+F8-M8 -> 0
C9: 43376 | J9: 43376 | Q9: 43376 | T9: =T8+F9-M9 -> 0
C10: 43377 | J10: 43377 | Q10: 43377 | T10: =T9+F10-M10 -> 0
C11: 43378 | J11: 43378 | Q11: 43378 | T11: =T10+F11-M11 -> 0
C12: 43379 | J12: 43379 | Q12: 43379 | T12: =T11+F12-M12 -> 0
C13: 43380 | J13: 43380 | Q13: 43380 | T13: =T12+F13-M13 -> 0
C14: 43381 | J14: 43381 | Q14: 43381 | T14: =T13+F14-M14 -> 0
C15: 43382 | J15: 43382 | Q15: 43382 | T15: =T14+F15-M15 -> 0
C16: 43383 | J16: 43383 | Q16: 43383 | T16: =T15+F16-M16 -> 0
C17: 43384 | J17: 43384 | Q17: 43384 | T17: =T16+F17-M17 -> 0
C18: 43385 | J18: 43385 | Q18: 43385 | T18: =T17+F18-M18 -> 0
... C37: 43404 | J37: 43404 | Q37: 43404 | T37: =T36+F37-M37 -> 0
D41: Totaal | F41: =SUM(F7:F37) -> 0 | K41: Totaal | M41: =SUM(M7:M37) -> 0 | R41: Totaal | T41: =T37 -> 0
C43: Totaaloverzicht
D44: Kas Inkomsten | F44: =F41 -> 0
D45: Totaal Inkomsten | F45: =SUM(F44:F44) -> 0
D46: Kas Uitgaven | F46: =M41 -> 0
F47: =F45-F46 -> 0

Sheet November
B2: November
C5: Inkomsten Kas | J5: Uitgaven Kas | Q5: Saldo
S6: Begin saldo | T6: =Oktober!T41 -> 0
C7: 43405 | J7: 43405 | Q7: 43405 | T7: =T6+F7-M7 -> 0
C8: 43406 | J8: 43406 | Q8: 43406 | T8: =T7+F8-M8 -> 0
C9: 43407 | J9: 43407 | Q9: 43407 | T9: =T8+F9-M9 -> 0
C10: 43408 | J10: 43408 | Q10: 43408 | T10: =T9+F10-M10 -> 0
C11: 43409 | J11: 43409 | Q11: 43409 | T11: =T10+F11-M11 -> 0
C12: 43410 | J12: 43410 | Q12: 43410 | T12: =T11+F12-M12 -> 0
C13: 43411 | J13: 43411 | Q13: 43411 | T13: =T12+F13-M13 -> 0
C14: 43412 | J14: 43412 | Q14: 43412 | T14: =T13+F14-M14 -> 0
C15: 43413 | J15: 43413 | Q15: 43413 | T15: =T14+F15-M15 -> 0
C16: 43414 | J16: 43414 | Q16: 43414 | T16: =T15+F16-M16 -> 0
C17: 43415 | J17: 43415 | Q17: 43415 | T17: =T16+F17-M17 -> 0
C18: 43416 | J18: 43416 | Q18: 43416 | T18: =T17+F18-M18 -> 0
... C36: 43434 | J36: 43434 | Q36: 43434 | T36: =T35+F36-M36 -> 0
D41: Totaal | F41: =SUM(F7:F37) -> 0 | K41: Totaal | M41: =SUM(M7:M37) -> 0 | R41: Totaal | T41: =T36 -> 0
C43: Totaaloverzicht
D44: Kas Inkomsten | F44: =F41 -> 0
D45: Totaal Inkomsten | F45: =SUM(F44:F44) -> 0
D46: Kas Uitgaven | F46: =M41 -> 0
F47: =F45-F46 -> 0

Sheet December
B2: December
C5: Inkomsten Kas | J5: Uitgaven Kas | Q5: Saldo
S6: Begin saldo | T6: =November!T41 -> 0
C7: 43435 | J7: 43435 | Q7: 43435 | T7: =T6+F7-M7 -> 0
C8: 43436 | J8: 43436 | Q8: 43436 | T8: =T7+F8-M8 -> 0
C9: 43437 | J9: 43437 | Q9: 43437 | T9: =T8+F9-M9 -> 0
C10: 43438 | J10: 43438 | Q10: 43438 | T10: =T9+F10-M10 -> 0
C11: 43439 | J11: 43439 | Q11: 43439 | T11: =T10+F11-M11 -> 0
C12: 43440 | J12: 43440 | Q12: 43440 | T12: =T11+F12-M12 -> 0
C13: 43441 | J13: 43441 | Q13: 43441 | T13: =T12+F13-M13 -> 0
C14: 43442 | J14: 43442 | Q14: 43442 | T14: =T13+F14-M14 -> 0
C15: 43443 | J15: 43443 | Q15: 43443 | T15: =T14+F15-M15 -> 0
C16: 43444 | J16: 43444 | Q16: 43444 | T16: =T15+F16-M16 -> 0
C17: 43445 | J17: 43445 | Q17: 43445 | T17: =T16+F17-M17 -> 0
C18: 43446 | J18: 43446 | Q18: 43446 | T18: =T17+F18-M18 -> 0
... C37: 43465 | J37: 43465 | Q37: 43465 | T37: =T36+F37-M37 -> 0
D41: Totaal | F41: =SUM(F7:F37) -> 0 | K41: Totaal | M41: =SUM(M7:M37) -> 0 | R41: Totaal | T41: =T37 -> 0
C43: Totaaloverzicht
D44: Kas Inkomsten | F44: =F41 -> 0
D45: Totaal Inkomsten | F45: =SUM(F44:F44) -> 0
D46: Kas Uitgaven | F46: =M41 -> 0
F47: =F45-F46 -> 0

Sheet Overzicht
C4: Totaaloverzicht Inkomsten / uitgaven
C6: Maand | D6: Inkomsten Kas | F6: Uitgaven Kas | H6: Saldo
C7: Januari | D7: =Januari!F41 -> 0 | F7: =Januari!M41 -> 0 | H7: =Januari!T41 -> 0
C8: Februari | D8: =Februari!F41 -> 0 | F8: =Februari!M41 -> 0 | H8: =Februari!T41 -> 0
C9: Maart | D9: =Maart!F41 -> 0 | F9: =Maart!M41 -> 0 | H9: =Maart!T41 -> 0
C10: April | D10: =April!F41 -> 0 | F10: =April!M41 -> 0 | H10: =April!T41 -> 0
C11: Mei | D11: =Mei!F41 -> 0 | F11: =Mei!M41 -> 0 | H11: =Mei!T41 -> 0
C12: Juni | D12: =Juni!F41 -> 0 | F12: =Juni!M41 -> 0 | H12: =Juni!T41 -> 0
C13: Juli | D13: =Juli!F41 -> 0 | F13: =Juli!M41 -> 0 | H13: =Juli!T41 -> 0
C14: Augustus | D14: =Augustus!F41 -> 0 | F14: =Augustus!M41 -> 0 | H14: =Augustus!T41 -> 0
C15: September | D15: =September!F41 -> 0 | F15: =September!M41 -> 0 | H15: =September!T41 -> 0
C16: Oktober | D16: =Oktober!F41 -> 0 | F16: =Oktober!M41 -> 0 | H16: =Oktober!T41 -> 0
C17: November | D17: =November!F41 -> 0 | F17: =November!M41 -> 0 | H17: =November!T41 -> 0
C18: December | D18: =December!F41 -> 0 | F18: =December!M41 -> 0 | H18: =December!T41 -> 0
H20: =SUM(H7:I18) -> 0
