Workbook
Name Bedrijfsnaam: Instellingen!$D$6
Name BegindatumBoekjaar: Instellingen!$D$15
Name Boekjaar: Instellingen!$D$14
Name Combi1: Urenregister!$S$6:$S$1029
Name Combi2: Urenregister!$T$6:$T$1029
Name Combi3: Urenregister!$U$6:$U$1029
Name DataRij: Urenregister!$E$6:$E$1029
Name EinddatumBoekjaar: Instellingen!$D$16
Name Feestdagen: Instellingen!$B$63:$B$139
Name Jaar: Urenkaart!$V$11
Name JaNee: Instellingen!$D$21:$D$22
Name Klantnr: Klanten!$B$6:$B$106
Name MedewerkersNaam: Draaitabel!$B$5:$B$1048576
Name MedewerkersNaam: Klanten!$B$6:$B$1048576
Name MedewerkersNaam: Projecten!$B$6:$B$1048576
Name Projectcode: Projecten!$B$6:$B$105
Name TabelKlanten: Klanten!$B$6:$M$105
Name TabelProjecten: Projecten!$B$6:$M$105
Name TabelUren: Urenregister!$B$6:$Q$1029
Name UrenAantal: Urenregister!$P$6:$P$1029
Name UrenAard: Instellingen!$B$21:$B$28
Name UrenAard2: Urenregister!$L$6:$L$1029
Name UrenAardActiviteit: Instellingen!$D$31:$D$60
Name UrenCategorie: Urenregister!$K$6:$K$1029
Name Urencriterium: Instellingen!$C$31:$C$60
Name UrenCriterium2: Urenregister!$M$6:$M$1029
Name UrenDag: Urenregister!$D$6:$D$1029
Name UrenFactuur: Urenregister!$N$6:$N$1029
Name UrenKlant: Urenregister!$G$6:$G$1029
Name Urenklantnr: Urenregister!$F$6:$F$1029
Name UrenMaand: Urenregister!$B$6:$B$1029
Name UrenOmzet: Urenregister!$R$6:$R$1029
Name UrenProject: Urenregister!$I$6:$I$1029
Name UrenProjectcode: Urenregister!$H$6:$H$1029
Name Urensoort: Instellingen!$B$31:$B$60
Name UrenTabel: Instellingen!$B$31:$D$60
Name UrenTarief: Urenregister!$O$6:$O$1029
Name UrenUrencriterium: Instellingen!$D$17
Name UrenWeek: Urenregister!$C$6:$C$1029
Name UwAdres: Instellingen!$D$8
Name UwEmail: Instellingen!$D$12
Name UwNaam: Instellingen!$D$7
Name UwPostcode: Instellingen!$D$9
Name UwTelefoonnummer: Instellingen!$D$11
Name UwWebsite: Instellingen!$D$13
Name UwWoonplaats: Instellingen!$D$10

Sheet Urenregister
B2: Urenregistratie
B3: =Bedrijfsnaam -> Bedrijfsnaam
B5: Mnd | C5: Week | D5: Dag | E5: Datum | F5: Klantnr | G5: Klantnaam | H5: Projectcode | I5: Project | J5: Omschrijving werkzaamheden | K5: UrenCategorie | L5: Aard | M5: Uren- criterium | N5: Gefactureerd met factuur | O5: Uurloon | P5: Aantal uren | Q5: Totaal uren | R5: Omzet | S5: Combi1 (Aard + Mnd) | T5: Combi2 Crit. + Mnd) | U5: Combi3 dag + Crit.
B6: =IF(E6="","",MONTH(E6)) | C6: =IF(E6="","",INT((E6-SUM(MOD(DATE(YEAR(E6-MOD(E6-2,7)+3),1,2),{1E+99;7})*{1;-1})+5)/7)) | D6: =IF(E6="","",E6) | G6: =IF(ISERROR(VLOOKUP(F6,TabelKlanten,2,FALSE)),"",VLOOKUP(F6,TabelKlanten,2,FALSE)) | I6: =IF(ISERROR(VLOOKUP(H6,TabelProjecten,2,FALSE)),"",VLOOKUP(H6,TabelProjecten,2,FALSE)) | L6: =IF(ISERROR(VLOOKUP(K6,UrenTabel,3,FALSE)),"",VLOOKUP(K6,UrenTabel,3,FALSE)) | M6: =IF(ISERROR(VLOOKUP(K6,UrenTabel,2,FALSE)),"",VLOOKUP(K6,UrenTabel,2,FALSE)) | P6: 0 | Q6: =IF(P6="","",P6) -> 0 | R6: =O6*P6 -> 0 | S6: =L6&B6 | T6: =M6&B6 | U6: =M6&E6
B7: =IF(E7="","",MONTH(E7)) | C7: =IF(E7="","",INT((E7-SUM(MOD(DATE(YEAR(E7-MOD(E7-2,7)+3),1,2),{1E+99;7})*{1;-1})+5)/7)) | D7: =IF(E7="","",E7) | G7: =IF(ISERROR(VLOOKUP(F7,TabelKlanten,2,FALSE)),"",VLOOKUP(F7,TabelKlanten,2,FALSE)) | I7: =IF(ISERROR(VLOOKUP(H7,TabelProjecten,2,FALSE)),"",VLOOKUP(H7,TabelProjecten,2,FALSE)) | L7: =IF(ISERROR(VLOOKUP(K7,UrenTabel,3,FALSE)),"",VLOOKUP(K7,UrenTabel,3,FALSE)) | M7: =IF(ISERROR(VLOOKUP(K7,UrenTabel,2,FALSE)),"",VLOOKUP(K7,UrenTabel,2,FALSE)) | P7: 0 | Q7: =IF(ISNUMBER(Q6),IF(ISNUMBER(P7),Q6+P7,0),0) -> 0 | R7: =O7*P7 -> 0 | S7: =L7&B7 | T7: =M7&B7 | U7: =M7&E7
B8: =IF(E8="","",MONTH(E8)) | C8: =IF(E8="","",INT((E8-SUM(MOD(DATE(YEAR(E8-MOD(E8-2,7)+3),1,2),{1E+99;7})*{1;-1})+5)/7)) | D8: =IF(E8="","",E8) | G8: =IF(ISERROR(VLOOKUP(F8,TabelKlanten,2,FALSE)),"",VLOOKUP(F8,TabelKlanten,2,FALSE)) | I8: =IF(ISERROR(VLOOKUP(H8,TabelProjecten,2,FALSE)),"",VLOOKUP(H8,TabelProjecten,2,FALSE)) | L8: =IF(ISERROR(VLOOKUP(K8,UrenTabel,3,FALSE)),"",VLOOKUP(K8,UrenTabel,3,FALSE)) | M8: =IF(ISERROR(VLOOKUP(K8,UrenTabel,2,FALSE)),"",VLOOKUP(K8,UrenTabel,2,FALSE)) | P8: 0 | Q8: =IF(ISNUMBER(Q7),IF(ISNUMBER(P8),Q7+P8,0),0) -> 0 | R8: =O8*P8 -> 0 | S8: =L8&B8 | T8: =M8&B8 | U8: =M8&E8
B9: =IF(E9="","",MONTH(E9)) | C9: =IF(E9="","",INT((E9-SUM(MOD(DATE(YEAR(E9-MOD(E9-2,7)+3),1,2),{1E+99;7})*{1;-1})+5)/7)) | D9: =IF(E9="","",E9) | G9: =IF(ISERROR(VLOOKUP(F9,TabelKlanten,2,FALSE)),"",VLOOKUP(F9,TabelKlanten,2,FALSE)) | I9: =IF(ISERROR(VLOOKUP(H9,TabelProjecten,2,FALSE)),"",VLOOKUP(H9,TabelProjecten,2,FALSE)) | L9: =IF(ISERROR(VLOOKUP(K9,UrenTabel,3,FALSE)),"",VLOOKUP(K9,UrenTabel,3,FALSE)) | M9: =IF(ISERROR(VLOOKUP(K9,UrenTabel,2,FALSE)),"",VLOOKUP(K9,UrenTabel,2,FALSE)) | P9: 0 | Q9: =IF(ISNUMBER(Q8),IF(ISNUMBER(P9),Q8+P9,0),0) -> 0 | R9: =O9*P9 -> 0 | S9: =L9&B9 | T9: =M9&B9 | U9: =M9&E9
B10: =IF(E10="","",MONTH(E10)) | C10: =IF(E10="","",INT((E10-SUM(MOD(DATE(YEAR(E10-MOD(E10-2,7)+3),1,2),{1E+99;7})*{1;-1})+5)/7)) | D10: =IF(E10="","",E10) | G10: =IF(ISERROR(VLOOKUP(F10,TabelKlanten,2,FALSE)),"",VLOOKUP(F10,TabelKlanten,2,FALSE)) | I10: =IF(ISERROR(VLOOKUP(H10,TabelProjecten,2,FALSE)),"",VLOOKUP(H10,TabelProjecten,2,FALSE)) | L10: =IF(ISERROR(VLOOKUP(K10,UrenTabel,3,FALSE)),"",VLOOKUP(K10,UrenTabel,3,FALSE)) | M10: =IF(ISERROR(VLOOKUP(K10,UrenTabel,2,FALSE)),"",VLOOKUP(K10,UrenTabel,2,FALSE)) | P10: 0 | Q10: =IF(ISNUMBER(Q9),IF(ISNUMBER(P10),Q9+P10,0),0) -> 0 | R10: =O10*P10 -> 0 | S10: =L10&B10 | T10: =M10&B10 | U10: =M10&E10
B11: =IF(E11="","",MONTH(E11)) | C11: =IF(E11="","",INT((E11-SUM(MOD(DATE(YEAR(E11-MOD(E11-2,7)+3),1,2),{1E+99;7})*{1;-1})+5)/7)) | D11: =IF(E11="","",E11) | G11: =IF(ISERROR(VLOOKUP(F11,TabelKlanten,2,FALSE)),"",VLOOKUP(F11,TabelKlanten,2,FALSE)) | I11: =IF(ISERROR(VLOOKUP(H11,TabelProjecten,2,FALSE)),"",VLOOKUP(H11,TabelProjecten,2,FALSE)) | L11: =IF(ISERROR(VLOOKUP(K11,UrenTabel,3,FALSE)),"",VLOOKUP(K11,UrenTabel,3,FALSE)) | M11: =IF(ISERROR(VLOOKUP(K11,UrenTabel,2,FALSE)),"",VLOOKUP(K11,UrenTabel,2,FALSE)) | P11: 0 | Q11: =IF(ISNUMBER(Q10),IF(ISNUMBER(P11),Q10+P11,0),0) -> 0 | R11: =O11*P11 -> 0 | S11: =L11&B11 | T11: =M11&B11 | U11: =M11&E11
B12: =IF(E12="","",MONTH(E12)) | C12: =IF(E12="","",INT((E12-SUM(MOD(DATE(YEAR(E12-MOD(E12-2,7)+3),1,2),{1E+99;7})*{1;-1})+5)/7)) | D12: =IF(E12="","",E12) | G12: =IF(ISERROR(VLOOKUP(F12,TabelKlanten,2,FALSE)),"",VLOOKUP(F12,TabelKlanten,2,FALSE)) | I12: =IF(ISERROR(VLOOKUP(H12,TabelProjecten,2,FALSE)),"",VLOOKUP(H12,TabelProjecten,2,FALSE)) | L12: =IF(ISERROR(VLOOKUP(K12,UrenTabel,3,FALSE)),"",VLOOKUP(K12,UrenTabel,3,FALSE)) | M12: =IF(ISERROR(VLOOKUP(K12,UrenTabel,2,FALSE)),"",VLOOKUP(K12,UrenTabel,2,FALSE)) | P12: 0 | Q12: =IF(ISNUMBER(Q11),IF(ISNUMBER(P12),Q11+P12,0),0) -> 0 | R12: =O12*P12 -> 0 | S12: =L12&B12 | T12: =M12&B12 | U12: =M12&E12
B13: =IF(E13="","",MONTH(E13)) | C13: =IF(E13="","",INT((E13-SUM(MOD(DATE(YEAR(E13-MOD(E13-2,7)+3),1,2),{1E+99;7})*{1;-1})+5)/7)) | D13: =IF(E13="","",E13) | G13: =IF(ISERROR(VLOOKUP(F13,TabelKlanten,2,FALSE)),"",VLOOKUP(F13,TabelKlanten,2,FALSE)) | I13: =IF(ISERROR(VLOOKUP(H13,TabelProjecten,2,FALSE)),"",VLOOKUP(H13,TabelProjecten,2,FALSE)) | L13: =IF(ISERROR(VLOOKUP(K13,UrenTabel,3,FALSE)),"",VLOOKUP(K13,UrenTabel,3,FALSE)) | M13: =IF(ISERROR(VLOOKUP(K13,UrenTabel,2,FALSE)),"",VLOOKUP(K13,UrenTabel,2,FALSE)) | P13: 0 | Q13: =IF(ISNUMBER(Q12),IF(ISNUMBER(P13),Q12+P13,0),0) -> 0 | R13: =O13*P13 -> 0 | S13: =L13&B13 | T13: =M13&B13 | U13: =M13&E13
B14: =IF(E14="","",MONTH(E14)) | C14: =IF(E14="","",INT((E14-SUM(MOD(DATE(YEAR(E14-MOD(E14-2,7)+3),1,2),{1E+99;7})*{1;-1})+5)/7)) | D14: =IF(E14="","",E14) | G14: =IF(ISERROR(VLOOKUP(F14,TabelKlanten,2,FALSE)),"",VLOOKUP(F14,TabelKlanten,2,FALSE)) | I14: =IF(ISERROR(VLOOKUP(H14,TabelProjecten,2,FALSE)),"",VLOOKUP(H14,TabelProjecten,2,FALSE)) | L14: =IF(ISERROR(VLOOKUP(K14,UrenTabel,3,FALSE)),"",VLOOKUP(K14,UrenTabel,3,FALSE)) | M14: =IF(ISERROR(VLOOKUP(K14,UrenTabel,2,FALSE)),"",VLOOKUP(K14,UrenTabel,2,FALSE)) | P14: 0 | Q14: =IF(ISNUMBER(Q13),IF(ISNUMBER(P14),Q13+P14,0),0) -> 0 | R14: =O14*P14 -> 0 | S14: =L14&B14 | T14: =M14&B14 | U14: =M14&E14
B15: =IF(E15="","",MONTH(E15)) | C15: =IF(E15="","",INT((E15-SUM(MOD(DATE(YEAR(E15-MOD(E15-2,7)+3),1,2),{1E+99;7})*{1;-1})+5)/7)) | D15: =IF(E15="","",E15) | G15: =IF(ISERROR(VLOOKUP(F15,TabelKlanten,2,FALSE)),"",VLOOKUP(F15,TabelKlanten,2,FALSE)) | I15: =IF(ISERROR(VLOOKUP(H15,TabelProjecten,2,FALSE)),"",VLOOKUP(H15,TabelProjecten,2,FALSE)) | L15: =IF(ISERROR(VLOOKUP(K15,UrenTabel,3,FALSE)),"",VLOOKUP(K15,UrenTabel,3,FALSE)) | M15: =IF(ISERROR(VLOOKUP(K15,UrenTabel,2,FALSE)),"",VLOOKUP(K15,UrenTabel,2,FALSE)) | P15: 0 | Q15: =IF(ISNUMBER(Q14),IF(ISNUMBER(P15),Q14+P15,0),0) -> 0 | R15: =O15*P15 -> 0 | S15: =L15&B15 | T15: =M15&B15 | U15: =M15&E15
B16: =IF(E16="","",MONTH(E16)) | C16: =IF(E16="","",INT((E16-SUM(MOD(DATE(YEAR(E16-MOD(E16-2,7)+3),1,2),{1E+99;7})*{1;-1})+5)/7)) | D16: =IF(E16="","",E16) | G16: =IF(ISERROR(VLOOKUP(F16,TabelKlanten,2,FALSE)),"",VLOOKUP(F16,TabelKlanten,2,FALSE)) | I16: =IF(ISERROR(VLOOKUP(H16,TabelProjecten,2,FALSE)),"",VLOOKUP(H16,TabelProjecten,2,FALSE)) | L16: =IF(ISERROR(VLOOKUP(K16,UrenTabel,3,FALSE)),"",VLOOKUP(K16,UrenTabel,3,FALSE)) | M16: =IF(ISERROR(VLOOKUP(K16,UrenTabel,2,FALSE)),"",VLOOKUP(K16,UrenTabel,2,FALSE)) | P16: 0 | Q16: =IF(ISNUMBER(Q15),IF(ISNUMBER(P16),Q15+P16,0),0) -> 0 | R16: =O16*P16 -> 0 | S16: =L16&B16 | T16: =M16&B16 | U16: =M16&E16
B17: =IF(E17="","",MONTH(E17)) | C17: =IF(E17="","",INT((E17-SUM(MOD(DATE(YEAR(E17-MOD(E17-2,7)+3),1,2),{1E+99;7})*{1;-1})+5)/7)) | D17: =IF(E17="","",E17) | G17: =IF(ISERROR(VLOOKUP(F17,TabelKlanten,2,FALSE)),"",VLOOKUP(F17,TabelKlanten,2,FALSE)) | I17: =IF(ISERROR(VLOOKUP(H17,TabelProjecten,2,FALSE)),"",VLOOKUP(H17,TabelProjecten,2,FALSE)) | L17: =IF(ISERROR(VLOOKUP(K17,UrenTabel,3,FALSE)),"",VLOOKUP(K17,UrenTabel,3,FALSE)) | M17: =IF(ISERROR(VLOOKUP(K17,UrenTabel,2,FALSE)),"",VLOOKUP(K17,UrenTabel,2,FALSE)) | P17: 0 | Q17: =IF(ISNUMBER(Q16),IF(ISNUMBER(P17),Q16+P17,0),0) -> 0 | R17: =O17*P17 -> 0 | S17: =L17&B17 | T17: =M17&B17 | U17: =M17&E17
B18: =IF(E18="","",MONTH(E18)) | C18: =IF(E18="","",INT((E18-SUM(MOD(DATE(YEAR(E18-MOD(E18-2,7)+3),1,2),{1E+99;7})*{1;-1})+5)/7)) | D18: =IF(E18="","",E18) | G18: =IF(ISERROR(VLOOKUP(F18,TabelKlanten,2,FALSE)),"",VLOOKUP(F18,TabelKlanten,2,FALSE)) | I18: =IF(ISERROR(VLOOKUP(H18,TabelProjecten,2,FALSE)),"",VLOOKUP(H18,TabelProjecten,2,FALSE)) | L18: =IF(ISERROR(VLOOKUP(K18,UrenTabel,3,FALSE)),"",VLOOKUP(K18,UrenTabel,3,FALSE)) | M18: =IF(ISERROR(VLOOKUP(K18,UrenTabel,2,FALSE)),"",VLOOKUP(K18,UrenTabel,2,FALSE)) | P18: 0 | Q18: =IF(ISNUMBER(Q17),IF(ISNUMBER(P18),Q17+P18,0),0) -> 0 | R18: =O18*P18 -> 0 | S18: =L18&B18 | T18: =M18&B18 | U18: =M18&E18
B19: =IF(E19="","",MONTH(E19)) | C19: =IF(E19="","",INT((E19-SUM(MOD(DATE(YEAR(E19-MOD(E19-2,7)+3),1,2),{1E+99;7})*{1;-1})+5)/7)) | D19: =IF(E19="","",E19) | G19: =IF(ISERROR(VLOOKUP(F19,TabelKlanten,2,FALSE)),"",VLOOKUP(F19,TabelKlanten,2,FALSE)) | I19: =IF(ISERROR(VLOOKUP(H19,TabelProjecten,2,FALSE)),"",VLOOKUP(H19,TabelProjecten,2,FALSE)) | L19: =IF(ISERROR(VLOOKUP(K19,UrenTabel,3,FALSE)),"",VLOOKUP(K19,UrenTabel,3,FALSE)) | M19: =IF(ISERROR(VLOOKUP(K19,UrenTabel,2,FALSE)),"",VLOOKUP(K19,UrenTabel,2,FALSE)) | P19: 0 | Q19: =IF(ISNUMBER(Q18),IF(ISNUMBER(P19),Q18+P19,0),0) -> 0 | R19: =O19*P19 -> 0 | S19: =L19&B19 | T19: =M19&B19 | U19: =M19&E19
B20: =IF(E20="","",MONTH(E20)) | C20: =IF(E20="","",INT((E20-SUM(MOD(DATE(YEAR(E20-MOD(E20-2,7)+3),1,2),{1E+99;7})*{1;-1})+5)/7)) | D20: =IF(E20="","",E20) | G20: =IF(ISERROR(VLOOKUP(F20,TabelKlanten,2,FALSE)),"",VLOOKUP(F20,TabelKlanten,2,FALSE)) | I20: =IF(ISERROR(VLOOKUP(H20,TabelProjecten,2,FALSE)),"",VLOOKUP(H20,TabelProjecten,2,FALSE)) | L20: =IF(ISERROR(VLOOKUP(K20,UrenTabel,3,FALSE)),"",VLOOKUP(K20,UrenTabel,3,FALSE)) | M20: =IF(ISERROR(VLOOKUP(K20,UrenTabel,2,FALSE)),"",VLOOKUP(K20,UrenTabel,2,FALSE)) | P20: 0 | Q20: =IF(ISNUMBER(Q19),IF(ISNUMBER(P20),Q19+P20,0),0) -> 0 | R20: =O20*P20 -> 0
B21: =IF(E21="","",MONTH(E21)) | C21: =IF(E21="","",INT((E21-SUM(MOD(DATE(YEAR(E21-MOD(E21-2,7)+3),1,2),{1E+99;7})*{1;-1})+5)/7)) | D21: =IF(E21="","",E21) | G21: =IF(ISERROR(VLOOKUP(F21,TabelKlanten,2,FALSE)),"",VLOOKUP(F21,TabelKlanten,2,FALSE)) | I21: =IF(ISERROR(VLOOKUP(H21,TabelProjecten,2,FALSE)),"",VLOOKUP(H21,TabelProjecten,2,FALSE)) | L21: =IF(ISERROR(VLOOKUP(K21,UrenTabel,3,FALSE)),"",VLOOKUP(K21,UrenTabel,3,FALSE)) | M21: =IF(ISERROR(VLOOKUP(K21,UrenTabel,2,FALSE)),"",VLOOKUP(K21,UrenTabel,2,FALSE)) | P21: 0 | Q21: =IF(ISNUMBER(Q20),IF(ISNUMBER(P21),Q20+P21,0),0) -> 0 | R21: =O21*P21 -> 0 | S21: =L21&B21 | T21: =M21&B21 | U21: =M21&E21
B22: =IF(E22="","",MONTH(E22)) | C22: =IF(E22="","",INT((E22-SUM(MOD(DATE(YEAR(E22-MOD(E22-2,7)+3),1,2),{1E+99;7})*{1;-1})+5)/7)) | D22: =IF(E22="","",E22) | G22: =IF(ISERROR(VLOOKUP(F22,TabelKlanten,2,FALSE)),"",VLOOKUP(F22,TabelKlanten,2,FALSE)) | I22: =IF(ISERROR(VLOOKUP(H22,TabelProjecten,2,FALSE)),"",VLOOKUP(H22,TabelProjecten,2,FALSE)) | L22: =IF(ISERROR(VLOOKUP(K22,UrenTabel,3,FALSE)),"",VLOOKUP(K22,UrenTabel,3,FALSE)) | M22: =IF(ISERROR(VLOOKUP(K22,UrenTabel,2,FALSE)),"",VLOOKUP(K22,UrenTabel,2,FALSE)) | P22: 0 | Q22: =IF(ISNUMBER(Q21),IF(ISNUMBER(P22),Q21+P22,0),0) -> 0 | R22: =O22*P22 -> 0 | S22: =L22&B22 | T22: =M22&B22 | U22: =M22&E22
B23: =IF(E23="","",MONTH(E23)) | C23: =IF(E23="","",INT((E23-SUM(MOD(DATE(YEAR(E23-MOD(E23-2,7)+3),1,2),{1E+99;7})*{1;-1})+5)/7)) | D23: =IF(E23="","",E23) | G23: =IF(ISERROR(VLOOKUP(F23,TabelKlanten,2,FALSE)),"",VLOOKUP(F23,TabelKlanten,2,FALSE)) | I23: =IF(ISERROR(VLOOKUP(H23,TabelProjecten,2,FALSE)),"",VLOOKUP(H23,TabelProjecten,2,FALSE)) | L23: =IF(ISERROR(VLOOKUP(K23,UrenTabel,3,FALSE)),"",VLOOKUP(K23,UrenTabel,3,FALSE)) | M23: =IF(ISERROR(VLOOKUP(K23,UrenTabel,2,FALSE)),"",VLOOKUP(K23,UrenTabel,2,FALSE)) | P23: 0 | Q23: =IF(ISNUMBER(Q22),IF(ISNUMBER(P23),Q22+P23,0),0) -> 0 | R23: =O23*P23 -> 0 | S23: =L23&B23 | T23: =M23&B23 | U23: =M23&E23
B24: =IF(E24="","",MONTH(E24)) | C24: =IF(E24="","",INT((E24-SUM(MOD(DATE(YEAR(E24-MOD(E24-2,7)+3),1,2),{1E+99;7})*{1;-1})+5)/7)) | D24: =IF(E24="","",E24) | G24: =IF(ISERROR(VLOOKUP(F24,TabelKlanten,2,FALSE)),"",VLOOKUP(F24,TabelKlanten,2,FALSE)) | I24: =IF(ISERROR(VLOOKUP(H24,TabelProjecten,2,FALSE)),"",VLOOKUP(H24,TabelProjecten,2,FALSE)) | L24: =IF(ISERROR(VLOOKUP(K24,UrenTabel,3,FALSE)),"",VLOOKUP(K24,UrenTabel,3,FALSE)) | M24: =IF(ISERROR(VLOOKUP(K24,UrenTabel,2,FALSE)),"",VLOOKUP(K24,UrenTabel,2,FALSE)) | P24: 0 | Q24: =IF(ISNUMBER(Q23),IF(ISNUMBER(P24),Q23+P24,0),0) -> 0 | R24: =O24*P24 -> 0 | S24: =L24&B24 | T24: =M24&B24 | U24: =M24&E24
B25: =IF(E25="","",MONTH(E25)) | C25: =IF(E25="","",INT((E25-SUM(MOD(DATE(YEAR(E25-MOD(E25-2,7)+3),1,2),{1E+99;7})*{1;-1})+5)/7)) | D25: =IF(E25="","",E25) | G25: =IF(ISERROR(VLOOKUP(F25,TabelKlanten,2,FALSE)),"",VLOOKUP(F25,TabelKlanten,2,FALSE)) | I25: =IF(ISERROR(VLOOKUP(H25,TabelProjecten,2,FALSE)),"",VLOOKUP(H25,TabelProjecten,2,FALSE)) | L25: =IF(ISERROR(VLOOKUP(K25,UrenTabel,3,FALSE)),"",VLOOKUP(K25,UrenTabel,3,FALSE)) | M25: =IF(ISERROR(VLOOKUP(K25,UrenTabel,2,FALSE)),"",VLOOKUP(K25,UrenTabel,2,FALSE)) | P25: 0 | Q25: =IF(ISNUMBER(Q24),IF(ISNUMBER(P25),Q24+P25,0),0) -> 0 | R25: =O25*P25 -> 0 | S25: =L25&B25 | T25: =M25&B25 | U25: =M25&E25
B26: =IF(E26="","",MONTH(E26)) | C26: =IF(E26="","",INT((E26-SUM(MOD(DATE(YEAR(E26-MOD(E26-2,7)+3),1,2),{1E+99;7})*{1;-1})+5)/7)) | D26: =IF(E26="","",E26) | G26: =IF(ISERROR(VLOOKUP(F26,TabelKlanten,2,FALSE)),"",VLOOKUP(F26,TabelKlanten,2,FALSE)) | I26: =IF(ISERROR(VLOOKUP(H26,TabelProjecten,2,FALSE)),"",VLOOKUP(H26,TabelProjecten,2,FALSE)) | L26: =IF(ISERROR(VLOOKUP(K26,UrenTabel,3,FALSE)),"",VLOOKUP(K26,UrenTabel,3,FALSE)) | M26: =IF(ISERROR(VLOOKUP(K26,UrenTabel,2,FALSE)),"",VLOOKUP(K26,UrenTabel,2,FALSE)) | P26: 0 | Q26: =IF(ISNUMBER(Q25),IF(ISNUMBER(P26),Q25+P26,0),0) -> 0 | R26: =O26*P26 -> 0 | S26: =L26&B26 | T26: =M26&B26 | U26: =M26&E26
B27: =IF(E27="","",MONTH(E27)) | C27: =IF(E27="","",INT((E27-SUM(MOD(DATE(YEAR(E27-MOD(E27-2,7)+3),1,2),{1E+99;7})*{1;-1})+5)/7)) | D27: =IF(E27="","",E27) | G27: =IF(ISERROR(VLOOKUP(F27,TabelKlanten,2,FALSE)),"",VLOOKUP(F27,TabelKlanten,2,FALSE)) | I27: =IF(ISERROR(VLOOKUP(H27,TabelProjecten,2,FALSE)),"",VLOOKUP(H27,TabelProjecten,2,FALSE)) | L27: =IF(ISERROR(VLOOKUP(K27,UrenTabel,3,FALSE)),"",VLOOKUP(K27,UrenTabel,3,FALSE)) | M27: =IF(ISERROR(VLOOKUP(K27,UrenTabel,2,FALSE)),"",VLOOKUP(K27,UrenTabel,2,FALSE)) | P27: 0 | Q27: =IF(ISNUMBER(Q26),IF(ISNUMBER(P27),Q26+P27,0),0) -> 0 | R27: =O27*P27 -> 0 | S27: =L27&B27 | T27: =M27&B27 | U27: =M27&E27
B28: =IF(E28="","",MONTH(E28)) | C28: =IF(E28="","",INT((E28-SUM(MOD(DATE(YEAR(E28-MOD(E28-2,7)+3),1,2),{1E+99;7})*{1;-1})+5)/7)) | D28: =IF(E28="","",E28) | G28: =IF(ISERROR(VLOOKUP(F28,TabelKlanten,2,FALSE)),"",VLOOKUP(F28,TabelKlanten,2,FALSE)) | I28: =IF(ISERROR(VLOOKUP(H28,TabelProjecten,2,FALSE)),"",VLOOKUP(H28,TabelProjecten,2,FALSE)) | L28: =IF(ISERROR(VLOOKUP(K28,UrenTabel,3,FALSE)),"",VLOOKUP(K28,UrenTabel,3,FALSE)) | M28: =IF(ISERROR(VLOOKUP(K28,UrenTabel,2,FALSE)),"",VLOOKUP(K28,UrenTabel,2,FALSE)) | P28: 0 | Q28: =IF(ISNUMBER(Q27),IF(ISNUMBER(P28),Q27+P28,0),0) -> 0 | R28: =O28*P28 -> 0 | S28: =L28&B28 | T28: =M28&B28 | U28: =M28&E28
B29: =IF(E29="","",MONTH(E29)) | C29: =IF(E29="","",INT((E29-SUM(MOD(DATE(YEAR(E29-MOD(E29-2,7)+3),1,2),{1E+99;7})*{1;-1})+5)/7)) | D29: =IF(E29="","",E29) | G29: =IF(ISERROR(VLOOKUP(F29,TabelKlanten,2,FALSE)),"",VLOOKUP(F29,TabelKlanten,2,FALSE)) | I29: =IF(ISERROR(VLOOKUP(H29,TabelProjecten,2,FALSE)),"",VLOOKUP(H29,TabelProjecten,2,FALSE)) | L29: =IF(ISERROR(VLOOKUP(K29,UrenTabel,3,FALSE)),"",VLOOKUP(K29,UrenTabel,3,FALSE)) | M29: =IF(ISERROR(VLOOKUP(K29,UrenTabel,2,FALSE)),"",VLOOKUP(K29,UrenTabel,2,FALSE)) | P29: 0 | Q29: =IF(ISNUMBER(Q28),IF(ISNUMBER(P29),Q28+P29,0),0) -> 0 | R29: =O29*P29 -> 0 | S29: =L29&B29 | T29: =M29&B29 | U29: =M29&E29
B30: =IF(E30="","",MONTH(E30)) | C30: =IF(E30="","",INT((E30-SUM(MOD(DATE(YEAR(E30-MOD(E30-2,7)+3),1,2),{1E+99;7})*{1;-1})+5)/7)) | D30: =IF(E30="","",E30) | G30: =IF(ISERROR(VLOOKUP(F30,TabelKlanten,2,FALSE)),"",VLOOKUP(F30,TabelKlanten,2,FALSE)) | I30: =IF(ISERROR(VLOOKUP(H30,TabelProjecten,2,FALSE)),"",VLOOKUP(H30,TabelProjecten,2,FALSE)) | L30: =IF(ISERROR(VLOOKUP(K30,UrenTabel,3,FALSE)),"",VLOOKUP(K30,UrenTabel,3,FALSE)) | M30: =IF(ISERROR(VLOOKUP(K30,UrenTabel,2,FALSE)),"",VLOOKUP(K30,UrenTabel,2,FALSE)) | P30: 0 | Q30: =IF(ISNUMBER(Q29),IF(ISNUMBER(P30),Q29+P30,0),0) -> 0 | R30: =O30*P30 -> 0 | S30: =L30&B30 | T30: =M30&B30 | U30: =M30&E30
B31: =IF(E31="","",MONTH(E31)) | C31: =IF(E31="","",INT((E31-SUM(MOD(DATE(YEAR(E31-MOD(E31-2,7)+3),1,2),{1E+99;7})*{1;-1})+5)/7)) | D31: =IF(E31="","",E31) | G31: =IF(ISERROR(VLOOKUP(F31,TabelKlanten,2,FALSE)),"",VLOOKUP(F31,TabelKlanten,2,FALSE)) | I31: =IF(ISERROR(VLOOKUP(H31,TabelProjecten,2,FALSE)),"",VLOOKUP(H31,TabelProjecten,2,FALSE)) | L31: =IF(ISERROR(VLOOKUP(K31,UrenTabel,3,FALSE)),"",VLOOKUP(K31,UrenTabel,3,FALSE)) | M31: =IF(ISERROR(VLOOKUP(K31,UrenTabel,2,FALSE)),"",VLOOKUP(K31,UrenTabel,2,FALSE)) | P31: 0 | Q31: =IF(ISNUMBER(Q30),IF(ISNUMBER(P31),Q30+P31,0),0) -> 0 | R31: =O31*P31 -> 0 | S31: =L31&B31 | T31: =M31&B31 | U31: =M31&E31
B32: =IF(E32="","",MONTH(E32)) | C32: =IF(E32="","",INT((E32-SUM(MOD(DATE(YEAR(E32-MOD(E32-2,7)+3),1,2),{1E+99;7})*{1;-1})+5)/7)) | D32: =IF(E32="","",E32) | G32: =IF(ISERROR(VLOOKUP(F32,TabelKlanten,2,FALSE)),"",VLOOKUP(F32,TabelKlanten,2,FALSE)) | I32: =IF(ISERROR(VLOOKUP(H32,TabelProjecten,2,FALSE)),"",VLOOKUP(H32,TabelProjecten,2,FALSE)) | L32: =IF(ISERROR(VLOOKUP(K32,UrenTabel,3,FALSE)),"",VLOOKUP(K32,UrenTabel,3,FALSE)) | M32: =IF(ISERROR(VLOOKUP(K32,UrenTabel,2,FALSE)),"",VLOOKUP(K32,UrenTabel,2,FALSE)) | P32: 0 | Q32: =IF(ISNUMBER(Q31),IF(ISNUMBER(P32),Q31+P32,0),0) -> 0 | R32: =O32*P32 -> 0 | S32: =L32&B32 | T32: =M32&B32 | U32: =M32&E32
... B43: =IF(E43="","",MONTH(E43)) | C43: =IF(E43="","",INT((E43-SUM(MOD(DATE(YEAR(E43-MOD(E43-2,7)+3),1,2),{1E+99;7})*{1;-1})+5)/7)) | D43: =IF(E43="","",E43) | G43: =IF(ISERROR(VLOOKUP(F43,TabelKlanten,2,FALSE)),"",VLOOKUP(F43,TabelKlanten,2,FALSE)) | I43: =IF(ISERROR(VLOOKUP(H43,TabelProjecten,2,FALSE)),"",VLOOKUP(H43,TabelProjecten,2,FALSE)) | L43: =IF(ISERROR(VLOOKUP(K43,UrenTabel,3,FALSE)),"",VLOOKUP(K43,UrenTabel,3,FALSE)) | M43: =IF(ISERROR(VLOOKUP(K43,UrenTabel,2,FALSE)),"",VLOOKUP(K43,UrenTabel,2,FALSE)) | P43: 0 | Q43: =IF(ISNUMBER(Q42),IF(ISNUMBER(P43),Q42+P43,0),0) -> 0 | R43: =O43*P43 -> 0 | S43: =L43&B43 | T43: =M43&B43 | U43: =M43&E43
B44: =IF(E44="","",MONTH(E44)) | C44: =IF(E44="","",INT((E44-SUM(MOD(DATE(YEAR(E44-MOD(E44-2,7)+3),1,2),{1E+99;7})*{1;-1})+5)/7)) | D44: =IF(E44="","",E44) | G44: =IF(ISERROR(VLOOKUP(F44,TabelKlanten,2,FALSE)),"",VLOOKUP(F44,TabelKlanten,2,FALSE)) | I44: =IF(ISERROR(VLOOKUP(H44,TabelProjecten,2,FALSE)),"",VLOOKUP(H44,TabelProjecten,2,FALSE)) | L44: =IF(ISERROR(VLOOKUP(K44,UrenTabel,3,FALSE)),"",VLOOKUP(K44,UrenTabel,3,FALSE)) | M44: =IF(ISERROR(VLOOKUP(K44,UrenTabel,2,FALSE)),"",VLOOKUP(K44,UrenTabel,2,FALSE)) | P44: 0 | Q44: =IF(ISNUMBER(Q43),IF(ISNUMBER(P44),Q43+P44,0),0) -> 0 | R44: =O44*P44 -> 0 | U44: =M44&E44
B45: =IF(E45="","",MONTH(E45)) | C45: =IF(E45="","",INT((E45-SUM(MOD(DATE(YEAR(E45-MOD(E45-2,7)+3),1,2),{1E+99;7})*{1;-1})+5)/7)) | D45: =IF(E45="","",E45) | G45: =IF(ISERROR(VLOOKUP(F45,TabelKlanten,2,FALSE)),"",VLOOKUP(F45,TabelKlanten,2,FALSE)) | I45: =IF(ISERROR(VLOOKUP(H45,TabelProjecten,2,FALSE)),"",VLOOKUP(H45,TabelProjecten,2,FALSE)) | L45: =IF(ISERROR(VLOOKUP(K45,UrenTabel,3,FALSE)),"",VLOOKUP(K45,UrenTabel,3,FALSE)) | M45: =IF(ISERROR(VLOOKUP(K45,UrenTabel,2,FALSE)),"",VLOOKUP(K45,UrenTabel,2,FALSE)) | P45: 0 | Q45: =IF(ISNUMBER(Q44),IF(ISNUMBER(P45),Q44+P45,0),0) -> 0 | R45: =O45*P45 -> 0 | S45: =L45&B45 | T45: =M45&B45 | U45: =M45&E45
B46: =IF(E46="","",MONTH(E46)) | C46: =IF(E46="","",INT((E46-SUM(MOD(DATE(YEAR(E46-MOD(E46-2,7)+3),1,2),{1E+99;7})*{1;-1})+5)/7)) | D46: =IF(E46="","",E46) | G46: =IF(ISERROR(VLOOKUP(F46,TabelKlanten,2,FALSE)),"",VLOOKUP(F46,TabelKlanten,2,FALSE)) | I46: =IF(ISERROR(VLOOKUP(H46,TabelProjecten,2,FALSE)),"",VLOOKUP(H46,TabelProjecten,2,FALSE)) | L46: =IF(ISERROR(VLOOKUP(K46,UrenTabel,3,FALSE)),"",VLOOKUP(K46,UrenTabel,3,FALSE)) | M46: =IF(ISERROR(VLOOKUP(K46,UrenTabel,2,FALSE)),"",VLOOKUP(K46,UrenTabel,2,FALSE)) | P46: 0 | Q46: =IF(ISNUMBER(Q45),IF(ISNUMBER(P46),Q45+P46,0),0) -> 0 | R46: =O46*P46 -> 0 | S46: =L46&B46 | T46: =M46&B46 | U46: =M46&E46
B47: =IF(E47="","",MONTH(E47)) | C47: =IF(E47="","",INT((E47-SUM(MOD(DATE(YEAR(E47-MOD(E47-2,7)+3),1,2),{1E+99;7})*{1;-1})+5)/7)) | D47: =IF(E47="","",E47) | G47: =IF(ISERROR(VLOOKUP(F47,TabelKlanten,2,FALSE)),"",VLOOKUP(F47,TabelKlanten,2,FALSE)) | I47: =IF(ISERROR(VLOOKUP(H47,TabelProjecten,2,FALSE)),"",VLOOKUP(H47,TabelProjecten,2,FALSE)) | L47: =IF(ISERROR(VLOOKUP(K47,UrenTabel,3,FALSE)),"",VLOOKUP(K47,UrenTabel,3,FALSE)) | M47: =IF(ISERROR(VLOOKUP(K47,UrenTabel,2,FALSE)),"",VLOOKUP(K47,UrenTabel,2,FALSE)) | P47: 0 | Q47: =IF(ISNUMBER(Q46),IF(ISNUMBER(P47),Q46+P47,0),0) -> 0 | R47: =O47*P47 -> 0 | S47: =L47&B47 | T47: =M47&B47 | U47: =M47&E47
B48: =IF(E48="","",MONTH(E48)) | C48: =IF(E48="","",INT((E48-SUM(MOD(DATE(YEAR(E48-MOD(E48-2,7)+3),1,2),{1E+99;7})*{1;-1})+5)/7)) | D48: =IF(E48="","",E48) | G48: =IF(ISERROR(VLOOKUP(F48,TabelKlanten,2,FALSE)),"",VLOOKUP(F48,TabelKlanten,2,FALSE)) | I48: =IF(ISERROR(VLOOKUP(H48,TabelProjecten,2,FALSE)),"",VLOOKUP(H48,TabelProjecten,2,FALSE)) | L48: =IF(ISERROR(VLOOKUP(K48,UrenTabel,3,FALSE)),"",VLOOKUP(K48,UrenTabel,3,FALSE)) | M48: =IF(ISERROR(VLOOKUP(K48,UrenTabel,2,FALSE)),"",VLOOKUP(K48,UrenTabel,2,FALSE)) | P48: 0 | Q48: =IF(ISNUMBER(Q47),IF(ISNUMBER(P48),Q47+P48,0),0) -> 0 | R48: =O48*P48 -> 0 | U48: =M48&E48
B49: =IF(E49="","",MONTH(E49)) | C49: =IF(E49="","",INT((E49-SUM(MOD(DATE(YEAR(E49-MOD(E49-2,7)+3),1,2),{1E+99;7})*{1;-1})+5)/7)) | D49: =IF(E49="","",E49) | G49: =IF(ISERROR(VLOOKUP(F49,TabelKlanten,2,FALSE)),"",VLOOKUP(F49,TabelKlanten,2,FALSE)) | I49: =IF(ISERROR(VLOOKUP(H49,TabelProjecten,2,FALSE)),"",VLOOKUP(H49,TabelProjecten,2,FALSE)) | L49: =IF(ISERROR(VLOOKUP(K49,UrenTabel,3,FALSE)),"",VLOOKUP(K49,UrenTabel,3,FALSE)) | M49: =IF(ISERROR(VLOOKUP(K49,UrenTabel,2,FALSE)),"",VLOOKUP(K49,UrenTabel,2,FALSE)) | P49: 0 | Q49: =IF(ISNUMBER(Q48),IF(ISNUMBER(P49),Q48+P49,0),0) -> 0 | R49: =O49*P49 -> 0 | U49: =M49&E49
B50: =IF(E50="","",MONTH(E50)) | C50: =IF(E50="","",INT((E50-SUM(MOD(DATE(YEAR(E50-MOD(E50-2,7)+3),1,2),{1E+99;7})*{1;-1})+5)/7)) | D50: =IF(E50="","",E50) | G50: =IF(ISERROR(VLOOKUP(F50,TabelKlanten,2,FALSE)),"",VLOOKUP(F50,TabelKlanten,2,FALSE)) | I50: =IF(ISERROR(VLOOKUP(H50,TabelProjecten,2,FALSE)),"",VLOOKUP(H50,TabelProjecten,2,FALSE)) | L50: =IF(ISERROR(VLOOKUP(K50,UrenTabel,3,FALSE)),"",VLOOKUP(K50,UrenTabel,3,FALSE)) | M50: =IF(ISERROR(VLOOKUP(K50,UrenTabel,2,FALSE)),"",VLOOKUP(K50,UrenTabel,2,FALSE)) | P50: 0 | Q50: =IF(ISNUMBER(Q49),IF(ISNUMBER(P50),Q49+P50,0),0) -> 0 | R50: =O50*P50 -> 0 | U50: =M50&E50
B51: =IF(E51="","",MONTH(E51)) | C51: =IF(E51="","",INT((E51-SUM(MOD(DATE(YEAR(E51-MOD(E51-2,7)+3),1,2),{1E+99;7})*{1;-1})+5)/7)) | D51: =IF(E51="","",E51) | G51: =IF(ISERROR(VLOOKUP(F51,TabelKlanten,2,FALSE)),"",VLOOKUP(F51,TabelKlanten,2,FALSE)) | I51: =IF(ISERROR(VLOOKUP(H51,TabelProjecten,2,FALSE)),"",VLOOKUP(H51,TabelProjecten,2,FALSE)) | L51: =IF(ISERROR(VLOOKUP(K51,UrenTabel,3,FALSE)),"",VLOOKUP(K51,UrenTabel,3,FALSE)) | M51: =IF(ISERROR(VLOOKUP(K51,UrenTabel,2,FALSE)),"",VLOOKUP(K51,UrenTabel,2,FALSE)) | P51: 0 | Q51: =IF(ISNUMBER(Q50),IF(ISNUMBER(P51),Q50+P51,0),0) -> 0 | R51: =O51*P51 -> 0 | U51: =M51&E51
B52: =IF(E52="","",MONTH(E52)) | C52: =IF(E52="","",INT((E52-SUM(MOD(DATE(YEAR(E52-MOD(E52-2,7)+3),1,2),{1E+99;7})*{1;-1})+5)/7)) | D52: =IF(E52="","",E52) | G52: =IF(ISERROR(VLOOKUP(F52,TabelKlanten,2,FALSE)),"",VLOOKUP(F52,TabelKlanten,2,FALSE)) | I52: =IF(ISERROR(VLOOKUP(H52,TabelProjecten,2,FALSE)),"",VLOOKUP(H52,TabelProjecten,2,FALSE)) | L52: =IF(ISERROR(VLOOKUP(K52,UrenTabel,3,FALSE)),"",VLOOKUP(K52,UrenTabel,3,FALSE)) | M52: =IF(ISERROR(VLOOKUP(K52,UrenTabel,2,FALSE)),"",VLOOKUP(K52,UrenTabel,2,FALSE)) | P52: 0 | Q52: =IF(ISNUMBER(Q51),IF(ISNUMBER(P52),Q51+P52,0),0) -> 0 | R52: =O52*P52 -> 0 | U52: =M52&E52
...

Sheet Urenkaart
B2: ="Urenkaart "&Boekjaar -> Urenkaart 2018
B4: =Bedrijfsnaam -> Bedrijfsnaam
B6: Personeelsgegevens | AB6: Overige informatie
C8: Bedrijf | H8: =Instellingen!D6 -> Bedrijfsnaam
C10: Volledige naam | H10: =Instellingen!D7 -> 0 | Q10: Urencriterium? | V10: Ja
Q11: Jaar | V11: =Boekjaar -> 2018
B14: =IF(V10="Nee","Urenkaart: alle gewerkte uren","Urenkaart: alle criterium-uren") -> Urenkaart: alle criterium-uren
C16: Maand | F16: 1 | G16: 2 | H16: 3 | I16: 4 | J16: 5 | K16: 6 | L16: 7 | M16: 8 | N16: 9 | O16: 10 | P16: 11 | Q16: 12 | R16: 13 | S16: 14 | T16: 15 | U16: 16 | V16: 17 | W16: 18 | X16: 19 | Y16: 20 | Z16: 21 | AA16: 22 | AB16: 23 | AC16: 24 | AD16: 25 | AE16: 26 | AF16: 27 | AG16: 28 | AH16: 29 | AI16: 30 | AJ16: 31 | AK16: Maand | AN16: Uren | AP16: Gewerkt | AR16: Uren-criterium
B17: 1 | C17: Januari | F17: =IF($V$10="Ja",SUMIF(Combi3,$V$10&DATE(Boekjaar,$B17,F$16),UrenAantal),SUMIF(DataRij,DATE(Boekjaar,$B17,F$16),UrenAantal)) -> 0 | G17: =IF($V$10="Ja",SUMIF(Combi3,$V$10&DATE(Boekjaar,$B17,G$16),UrenAantal),SUMIF(DataRij,DATE(Boekjaar,$B17,G$16),UrenAantal)) -> 0 | H17: =IF($V$10="Ja",SUMIF(Combi3,$V$10&DATE(Boekjaar,$B17,H$16),UrenAantal),SUMIF(DataRij,DATE(Boekjaar,$B17,H$16),UrenAantal)) -> 0 | I17: =IF($V$10="Ja",SUMIF(Combi3,$V$10&DATE(Boekjaar,$B17,I$16),UrenAantal),SUMIF(DataRij,DATE(Boekjaar,$B17,I$16),UrenAantal)) -> 0 | J17: =IF($V$10="Ja",SUMIF(Combi3,$V$10&DATE(Boekjaar,$B17,J$16),UrenAantal),SUMIF(DataRij,DATE(Boekjaar,$B17,J$16),UrenAantal)) -> 0 | K17: =IF($V$10="Ja",SUMIF(Combi3,$V$10&DATE(Boekjaar,$B17,K$16),UrenAantal),SUMIF(DataRij,DATE(Boekjaar,$B17,K$16),UrenAantal)) -> 0 | L17: =IF($V$10="Ja",SUMIF(Combi3,$V$10&DATE(Boekjaar,$B17,L$16),UrenAantal),SUMIF(DataRij,DATE(Boekjaar,$B17,L$16),UrenAantal)) -> 0 | M17: =IF($V$10="Ja",SUMIF(Combi3,$V$10&DATE(Boekjaar,$B17,M$16),UrenAantal),SUMIF(DataRij,DATE(Boekjaar,$B17,M$16),UrenAantal)) -> 0 | ... AJ17: =IF($V$10="Ja",SUMIF(Combi3,$V$10&DATE(Boekjaar,$B17,AJ$16),UrenAantal),SUMIF(DataRij,DATE(Boekjaar,$B17,AJ$16),UrenAantal)) -> 0 | AK17: Januari | AN17: =SUM(F17:AJ17) -> 0 | AP17: =SUMIF(UrenMaand,$B17,UrenAantal) -> 0 | AR17: =SUMIF(Combi2,"Ja"&$B17,UrenAantal) -> 0
B18: 2 | C18: Februari | F18: =IF($V$10="Ja",SUMIF(Combi3,$V$10&DATE(Boekjaar,$B18,F$16),UrenAantal),SUMIF(DataRij,DATE(Boekjaar,$B18,F$16),UrenAantal)) -> 0 | G18: =IF($V$10="Ja",SUMIF(Combi3,$V$10&DATE(Boekjaar,$B18,G$16),UrenAantal),SUMIF(DataRij,DATE(Boekjaar,$B18,G$16),UrenAantal)) -> 0 | H18: =IF($V$10="Ja",SUMIF(Combi3,$V$10&DATE(Boekjaar,$B18,H$16),UrenAantal),SUMIF(DataRij,DATE(Boekjaar,$B18,H$16),UrenAantal)) -> 0 | I18: =IF($V$10="Ja",SUMIF(Combi3,$V$10&DATE(Boekjaar,$B18,I$16),UrenAantal),SUMIF(DataRij,DATE(Boekjaar,$B18,I$16),UrenAantal)) -> 0 | J18: =IF($V$10="Ja",SUMIF(Combi3,$V$10&DATE(Boekjaar,$B18,J$16),UrenAantal),SUMIF(DataRij,DATE(Boekjaar,$B18,J$16),UrenAantal)) -> 0 | K18: =IF($V$10="Ja",SUMIF(Combi3,$V$10&DATE(Boekjaar,$B18,K$16),UrenAantal),SUMIF(DataRij,DATE(Boekjaar,$B18,K$16),UrenAantal)) -> 0 | L18: =IF($V$10="Ja",SUMIF(Combi3,$V$10&DATE(Boekjaar,$B18,L$16),UrenAantal),SUMIF(DataRij,DATE(Boekjaar,$B18,L$16),UrenAantal)) -> 0 | M18: =IF($V$10="Ja",SUMIF(Combi3,$V$10&DATE(Boekjaar,$B18,M$16),UrenAantal),SUMIF(DataRij,DATE(Boekjaar,$B18,M$16),UrenAantal)) -> 0 | ... AG18: =IF($V$10="Ja",SUMIF(Combi3,$V$10&DATE(Boekjaar,$B18,AG$16),UrenAantal),SUMIF(DataRij,DATE(Boekjaar,$B18,AG$16),UrenAantal)) -> 0 | AH18: =IF(OR(MOD(YEAR(DATE(Jaar,$B18,AH$19)),400)=0,AND(MOD(YEAR(DATE(Jaar,$B18,AH$19)),4)=0,MOD(YEAR(DATE(Jaar,$B18,AH$19)),100)<>0)),IF($V$10="Ja",SUMIF(Combi3,$V$10&DATE(Boekjaar,$B18,AH$16),UrenAantal),SUMIF(DataRij,DATE(Boekjaar,$B18,AH$16),UrenAantal)),"") | AK18: Februari | AN18: =SUM(F18:AJ18) -> 0 | AP18: =SUMIF(UrenMaand,$B18,UrenAantal) -> 0 | AR18: =SUMIF(Combi2,"Ja"&$B18,UrenAantal) -> 0
B19: 3 | C19: Maart | F19: =IF($V$10="Ja",SUMIF(Combi3,$V$10&DATE(Boekjaar,$B19,F$16),UrenAantal),SUMIF(DataRij,DATE(Boekjaar,$B19,F$16),UrenAantal)) -> 0 | G19: =IF($V$10="Ja",SUMIF(Combi3,$V$10&DATE(Boekjaar,$B19,G$16),UrenAantal),SUMIF(DataRij,DATE(Boekjaar,$B19,G$16),UrenAantal)) -> 0 | H19: =IF($V$10="Ja",SUMIF(Combi3,$V$10&DATE(Boekjaar,$B19,H$16),UrenAantal),SUMIF(DataRij,DATE(Boekjaar,$B19,H$16),UrenAantal)) -> 0 | I19: =IF($V$10="Ja",SUMIF(Combi3,$V$10&DATE(Boekjaar,$B19,I$16),UrenAantal),SUMIF(DataRij,DATE(Boekjaar,$B19,I$16),UrenAantal)) -> 0 | J19: =IF($V$10="Ja",SUMIF(Combi3,$V$10&DATE(Boekjaar,$B19,J$16),UrenAantal),SUMIF(DataRij,DATE(Boekjaar,$B19,J$16),UrenAantal)) -> 0 | K19: =IF($V$10="Ja",SUMIF(Combi3,$V$10&DATE(Boekjaar,$B19,K$16),UrenAantal),SUMIF(DataRij,DATE(Boekjaar,$B19,K$16),UrenAantal)) -> 0 | L19: =IF($V$10="Ja",SUMIF(Combi3,$V$10&DATE(Boekjaar,$B19,L$16),UrenAantal),SUMIF(DataRij,DATE(Boekjaar,$B19,L$16),UrenAantal)) -> 0 | M19: =IF($V$10="Ja",SUMIF(Combi3,$V$10&DATE(Boekjaar,$B19,M$16),UrenAantal),SUMIF(DataRij,DATE(Boekjaar,$B19,M$16),UrenAantal)) -> 0 | ... AJ19: =IF($V$10="Ja",SUMIF(Combi3,$V$10&DATE(Boekjaar,$B19,AJ$16),UrenAantal),SUMIF(DataRij,DATE(Boekjaar,$B19,AJ$16),UrenAantal)) -> 0 | AK19: Maart | AN19: =SUM(F19:AJ19) -> 0 | AP19: =SUMIF(UrenMaand,$B19,UrenAantal) -> 0 | AR19: =SUMIF(Combi2,"Ja"&$B19,UrenAantal) -> 0
B20: 4 | C20: April | F20: =IF($V$10="Ja",SUMIF(Combi3,$V$10&DATE(Boekjaar,$B20,F$16),UrenAantal),SUMIF(DataRij,DATE(Boekjaar,$B20,F$16),UrenAantal)) -> 0 | G20: =IF($V$10="Ja",SUMIF(Combi3,$V$10&DATE(Boekjaar,$B20,G$16),UrenAantal),SUMIF(DataRij,DATE(Boekjaar,$B20,G$16),UrenAantal)) -> 0 | H20: =IF($V$10="Ja",SUMIF(Combi3,$V$10&DATE(Boekjaar,$B20,H$16),UrenAantal),SUMIF(DataRij,DATE(Boekjaar,$B20,H$16),UrenAantal)) -> 0 | I20: =IF($V$10="Ja",SUMIF(Combi3,$V$10&DATE(Boekjaar,$B20,I$16),UrenAantal),SUMIF(DataRij,DATE(Boekjaar,$B20,I$16),UrenAantal)) -> 0 | J20: =IF($V$10="Ja",SUMIF(Combi3,$V$10&DATE(Boekjaar,$B20,J$16),UrenAantal),SUMIF(DataRij,DATE(Boekjaar,$B20,J$16),UrenAantal)) -> 0 | K20: =IF($V$10="Ja",SUMIF(Combi3,$V$10&DATE(Boekjaar,$B20,K$16),UrenAantal),SUMIF(DataRij,DATE(Boekjaar,$B20,K$16),UrenAantal)) -> 0 | L20: =IF($V$10="Ja",SUMIF(Combi3,$V$10&DATE(Boekjaar,$B20,L$16),UrenAantal),SUMIF(DataRij,DATE(Boekjaar,$B20,L$16),UrenAantal)) -> 0 | M20: =IF($V$10="Ja",SUMIF(Combi3,$V$10&DATE(Boekjaar,$B20,M$16),UrenAantal),SUMIF(DataRij,DATE(Boekjaar,$B20,M$16),UrenAantal)) -> 0 | ... AI20: =IF($V$10="Ja",SUMIF(Combi3,$V$10&DATE(Boekjaar,$B20,AI$16),UrenAantal),SUMIF(DataRij,DATE(Boekjaar,$B20,AI$16),UrenAantal)) -> 0 | AK20: April | AN20: =SUM(F20:AJ20) -> 0 | AP20: =SUMIF(UrenMaand,$B20,UrenAantal) -> 0 | AR20: =SUMIF(Combi2,"Ja"&$B20,UrenAantal) -> 0
B21: 5 | C21: Mei | F21: =IF($V$10="Ja",SUMIF(Combi3,$V$10&DATE(Boekjaar,$B21,F$16),UrenAantal),SUMIF(DataRij,DATE(Boekjaar,$B21,F$16),UrenAantal)) -> 0 | G21: =IF($V$10="Ja",SUMIF(Combi3,$V$10&DATE(Boekjaar,$B21,G$16),UrenAantal),SUMIF(DataRij,DATE(Boekjaar,$B21,G$16),UrenAantal)) -> 0 | H21: =IF($V$10="Ja",SUMIF(Combi3,$V$10&DATE(Boekjaar,$B21,H$16),UrenAantal),SUMIF(DataRij,DATE(Boekjaar,$B21,H$16),UrenAantal)) -> 0 | I21: =IF($V$10="Ja",SUMIF(Combi3,$V$10&DATE(Boekjaar,$B21,I$16),UrenAantal),SUMIF(DataRij,DATE(Boekjaar,$B21,I$16),UrenAantal)) -> 0 | J21: =IF($V$10="Ja",SUMIF(Combi3,$V$10&DATE(Boekjaar,$B21,J$16),UrenAantal),SUMIF(DataRij,DATE(Boekjaar,$B21,J$16),UrenAantal)) -> 0 | K21: =IF($V$10="Ja",SUMIF(Combi3,$V$10&DATE(Boekjaar,$B21,K$16),UrenAantal),SUMIF(DataRij,DATE(Boekjaar,$B21,K$16),UrenAantal)) -> 0 | L21: =IF($V$10="Ja",SUMIF(Combi3,$V$10&DATE(Boekjaar,$B21,L$16),UrenAantal),SUMIF(DataRij,DATE(Boekjaar,$B21,L$16),UrenAantal)) -> 0 | M21: =IF($V$10="Ja",SUMIF(Combi3,$V$10&DATE(Boekjaar,$B21,M$16),UrenAantal),SUMIF(DataRij,DATE(Boekjaar,$B21,M$16),UrenAantal)) -> 0 | ... AJ21: =IF($V$10="Ja",SUMIF(Combi3,$V$10&DATE(Boekjaar,$B21,AJ$16),UrenAantal),SUMIF(DataRij,DATE(Boekjaar,$B21,AJ$16),UrenAantal)) -> 0 | AK21: Mei | AN21: =SUM(F21:AJ21) -> 0 | AP21: =SUMIF(UrenMaand,$B21,UrenAantal) -> 0 | AR21: =SUMIF(Combi2,"Ja"&$B21,UrenAantal) -> 0
B22: 6 | C22: Juni | F22: =IF($V$10="Ja",SUMIF(Combi3,$V$10&DATE(Boekjaar,$B22,F$16),UrenAantal),SUMIF(DataRij,DATE(Boekjaar,$B22,F$16),UrenAantal)) -> 0 | G22: =IF($V$10="Ja",SUMIF(Combi3,$V$10&DATE(Boekjaar,$B22,G$16),UrenAantal),SUMIF(DataRij,DATE(Boekjaar,$B22,G$16),UrenAantal)) -> 0 | H22: =IF($V$10="Ja",SUMIF(Combi3,$V$10&DATE(Boekjaar,$B22,H$16),UrenAantal),SUMIF(DataRij,DATE(Boekjaar,$B22,H$16),UrenAantal)) -> 0 | I22: =IF($V$10="Ja",SUMIF(Combi3,$V$10&DATE(Boekjaar,$B22,I$16),UrenAantal),SUMIF(DataRij,DATE(Boekjaar,$B22,I$16),UrenAantal)) -> 0 | J22: =IF($V$10="Ja",SUMIF(Combi3,$V$10&DATE(Boekjaar,$B22,J$16),UrenAantal),SUMIF(DataRij,DATE(Boekjaar,$B22,J$16),UrenAantal)) -> 0 | K22: =IF($V$10="Ja",SUMIF(Combi3,$V$10&DATE(Boekjaar,$B22,K$16),UrenAantal),SUMIF(DataRij,DATE(Boekjaar,$B22,K$16),UrenAantal)) -> 0 | L22: =IF($V$10="Ja",SUMIF(Combi3,$V$10&DATE(Boekjaar,$B22,L$16),UrenAantal),SUMIF(DataRij,DATE(Boekjaar,$B22,L$16),UrenAantal)) -> 0 | M22: =IF($V$10="Ja",SUMIF(Combi3,$V$10&DATE(Boekjaar,$B22,M$16),UrenAantal),SUMIF(DataRij,DATE(Boekjaar,$B22,M$16),UrenAantal)) -> 0 | ... AI22: =IF($V$10="Ja",SUMIF(Combi3,$V$10&DATE(Boekjaar,$B22,AI$16),UrenAantal),SUMIF(DataRij,DATE(Boekjaar,$B22,AI$16),UrenAantal)) -> 0 | AK22: Juni | AN22: =SUM(F22:AJ22) -> 0 | AP22: =SUMIF(UrenMaand,$B22,UrenAantal) -> 0 | AR22: =SUMIF(Combi2,"Ja"&$B22,UrenAantal) -> 0
B23: 7 | C23: Juli | F23: =IF($V$10="Ja",SUMIF(Combi3,$V$10&DATE(Boekjaar,$B23,F$16),UrenAantal),SUMIF(DataRij,DATE(Boekjaar,$B23,F$16),UrenAantal)) -> 0 | G23: =IF($V$10="Ja",SUMIF(Combi3,$V$10&DATE(Boekjaar,$B23,G$16),UrenAantal),SUMIF(DataRij,DATE(Boekjaar,$B23,G$16),UrenAantal)) -> 0 | H23: =IF($V$10="Ja",SUMIF(Combi3,$V$10&DATE(Boekjaar,$B23,H$16),UrenAantal),SUMIF(DataRij,DATE(Boekjaar,$B23,H$16),UrenAantal)) -> 0 | I23: =IF($V$10="Ja",SUMIF(Combi3,$V$10&DATE(Boekjaar,$B23,I$16),UrenAantal),SUMIF(DataRij,DATE(Boekjaar,$B23,I$16),UrenAantal)) -> 0 | J23: =IF($V$10="Ja",SUMIF(Combi3,$V$10&DATE(Boekjaar,$B23,J$16),UrenAantal),SUMIF(DataRij,DATE(Boekjaar,$B23,J$16),UrenAantal)) -> 0 | K23: =IF($V$10="Ja",SUMIF(Combi3,$V$10&DATE(Boekjaar,$B23,K$16),UrenAantal),SUMIF(DataRij,DATE(Boekjaar,$B23,K$16),UrenAantal)) -> 0 | L23: =IF($V$10="Ja",SUMIF(Combi3,$V$10&DATE(Boekjaar,$B23,L$16),UrenAantal),SUMIF(DataRij,DATE(Boekjaar,$B23,L$16),UrenAantal)) -> 0 | M23: =IF($V$10="Ja",SUMIF(Combi3,$V$10&DATE(Boekjaar,$B23,M$16),UrenAantal),SUMIF(DataRij,DATE(Boekjaar,$B23,M$16),UrenAantal)) -> 0 | ... AJ23: =IF($V$10="Ja",SUMIF(Combi3,$V$10&DATE(Boekjaar,$B23,AJ$16),UrenAantal),SUMIF(DataRij,DATE(Boekjaar,$B23,AJ$16),UrenAantal)) -> 0 | AK23: Juli | AN23: =SUM(F23:AJ23) -> 0 | AP23: =SUMIF(UrenMaand,$B23,UrenAantal) -> 0 | AR23: =SUMIF(Combi2,"Ja"&$B23,UrenAantal) -> 0
B24: 8 | C24: Augustus | F24: =IF($V$10="Ja",SUMIF(Combi3,$V$10&DATE(Boekjaar,$B24,F$16),UrenAantal),SUMIF(DataRij,DATE(Boekjaar,$B24,F$16),UrenAantal)) -> 0 | G24: =IF($V$10="Ja",SUMIF(Combi3,$V$10&DATE(Boekjaar,$B24,G$16),UrenAantal),SUMIF(DataRij,DATE(Boekjaar,$B24,G$16),UrenAantal)) -> 0 | H24: =IF($V$10="Ja",SUMIF(Combi3,$V$10&DATE(Boekjaar,$B24,H$16),UrenAantal),SUMIF(DataRij,DATE(Boekjaar,$B24,H$16),UrenAantal)) -> 0 | I24: =IF($V$10="Ja",SUMIF(Combi3,$V$10&DATE(Boekjaar,$B24,I$16),UrenAantal),SUMIF(DataRij,DATE(Boekjaar,$B24,I$16),UrenAantal)) -> 0 | J24: =IF($V$10="Ja",SUMIF(Combi3,$V$10&DATE(Boekjaar,$B24,J$16),UrenAantal),SUMIF(DataRij,DATE(Boekjaar,$B24,J$16),UrenAantal)) -> 0 | K24: =IF($V$10="Ja",SUMIF(Combi3,$V$10&DATE(Boekjaar,$B24,K$16),UrenAantal),SUMIF(DataRij,DATE(Boekjaar,$B24,K$16),UrenAantal)) -> 0 | L24: =IF($V$10="Ja",SUMIF(Combi3,$V$10&DATE(Boekjaar,$B24,L$16),UrenAantal),SUMIF(DataRij,DATE(Boekjaar,$B24,L$16),UrenAantal)) -> 0 | M24: =IF($V$10="Ja",SUMIF(Combi3,$V$10&DATE(Boekjaar,$B24,M$16),UrenAantal),SUMIF(DataRij,DATE(Boekjaar,$B24,M$16),UrenAantal)) -> 0 | ... AJ24: =IF($V$10="Ja",SUMIF(Combi3,$V$10&DATE(Boekjaar,$B24,AJ$16),UrenAantal),SUMIF(DataRij,DATE(Boekjaar,$B24,AJ$16),UrenAantal)) -> 0 | AK24: Augustus | AN24: =SUM(F24:AJ24) -> 0 | AP24: =SUMIF(UrenMaand,$B24,UrenAantal) -> 0 | AR24: =SUMIF(Combi2,"Ja"&$B24,UrenAantal) -> 0
B25: 9 | C25: September | F25: =IF($V$10="Ja",SUMIF(Combi3,$V$10&DATE(Boekjaar,$B25,F$16),UrenAantal),SUMIF(DataRij,DATE(Boekjaar,$B25,F$16),UrenAantal)) -> 0 | G25: =IF($V$10="Ja",SUMIF(Combi3,$V$10&DATE(Boekjaar,$B25,G$16),UrenAantal),SUMIF(DataRij,DATE(Boekjaar,$B25,G$16),UrenAantal)) -> 0 | H25: =IF($V$10="Ja",SUMIF(Combi3,$V$10&DATE(Boekjaar,$B25,H$16),UrenAantal),SUMIF(DataRij,DATE(Boekjaar,$B25,H$16),UrenAantal)) -> 0 | I25: =IF($V$10="Ja",SUMIF(Combi3,$V$10&DATE(Boekjaar,$B25,I$16),UrenAantal),SUMIF(DataRij,DATE(Boekjaar,$B25,I$16),UrenAantal)) -> 0 | J25: =IF($V$10="Ja",SUMIF(Combi3,$V$10&DATE(Boekjaar,$B25,J$16),UrenAantal),SUMIF(DataRij,DATE(Boekjaar,$B25,J$16),UrenAantal)) -> 0 | K25: =IF($V$10="Ja",SUMIF(Combi3,$V$10&DATE(Boekjaar,$B25,K$16),UrenAantal),SUMIF(DataRij,DATE(Boekjaar,$B25,K$16),UrenAantal)) -> 0 | L25: =IF($V$10="Ja",SUMIF(Combi3,$V$10&DATE(Boekjaar,$B25,L$16),UrenAantal),SUMIF(DataRij,DATE(Boekjaar,$B25,L$16),UrenAantal)) -> 0 | M25: =IF($V$10="Ja",SUMIF(Combi3,$V$10&DATE(Boekjaar,$B25,M$16),UrenAantal),SUMIF(DataRij,DATE(Boekjaar,$B25,M$16),UrenAantal)) -> 0 | ... AI25: =IF($V$10="Ja",SUMIF(Combi3,$V$10&DATE(Boekjaar,$B25,AI$16),UrenAantal),SUMIF(DataRij,DATE(Boekjaar,$B25,AI$16),UrenAantal)) -> 0 | AK25: September | AN25: =SUM(F25:AJ25) -> 0 | AP25: =SUMIF(UrenMaand,$B25,UrenAantal) -> 0 | AR25: =SUMIF(Combi2,"Ja"&$B25,UrenAantal) -> 0
B26: 10 | C26: Oktober | F26: =IF($V$10="Ja",SUMIF(Combi3,$V$10&DATE(Boekjaar,$B26,F$16),UrenAantal),SUMIF(DataRij,DATE(Boekjaar,$B26,F$16),UrenAantal)) -> 0 | G26: =IF($V$10="Ja",SUMIF(Combi3,$V$10&DATE(Boekjaar,$B26,G$16),UrenAantal),SUMIF(DataRij,DATE(Boekjaar,$B26,G$16),UrenAantal)) -> 0 | H26: =IF($V$10="Ja",SUMIF(Combi3,$V$10&DATE(Boekjaar,$B26,H$16),UrenAantal),SUMIF(DataRij,DATE(Boekjaar,$B26,H$16),UrenAantal)) -> 0 | I26: =IF($V$10="Ja",SUMIF(Combi3,$V$10&DATE(Boekjaar,$B26,I$16),UrenAantal),SUMIF(DataRij,DATE(Boekjaar,$B26,I$16),UrenAantal)) -> 0 | J26: =IF($V$10="Ja",SUMIF(Combi3,$V$10&DATE(Boekjaar,$B26,J$16),UrenAantal),SUMIF(DataRij,DATE(Boekjaar,$B26,J$16),UrenAantal)) -> 0 | K26: =IF($V$10="Ja",SUMIF(Combi3,$V$10&DATE(Boekjaar,$B26,K$16),UrenAantal),SUMIF(DataRij,DATE(Boekjaar,$B26,K$16),UrenAantal)) -> 0 | L26: =IF($V$10="Ja",SUMIF(Combi3,$V$10&DATE(Boekjaar,$B26,L$16),UrenAantal),SUMIF(DataRij,DATE(Boekjaar,$B26,L$16),UrenAantal)) -> 0 | M26: =IF($V$10="Ja",SUMIF(Combi3,$V$10&DATE(Boekjaar,$B26,M$16),UrenAantal),SUMIF(DataRij,DATE(Boekjaar,$B26,M$16),UrenAantal)) -> 0 | ... AJ26: =IF($V$10="Ja",SUMIF(Combi3,$V$10&DATE(Boekjaar,$B26,AJ$16),UrenAantal),SUMIF(DataRij,DATE(Boekjaar,$B26,AJ$16),UrenAantal)) -> 0 | AK26: Oktober | AN26: =SUM(F26:AJ26) -> 0 | AP26: =SUMIF(UrenMaand,$B26,UrenAantal) -> 0 | AR26: =SUMIF(Combi2,"Ja"&$B26,UrenAantal) -> 0
B27: 11 | C27: November | F27: =IF($V$10="Ja",SUMIF(Combi3,$V$10&DATE(Boekjaar,$B27,F$16),UrenAantal),SUMIF(DataRij,DATE(Boekjaar,$B27,F$16),UrenAantal)) -> 0 | G27: =IF($V$10="Ja",SUMIF(Combi3,$V$10&DATE(Boekjaar,$B27,G$16),UrenAantal),SUMIF(DataRij,DATE(Boekjaar,$B27,G$16),UrenAantal)) -> 0 | H27: =IF($V$10="Ja",SUMIF(Combi3,$V$10&DATE(Boekjaar,$B27,H$16),UrenAantal),SUMIF(DataRij,DATE(Boekjaar,$B27,H$16),UrenAantal)) -> 0 | I27: =IF($V$10="Ja",SUMIF(Combi3,$V$10&DATE(Boekjaar,$B27,I$16),UrenAantal),SUMIF(DataRij,DATE(Boekjaar,$B27,I$16),UrenAantal)) -> 0 | J27: =IF($V$10="Ja",SUMIF(Combi3,$V$10&DATE(Boekjaar,$B27,J$16),UrenAantal),SUMIF(DataRij,DATE(Boekjaar,$B27,J$16),UrenAantal)) -> 0 | K27: =IF($V$10="Ja",SUMIF(Combi3,$V$10&DATE(Boekjaar,$B27,K$16),UrenAantal),SUMIF(DataRij,DATE(Boekjaar,$B27,K$16),UrenAantal)) -> 0 | L27: =IF($V$10="Ja",SUMIF(Combi3,$V$10&DATE(Boekjaar,$B27,L$16),UrenAantal),SUMIF(DataRij,DATE(Boekjaar,$B27,L$16),UrenAantal)) -> 0 | M27: =IF($V$10="Ja",SUMIF(Combi3,$V$10&DATE(Boekjaar,$B27,M$16),UrenAantal),SUMIF(DataRij,DATE(Boekjaar,$B27,M$16),UrenAantal)) -> 0 | ... AI27: =IF($V$10="Ja",SUMIF(Combi3,$V$10&DATE(Boekjaar,$B27,AI$16),UrenAantal),SUMIF(DataRij,DATE(Boekjaar,$B27,AI$16),UrenAantal)) -> 0 | AK27: November | AN27: =SUM(F27:AJ27) -> 0 | AP27: =SUMIF(UrenMaand,$B27,UrenAantal) -> 0 | AR27: =SUMIF(Combi2,"Ja"&$B27,UrenAantal) -> 0
B28: 12 | C28: December | F28: =IF($V$10="Ja",SUMIF(Combi3,$V$10&DATE(Boekjaar,$B28,F$16),UrenAantal),SUMIF(DataRij,DATE(Boekjaar,$B28,F$16),UrenAantal)) -> 0 | G28: =IF($V$10="Ja",SUMIF(Combi3,$V$10&DATE(Boekjaar,$B28,G$16),UrenAantal),SUMIF(DataRij,DATE(Boekjaar,$B28,G$16),UrenAantal)) -> 0 | H28: =IF($V$10="Ja",SUMIF(Combi3,$V$10&DATE(Boekjaar,$B28,H$16),UrenAantal),SUMIF(DataRij,DATE(Boekjaar,$B28,H$16),UrenAantal)) -> 0 | I28: =IF($V$10="Ja",SUMIF(Combi3,$V$10&DATE(Boekjaar,$B28,I$16),UrenAantal),SUMIF(DataRij,DATE(Boekjaar,$B28,I$16),UrenAantal)) -> 0 | J28: =IF($V$10="Ja",SUMIF(Combi3,$V$10&DATE(Boekjaar,$B28,J$16),UrenAantal),SUMIF(DataRij,DATE(Boekjaar,$B28,J$16),UrenAantal)) -> 0 | K28: =IF($V$10="Ja",SUMIF(Combi3,$V$10&DATE(Boekjaar,$B28,K$16),UrenAantal),SUMIF(DataRij,DATE(Boekjaar,$B28,K$16),UrenAantal)) -> 0 | L28: =IF($V$10="Ja",SUMIF(Combi3,$V$10&DATE(Boekjaar,$B28,L$16),UrenAantal),SUMIF(DataRij,DATE(Boekjaar,$B28,L$16),UrenAantal)) -> 0 | M28: =IF($V$10="Ja",SUMIF(Combi3,$V$10&DATE(Boekjaar,$B28,M$16),UrenAantal),SUMIF(DataRij,DATE(Boekjaar,$B28,M$16),UrenAantal)) -> 0 | ... AJ28: =IF($V$10="Ja",SUMIF(Combi3,$V$10&DATE(Boekjaar,$B28,AJ$16),UrenAantal),SUMIF(DataRij,DATE(Boekjaar,$B28,AJ$16),UrenAantal)) -> 0 | AK28: December | AN28: =SUM(F28:AJ28) -> 0 | AP28: =SUMIF(UrenMaand,$B28,UrenAantal) -> 0 | AR28: =SUMIF(Combi2,"Ja"&$B28,UrenAantal) -> 0
AK29: Totaal | AN29: =SUM(AN17:AO28) -> 0 | AP29: =SUM(AP17:AQ28) -> 0 | AR29: =SUM(AR17:AS28) -> 0
C32: Weekenddag | H32: Feestdag | M32: =IF(OR(MOD(YEAR(DATE(Jaar,$B18,AH$16)),400)=0,AND(MOD(YEAR(DATE(Jaar,$B18,AH$16)),4)=0,MOD(YEAR(DATE(Jaar,$B18,AH$16)),100)<>0)),"Schrikkeldag","")

Sheet Urenrapport
B2: Urenrapportage
B3: =Bedrijfsnaam -> Bedrijfsnaam
B5: Uren per categorie | L5: Uren naar aard
B6: Categorie | D6: Aard | F6: Criterium | G6: Uren | H6: % totaal | L6: Aard | N6: Uren | O6: % totaal
B7: =IF(Instellingen!B31="","",Instellingen!B31) -> Voorbereiden | D7: =IF(ISERROR(VLOOKUP(B7,UrenTabel,3,FALSE)),"",VLOOKUP(B7,UrenTabel,3,FALSE)) -> Direct | F7: =IF(ISERROR(VLOOKUP(B7,UrenTabel,2,FALSE)),"",VLOOKUP(B7,UrenTabel,2,FALSE)) -> Ja | G7: =IF(B7="","",SUMIF(UrenCategorie,B7,UrenAantal)) -> 0 | H7: =IF(ISERROR(+G7/$G$37),0,+G7/$G$37) -> 0 | I7: =H7 -> 0 | L7: =IF(Instellingen!B21="","",Instellingen!B21) -> Direct | N7: =IF(L7="","",SUMIF(UrenAard2,L7,UrenAantal)) -> 0 | O7: =IF(ISERROR(+N7/$N$15),0,+N7/$N$15) -> 0 | P7: =O7 -> 0
B8: =IF(Instellingen!B32="","",Instellingen!B32) -> Uitvoeren | D8: =IF(ISERROR(VLOOKUP(B8,UrenTabel,3,FALSE)),"",VLOOKUP(B8,UrenTabel,3,FALSE)) -> Direct | F8: =IF(ISERROR(VLOOKUP(B8,UrenTabel,2,FALSE)),"",VLOOKUP(B8,UrenTabel,2,FALSE)) -> Ja | G8: =IF(B8="","",SUMIF(UrenCategorie,B8,UrenAantal)) -> 0 | H8: =IF(ISERROR(+G8/$G$37),0,+G8/$G$37) -> 0 | I8: =H8 -> 0 | L8: =IF(Instellingen!B22="","",Instellingen!B22) -> Administratie | N8: =IF(L8="","",SUMIF(UrenAard2,L8,UrenAantal)) -> 0 | O8: =IF(ISERROR(+N8/$N$15),0,+N8/$N$15) -> 0 | P8: =O8 -> 0
B9: =IF(Instellingen!B33="","",Instellingen!B33) -> Overleggen met klant | D9: =IF(ISERROR(VLOOKUP(B9,UrenTabel,3,FALSE)),"",VLOOKUP(B9,UrenTabel,3,FALSE)) -> Direct | F9: =IF(ISERROR(VLOOKUP(B9,UrenTabel,2,FALSE)),"",VLOOKUP(B9,UrenTabel,2,FALSE)) -> Ja | G9: =IF(B9="","",SUMIF(UrenCategorie,B9,UrenAantal)) -> 0 | H9: =IF(ISERROR(+G9/$G$37),0,+G9/$G$37) -> 0 | I9: =H9 -> 0 | L9: =IF(Instellingen!B23="","",Instellingen!B23) -> Acquisitie | N9: =IF(L9="","",SUMIF(UrenAard2,L9,UrenAantal)) -> 0 | O9: =IF(ISERROR(+N9/$N$15),0,+N9/$N$15) -> 0 | P9: =O9 -> 0
B10: =IF(Instellingen!B34="","",Instellingen!B34) -> Verslagleggen | D10: =IF(ISERROR(VLOOKUP(B10,UrenTabel,3,FALSE)),"",VLOOKUP(B10,UrenTabel,3,FALSE)) -> Direct | F10: =IF(ISERROR(VLOOKUP(B10,UrenTabel,2,FALSE)),"",VLOOKUP(B10,UrenTabel,2,FALSE)) -> Ja | G10: =IF(B10="","",SUMIF(UrenCategorie,B10,UrenAantal)) -> 0 | H10: =IF(ISERROR(+G10/$G$37),0,+G10/$G$37) -> 0 | I10: =H10 -> 0 | L10: =IF(Instellingen!B24="","",Instellingen!B24) -> Scholing | N10: =IF(L10="","",SUMIF(UrenAard2,L10,UrenAantal)) -> 0 | O10: =IF(ISERROR(+N10/$N$15),0,+N10/$N$15) -> 0 | P10: =O10 -> 0
B11: =IF(Instellingen!B35="","",Instellingen!B35) -> Reizen | D11: =IF(ISERROR(VLOOKUP(B11,UrenTabel,3,FALSE)),"",VLOOKUP(B11,UrenTabel,3,FALSE)) -> Direct | F11: =IF(ISERROR(VLOOKUP(B11,UrenTabel,2,FALSE)),"",VLOOKUP(B11,UrenTabel,2,FALSE)) -> Ja | G11: =IF(B11="","",SUMIF(UrenCategorie,B11,UrenAantal)) -> 0 | H11: =IF(ISERROR(+G11/$G$37),0,+G11/$G$37) -> 0 | I11: =H11 -> 0 | L11: =IF(Instellingen!B25="","",Instellingen!B25) -> Werkruimte | N11: =IF(L11="","",SUMIF(UrenAard2,L11,UrenAantal)) -> 0 | O11: =IF(ISERROR(+N11/$N$15),0,+N11/$N$15) -> 0 | P11: =O11 -> 0
B12: =IF(Instellingen!B36="","",Instellingen!B36) -> Boekhouden | D12: =IF(ISERROR(VLOOKUP(B12,UrenTabel,3,FALSE)),"",VLOOKUP(B12,UrenTabel,3,FALSE)) -> Administratie | F12: =IF(ISERROR(VLOOKUP(B12,UrenTabel,2,FALSE)),"",VLOOKUP(B12,UrenTabel,2,FALSE)) -> Ja | G12: =IF(B12="","",SUMIF(UrenCategorie,B12,UrenAantal)) -> 0 | H12: =IF(ISERROR(+G12/$G$37),0,+G12/$G$37) -> 0 | I12: =H12 -> 0 | L12: =IF(Instellingen!B26="","",Instellingen!B26) -> Overig | N12: =IF(L12="","",SUMIF(UrenAard2,L12,UrenAantal)) -> 0 | O12: =IF(ISERROR(+N12/$N$15),0,+N12/$N$15) -> 0 | P12: =O12 -> 0
B13: =IF(Instellingen!B37="","",Instellingen!B37) -> Factureren | D13: =IF(ISERROR(VLOOKUP(B13,UrenTabel,3,FALSE)),"",VLOOKUP(B13,UrenTabel,3,FALSE)) -> Administratie | F13: =IF(ISERROR(VLOOKUP(B13,UrenTabel,2,FALSE)),"",VLOOKUP(B13,UrenTabel,2,FALSE)) -> Ja | G13: =IF(B13="","",SUMIF(UrenCategorie,B13,UrenAantal)) -> 0 | H13: =IF(ISERROR(+G13/$G$37),0,+G13/$G$37) -> 0 | I13: =H13 -> 0 | L13: =IF(Instellingen!B27="","",Instellingen!B27) | N13: =IF(L13="","",SUMIF(UrenAard2,L13,UrenAantal)) | O13: =IF(ISERROR(+N13/$N$15),0,+N13/$N$15) -> 0 | P13: =O13 -> 0
B14: =IF(Instellingen!B38="","",Instellingen!B38) -> Betalen | D14: =IF(ISERROR(VLOOKUP(B14,UrenTabel,3,FALSE)),"",VLOOKUP(B14,UrenTabel,3,FALSE)) -> Administratie | F14: =IF(ISERROR(VLOOKUP(B14,UrenTabel,2,FALSE)),"",VLOOKUP(B14,UrenTabel,2,FALSE)) -> Ja | G14: =IF(B14="","",SUMIF(UrenCategorie,B14,UrenAantal)) -> 0 | H14: =IF(ISERROR(+G14/$G$37),0,+G14/$G$37) -> 0 | I14: =H14 -> 0 | L14: =IF(Instellingen!B28="","",Instellingen!B28) | N14: =SUMIF(UrenAard2,L14,UrenAantal) -> 0 | O14: =IF(ISERROR(+N14/$N$15),0,+N14/$N$15) -> 0 | P14: =O14 -> 0
B15: =IF(Instellingen!B39="","",Instellingen!B39) -> Post | D15: =IF(ISERROR(VLOOKUP(B15,UrenTabel,3,FALSE)),"",VLOOKUP(B15,UrenTabel,3,FALSE)) -> Administratie | F15: =IF(ISERROR(VLOOKUP(B15,UrenTabel,2,FALSE)),"",VLOOKUP(B15,UrenTabel,2,FALSE)) -> Ja | G15: =IF(B15="","",SUMIF(UrenCategorie,B15,UrenAantal)) -> 0 | H15: =IF(ISERROR(+G15/$G$37),0,+G15/$G$37) -> 0 | I15: =H15 -> 0 | L15: Totaal | N15: =SUM(N7:N14) -> 0 | O15: =IF(ISERROR(+N15/$N$15),0,+N15/$N$15) -> 0
B16: =IF(Instellingen!B40="","",Instellingen!B40) -> Archiveren | D16: =IF(ISERROR(VLOOKUP(B16,UrenTabel,3,FALSE)),"",VLOOKUP(B16,UrenTabel,3,FALSE)) -> Administratie | F16: =IF(ISERROR(VLOOKUP(B16,UrenTabel,2,FALSE)),"",VLOOKUP(B16,UrenTabel,2,FALSE)) -> Ja | G16: =IF(B16="","",SUMIF(UrenCategorie,B16,UrenAantal)) -> 0 | H16: =IF(ISERROR(+G16/$G$37),0,+G16/$G$37) -> 0 | I16: =H16 -> 0
B17: =IF(Instellingen!B41="","",Instellingen!B41) -> Adverteren | D17: =IF(ISERROR(VLOOKUP(B17,UrenTabel,3,FALSE)),"",VLOOKUP(B17,UrenTabel,3,FALSE)) -> Acquisitie | F17: =IF(ISERROR(VLOOKUP(B17,UrenTabel,2,FALSE)),"",VLOOKUP(B17,UrenTabel,2,FALSE)) -> Ja | G17: =IF(B17="","",SUMIF(UrenCategorie,B17,UrenAantal)) -> 0 | H17: =IF(ISERROR(+G17/$G$37),0,+G17/$G$37) -> 0 | I17: =H17 -> 0
B18: =IF(Instellingen!B42="","",Instellingen!B42) -> Netwerken | D18: =IF(ISERROR(VLOOKUP(B18,UrenTabel,3,FALSE)),"",VLOOKUP(B18,UrenTabel,3,FALSE)) -> Acquisitie | F18: =IF(ISERROR(VLOOKUP(B18,UrenTabel,2,FALSE)),"",VLOOKUP(B18,UrenTabel,2,FALSE)) -> Ja | G18: =IF(B18="","",SUMIF(UrenCategorie,B18,UrenAantal)) -> 0 | H18: =IF(ISERROR(+G18/$G$37),0,+G18/$G$37) -> 0 | I18: =H18 -> 0 | L18: Urencriterium
B19: =IF(Instellingen!B43="","",Instellingen!B43) -> Bellen | D19: =IF(ISERROR(VLOOKUP(B19,UrenTabel,3,FALSE)),"",VLOOKUP(B19,UrenTabel,3,FALSE)) -> Acquisitie | F19: =IF(ISERROR(VLOOKUP(B19,UrenTabel,2,FALSE)),"",VLOOKUP(B19,UrenTabel,2,FALSE)) -> Ja | G19: =IF(B19="","",SUMIF(UrenCategorie,B19,UrenAantal)) -> 0 | H19: =IF(ISERROR(+G19/$G$37),0,+G19/$G$37) -> 0 | I19: =H19 -> 0 | L19: Criterium | N19: Uren | O19: % totaal
B20: =IF(Instellingen!B44="","",Instellingen!B44) -> Mailen | D20: =IF(ISERROR(VLOOKUP(B20,UrenTabel,3,FALSE)),"",VLOOKUP(B20,UrenTabel,3,FALSE)) -> Acquisitie | F20: =IF(ISERROR(VLOOKUP(B20,UrenTabel,2,FALSE)),"",VLOOKUP(B20,UrenTabel,2,FALSE)) -> Ja | G20: =IF(B20="","",SUMIF(UrenCategorie,B20,UrenAantal)) -> 0 | H20: =IF(ISERROR(+G20/$G$37),0,+G20/$G$37) -> 0 | I20: =H20 -> 0 | L20: Ja | N20: =SUMIF(UrenCriterium2,L20,UrenAantal) -> 0 | O20: =IF(ISERROR(+N20/$N$23),0,+N20/$N$23) -> 0 | P20: =O20 -> 0
B21: =IF(Instellingen!B45="","",Instellingen!B45) -> Maken promotiemateriaal | D21: =IF(ISERROR(VLOOKUP(B21,UrenTabel,3,FALSE)),"",VLOOKUP(B21,UrenTabel,3,FALSE)) -> Acquisitie | F21: =IF(ISERROR(VLOOKUP(B21,UrenTabel,2,FALSE)),"",VLOOKUP(B21,UrenTabel,2,FALSE)) -> Ja | G21: =IF(B21="","",SUMIF(UrenCategorie,B21,UrenAantal)) -> 0 | H21: =IF(ISERROR(+G21/$G$37),0,+G21/$G$37) -> 0 | I21: =H21 -> 0 | L21: Nee | N21: =SUMIF(UrenCriterium2,L21,UrenAantal) -> 0 | O21: =IF(ISERROR(+N21/$N$23),0,+N21/$N$23) -> 0 | P21: =O21 -> 0
B22: =IF(Instellingen!B46="","",Instellingen!B46) -> Bezoeken beurzen | D22: =IF(ISERROR(VLOOKUP(B22,UrenTabel,3,FALSE)),"",VLOOKUP(B22,UrenTabel,3,FALSE)) -> Acquisitie | F22: =IF(ISERROR(VLOOKUP(B22,UrenTabel,2,FALSE)),"",VLOOKUP(B22,UrenTabel,2,FALSE)) -> Ja | G22: =IF(B22="","",SUMIF(UrenCategorie,B22,UrenAantal)) -> 0 | H22: =IF(ISERROR(+G22/$G$37),0,+G22/$G$37) -> 0 | I22: =H22 -> 0 | N22: =+N15-N20-N21 -> 0 | O22: =IF(ISERROR(+N22/$N$23),0,+N22/$N$23) -> 0 | P22: =O22 -> 0
B23: =IF(Instellingen!B47="","",Instellingen!B47) -> Opleiden | D23: =IF(ISERROR(VLOOKUP(B23,UrenTabel,3,FALSE)),"",VLOOKUP(B23,UrenTabel,3,FALSE)) -> Scholing | F23: =IF(ISERROR(VLOOKUP(B23,UrenTabel,2,FALSE)),"",VLOOKUP(B23,UrenTabel,2,FALSE)) -> Ja | G23: =IF(B23="","",SUMIF(UrenCategorie,B23,UrenAantal)) -> 0 | H23: =IF(ISERROR(+G23/$G$37),0,+G23/$G$37) -> 0 | I23: =H23 -> 0 | L23: Totaal | N23: =SUM(N20:N22) -> 0 | O23: =IF(ISERROR(+N23/$N$23),0,+N23/$N$23) -> 0
B24: =IF(Instellingen!B48="","",Instellingen!B48) -> Lezen vakliteratuur | D24: =IF(ISERROR(VLOOKUP(B24,UrenTabel,3,FALSE)),"",VLOOKUP(B24,UrenTabel,3,FALSE)) -> Scholing | F24: =IF(ISERROR(VLOOKUP(B24,UrenTabel,2,FALSE)),"",VLOOKUP(B24,UrenTabel,2,FALSE)) -> Ja | G24: =IF(B24="","",SUMIF(UrenCategorie,B24,UrenAantal)) -> 0 | H24: =IF(ISERROR(+G24/$G$37),0,+G24/$G$37) -> 0 | I24: =H24 -> 0 | L24: Benodigd | N24: =UrenUrencriterium -> 1225
B25: =IF(Instellingen!B49="","",Instellingen!B49) -> Intervisie | D25: =IF(ISERROR(VLOOKUP(B25,UrenTabel,3,FALSE)),"",VLOOKUP(B25,UrenTabel,3,FALSE)) -> Scholing | F25: =IF(ISERROR(VLOOKUP(B25,UrenTabel,2,FALSE)),"",VLOOKUP(B25,UrenTabel,2,FALSE)) -> Ja | G25: =IF(B25="","",SUMIF(UrenCategorie,B25,UrenAantal)) -> 0 | H25: =IF(ISERROR(+G25/$G$37),0,+G25/$G$37) -> 0 | I25: =H25 -> 0 | L25: % Behaald | N25: =+N20/N24 -> 0
B26: =IF(Instellingen!B50="","",Instellingen!B50) -> Onderhouden machines | D26: =IF(ISERROR(VLOOKUP(B26,UrenTabel,3,FALSE)),"",VLOOKUP(B26,UrenTabel,3,FALSE)) -> Werkruimte | F26: =IF(ISERROR(VLOOKUP(B26,UrenTabel,2,FALSE)),"",VLOOKUP(B26,UrenTabel,2,FALSE)) -> Ja | G26: =IF(B26="","",SUMIF(UrenCategorie,B26,UrenAantal)) -> 0 | H26: =IF(ISERROR(+G26/$G$37),0,+G26/$G$37) -> 0 | I26: =H26 -> 0
B27: =IF(Instellingen!B51="","",Instellingen!B51) -> Schoonmaken | D27: =IF(ISERROR(VLOOKUP(B27,UrenTabel,3,FALSE)),"",VLOOKUP(B27,UrenTabel,3,FALSE)) -> Werkruimte | F27: =IF(ISERROR(VLOOKUP(B27,UrenTabel,2,FALSE)),"",VLOOKUP(B27,UrenTabel,2,FALSE)) -> Ja | G27: =IF(B27="","",SUMIF(UrenCategorie,B27,UrenAantal)) -> 0 | H27: =IF(ISERROR(+G27/$G$37),0,+G27/$G$37) -> 0 | I27: =H27 -> 0 | L27: Prognose urencriterium
B28: =IF(Instellingen!B52="","",Instellingen!B52) -> Opruimen | D28: =IF(ISERROR(VLOOKUP(B28,UrenTabel,3,FALSE)),"",VLOOKUP(B28,UrenTabel,3,FALSE)) -> Werkruimte | F28: =IF(ISERROR(VLOOKUP(B28,UrenTabel,2,FALSE)),"",VLOOKUP(B28,UrenTabel,2,FALSE)) -> Ja | G28: =IF(B28="","",SUMIF(UrenCategorie,B28,UrenAantal)) -> 0 | H28: =IF(ISERROR(+G28/$G$37),0,+G28/$G$37) -> 0 | I28: =H28 -> 0 | L28: Criterium | N28: Uren
B29: =IF(Instellingen!B53="","",Instellingen!B53) -> Overig | D29: =IF(ISERROR(VLOOKUP(B29,UrenTabel,3,FALSE)),"",VLOOKUP(B29,UrenTabel,3,FALSE)) -> Overig | F29: =IF(ISERROR(VLOOKUP(B29,UrenTabel,2,FALSE)),"",VLOOKUP(B29,UrenTabel,2,FALSE)) -> Nee | G29: =IF(B29="","",SUMIF(UrenCategorie,B29,UrenAantal)) -> 0 | H29: =IF(ISERROR(+G29/$G$37),0,+G29/$G$37) -> 0 | I29: =H29 -> 0 | L29: Minimum datum | N29: =MIN(DataRij) -> 0
B30: =IF(Instellingen!B54="","",Instellingen!B54) -> Vakantie | D30: =IF(ISERROR(VLOOKUP(B30,UrenTabel,3,FALSE)),"",VLOOKUP(B30,UrenTabel,3,FALSE)) -> Overig | F30: =IF(ISERROR(VLOOKUP(B30,UrenTabel,2,FALSE)),"",VLOOKUP(B30,UrenTabel,2,FALSE)) -> Nee | G30: =IF(B30="","",SUMIF(UrenCategorie,B30,UrenAantal)) -> 0 | H30: =IF(ISERROR(+G30/$G$37),0,+G30/$G$37) -> 0 | I30: =H30 -> 0 | L30: Maximum datum | N30: =MAX(DataRij) -> 0
B31: =IF(Instellingen!B55="","",Instellingen!B55) -> Vrij | D31: =IF(ISERROR(VLOOKUP(B31,UrenTabel,3,FALSE)),"",VLOOKUP(B31,UrenTabel,3,FALSE)) -> Overig | F31: =IF(ISERROR(VLOOKUP(B31,UrenTabel,2,FALSE)),"",VLOOKUP(B31,UrenTabel,2,FALSE)) -> Nee | G31: =IF(B31="","",SUMIF(UrenCategorie,B31,UrenAantal)) -> 0 | H31: =IF(ISERROR(+G31/$G$37),0,+G31/$G$37) -> 0 | I31: =H31 -> 0 | L31: Aantal dagen | N31: =N30-N29+1 -> 1
B32: =IF(Instellingen!B56="","",Instellingen!B56) -> Bezoek | D32: =IF(ISERROR(VLOOKUP(B32,UrenTabel,3,FALSE)),"",VLOOKUP(B32,UrenTabel,3,FALSE)) -> Direct | F32: =IF(ISERROR(VLOOKUP(B32,UrenTabel,2,FALSE)),"",VLOOKUP(B32,UrenTabel,2,FALSE)) -> Ja | G32: =IF(B32="","",SUMIF(UrenCategorie,B32,UrenAantal)) -> 0 | H32: =IF(ISERROR(+G32/$G$37),0,+G32/$G$37) -> 0 | I32: =H32 -> 0 | L32: Prognose uren | N32: =365/N31*N20 -> 0 | O32: ="(365 / "&N31&" x "&N20&")" -> (365 / 1 x 0)
B33: =IF(Instellingen!B57="","",Instellingen!B57) | D33: =IF(ISERROR(VLOOKUP(B33,UrenTabel,3,FALSE)),"",VLOOKUP(B33,UrenTabel,3,FALSE)) | F33: =IF(ISERROR(VLOOKUP(B33,UrenTabel,2,FALSE)),"",VLOOKUP(B33,UrenTabel,2,FALSE)) | G33: =IF(B33="","",SUMIF(UrenCategorie,B33,UrenAantal)) | H33: =IF(ISERROR(+G33/$G$37),0,+G33/$G$37) -> 0 | I33: =H33 -> 0 | L33: =IF(N33<1,"Onvoldoende uren","Voldoende uren") -> Onvoldoende uren | N33: =+N32/N24 -> 0
B34: =IF(Instellingen!B58="","",Instellingen!B58) | D34: =IF(ISERROR(VLOOKUP(B34,UrenTabel,3,FALSE)),"",VLOOKUP(B34,UrenTabel,3,FALSE)) | F34: =IF(ISERROR(VLOOKUP(B34,UrenTabel,2,FALSE)),"",VLOOKUP(B34,UrenTabel,2,FALSE)) | G34: =IF(B34="","",SUMIF(UrenCategorie,B34,UrenAantal)) | H34: =IF(ISERROR(+G34/$G$37),0,+G34/$G$37) -> 0 | I34: =H34 -> 0
B35: =IF(Instellingen!B59="","",Instellingen!B59) | D35: =IF(ISERROR(VLOOKUP(B35,UrenTabel,3,FALSE)),"",VLOOKUP(B35,UrenTabel,3,FALSE)) | F35: =IF(ISERROR(VLOOKUP(B35,UrenTabel,2,FALSE)),"",VLOOKUP(B35,UrenTabel,2,FALSE)) | G35: =IF(B35="","",SUMIF(UrenCategorie,B35,UrenAantal)) | H35: =IF(ISERROR(+G35/$G$37),0,+G35/$G$37) -> 0 | I35: =H35 -> 0
B36: =IF(Instellingen!B60="","",Instellingen!B60) | D36: =IF(ISERROR(VLOOKUP(B36,UrenTabel,3,FALSE)),"",VLOOKUP(B36,UrenTabel,3,FALSE)) | F36: =IF(ISERROR(VLOOKUP(B36,UrenTabel,2,FALSE)),"",VLOOKUP(B36,UrenTabel,2,FALSE)) | G36: =SUMIF(UrenCategorie,B36,UrenAantal) -> 0 | H36: =IF(ISERROR(+G36/$G$37),0,+G36/$G$37) -> 0 | I36: =H36 -> 0
B37: Totaal | G37: =SUM(G7:G36) -> 0 | H37: =IF(ISERROR(+G37/$G$37),0,+G37/$G$37) -> 0
B40: Uren per maand naar aard categorie
B41: Aard | D41: 1 | E41: 2 | F41: 3 | G41: 4 | H41: 5 | I41: 6 | J41: 7 | K41: 8 | L41: 9 | M41: 10 | N41: 11 | O41: 12 | P41: Totaal
B42: =IF(Instellingen!B21="","",Instellingen!B21) -> Direct | D42: =IF($B42="","",SUMIF(Combi1,$B42&D$41,UrenAantal)) -> 0 | E42: =IF($B42="","",SUMIF(Combi1,$B42&E$41,UrenAantal)) -> 0 | F42: =IF($B42="","",SUMIF(Combi1,$B42&F$41,UrenAantal)) -> 0 | G42: =IF($B42="","",SUMIF(Combi1,$B42&G$41,UrenAantal)) -> 0 | H42: =IF($B42="","",SUMIF(Combi1,$B42&H$41,UrenAantal)) -> 0 | I42: =IF($B42="","",SUMIF(Combi1,$B42&I$41,UrenAantal)) -> 0 | J42: =IF($B42="","",SUMIF(Combi1,$B42&J$41,UrenAantal)) -> 0 | K42: =IF($B42="","",SUMIF(Combi1,$B42&K$41,UrenAantal)) -> 0 | ... O42: =IF($B42="","",SUMIF(Combi1,$B42&O$41,UrenAantal)) -> 0 | P42: =SUM(D42:O42) -> 0
B43: =IF(Instellingen!B22="","",Instellingen!B22) -> Administratie | D43: =IF($B43="","",SUMIF(Combi1,$B43&D$41,UrenAantal)) -> 0 | E43: =IF($B43="","",SUMIF(Combi1,$B43&E$41,UrenAantal)) -> 0 | F43: =IF($B43="","",SUMIF(Combi1,$B43&F$41,UrenAantal)) -> 0 | G43: =IF($B43="","",SUMIF(Combi1,$B43&G$41,UrenAantal)) -> 0 | H43: =IF($B43="","",SUMIF(Combi1,$B43&H$41,UrenAantal)) -> 0 | I43: =IF($B43="","",SUMIF(Combi1,$B43&I$41,UrenAantal)) -> 0 | J43: =IF($B43="","",SUMIF(Combi1,$B43&J$41,UrenAantal)) -> 0 | K43: =IF($B43="","",SUMIF(Combi1,$B43&K$41,UrenAantal)) -> 0 | ... O43: =IF($B43="","",SUMIF(Combi1,$B43&O$41,UrenAantal)) -> 0 | P43: =SUM(D43:O43) -> 0
