Workbook
Name Bedrijfsnaam: Instellingen!$D$6
Name BegindatumBoekjaar: Instellingen!$D$15
Name Boekjaar: Instellingen!$D$14
Name Combi1: Urenregister!$S$6:$S$1029
Name Combi2: Urenregister!$T$6:$T$1029
Name Combi3: Urenregister!$U$6:$U$1029
Name DataRij: Urenregister!$E$6:$E$1029
Name EinddatumBoekjaar: Instellingen!$D$16
Name Feestdagen: Instellingen!$B$63:$B$139
Name Jaar: Urenkaart!$V$11
Name JaNee: Instellingen!$D$21:$D$22
Name Klantnr: Klanten!$B$6:$B$106
Name MedewerkersNaam: Draaitabel!$B$5:$B$1048576
Name MedewerkersNaam: Klanten!$B$6:$B$1048576
Name MedewerkersNaam: Projecten!$B$6:$B$1048576
Name Projectcode: Projecten!$B$6:$B$105
Name TabelKlanten: Klanten!$B$6:$M$105
Name TabelProjecten: Projecten!$B$6:$M$105
Name TabelUren: Urenregister!$B$6:$Q$1029
Name UrenAantal: Urenregister!$P$6:$P$1029
Name UrenAard: Instellingen!$B$21:$B$28
Name UrenAard2: Urenregister!$L$6:$L$1029
Name UrenAardActiviteit: Instellingen!$D$31:$D$60
Name UrenCategorie: Urenregister!$K$6:$K$1029
Name Urencriterium: Instellingen!$C$31:$C$60
Name UrenCriterium2: Urenregister!$M$6:$M$1029
Name UrenDag: Urenregister!$D$6:$D$1029
Name UrenFactuur: Urenregister!$N$6:$N$1029
Name UrenKlant: Urenregister!$G$6:$G$1029
Name Urenklantnr: Urenregister!$F$6:$F$1029
Name UrenMaand: Urenregister!$B$6:$B$1029
Name UrenOmzet: Urenregister!$R$6:$R$1029
Name UrenProject: Urenregister!$I$6:$I$1029
Name UrenProjectcode: Urenregister!$H$6:$H$1029
Name Urensoort: Instellingen!$B$31:$B$60
Name UrenTabel: Instellingen!$B$31:$D$60
Name UrenTarief: Urenregister!$O$6:$O$1029
Name UrenUrencriterium: Instellingen!$D$17
Name UrenWeek: Urenregister!$C$6:$C$1029
Name UwAdres: Instellingen!$D$8
Name UwEmail: Instellingen!$D$12
Name UwNaam: Instellingen!$D$7
Name UwPostcode: Instellingen!$D$9
Name UwTelefoonnummer: Instellingen!$D$11
Name UwWebsite: Instellingen!$D$13
Name UwWoonplaats: Instellingen!$D$10

Sheet Urenregister
B2: Urenregistratie
B3: =Bedrijfsnaam -> Bedrijfsnaam
B5: Mnd | C5: Week | D5: Dag | E5: Datum | F5: Klantnr | G5: Klantnaam | H5: Projectcode | I5: Project | J5: Omschrijving werkzaamheden | K5: UrenCategorie | L5: Aard | M5: Uren- criterium | N5: Gefactureerd met factuur | O5: Uurloon | P5: Aantal uren | Q5: Totaal uren | R5: Omzet | S5: Combi1 (Aard + Mnd) | T5: Combi2 Crit. + Mnd) | U5: Combi3 dag + Crit.
B6: =IF(E6="","",MONTH(E6)) | C6: =IF(E6="","",INT((E6-SUM(MOD(DATE(YEAR(E6-MOD(E6-2,7)+3),1,2),{1E+99;7})*{1;-1})+5)/7)) | D6: =IF(E6="","",E6) | G6: =IF(ISERROR(VLOOKUP(F6,TabelKlanten,2,FALSE)),"",VLOOKUP(F6,TabelKlanten,2,FALSE)) | I6: =IF(ISERROR(VLOOKUP(H6,TabelProjecten,2,FALSE)),"",VLOOKUP(H6,TabelProjecten,2,FALSE)) | L6: =IF(ISERROR(VLOOKUP(K6,UrenTabel,3,FALSE)),"",VLOOKUP(K6,UrenTabel,3,FALSE)) | M6: =IF(ISERROR(VLOOKUP(K6,UrenTabel,2,FALSE)),"",VLOOKUP(K6,UrenTabel,2,FALSE)) | P6: 0 | Q6: =IF(P6="","",P6) -> 0 | R6: =O6*P6 -> 0 | S6: =L6&B6 | T6: =M6&B6 | U6: =M6&E6
B7: =IF(E7="","",MONTH(E7)) | C7: =IF(E7="","",INT((E7-SUM(MOD(DATE(YEAR(E7-MOD(E7-2,7)+3),1,2),{1E+99;7})*{1;-1})+5)/7)) | D7: =IF(E7="","",E7) | G7: =IF(ISERROR(VLOOKUP(F7,TabelKlanten,2,FALSE)),"",VLOOKUP(F7,TabelKlanten,2,FALSE)) | I7: =IF(ISERROR(VLOOKUP(H7,TabelProjecten,2,FALSE)),"",VLOOKUP(H7,TabelProjecten,2,FALSE)) | L7: =IF(ISERROR(VLOOKUP(K7,UrenTabel,3,FALSE)),"",VLOOKUP(K7,UrenTabel,3,FALSE)) | M7: =IF(ISERROR(VLOOKUP(K7,UrenTabel,2,FALSE)),"",VLOOKUP(K7,UrenTabel,2,FALSE)) | P7: 0 | Q7: =IF(ISNUMBER(Q6),IF(ISNUMBER(P7),Q6+P7,0),0) -> 0 | R7: =O7*P7 -> 0 | S7: =L7&B7 | T7: =M7&B7 | U7: =M7&E7
B8: =IF(E8="","",MONTH(E8)) | C8: =IF(E8="","",INT((E8-SUM(MOD(DATE(YEAR(E8-MOD(E8-2,7)+3),1,2),{1E+99;7})*{1;-1})+5)/7)) | D8: =IF(E8="","",E8) | G8: =IF(ISERROR(VLOOKUP(F8,TabelKlanten,2,FALSE)),"",VLOOKUP(F8,TabelKlanten,2,FALSE)) | I8: =IF(ISERROR(VLOOKUP(H8,TabelProjecten,2,FALSE)),"",VLOOKUP(H8,TabelProjecten,2,FALSE)) | L8: =IF(ISERROR(VLOOKUP(K8,UrenTabel,3,FALSE)),"",VLOOKUP(K8,UrenTabel,3,FALSE)) | M8: =IF(ISERROR(VLOOKUP(K8,UrenTabel,2,FALSE)),"",VLOOKUP(K8,UrenTabel,2,FALSE)) | P8: 0 | Q8: =IF(ISNUMBER(Q7),IF(ISNUMBER(P8),Q7+P8,0),0) -> 0 | R8: =O8*P8 -> 0 | S8: =L8&B8 | T8: =M8&B8 | U8: =M8&E8
B9: =IF(E9="","",MONTH(E9)) | C9: =IF(E9="","",INT((E9-SUM(MOD(DATE(YEAR(E9-MOD(E9-2,7)+3),1,2),{1E+99;7})*{1;-1})+5)/7)) | D9: =IF(E9="","",E9) | G9: =IF(ISERROR(VLOOKUP(F9,TabelKlanten,2,FALSE)),"",VLOOKUP(F9,TabelKlanten,2,FALSE)) | I9: =IF(ISERROR(VLOOKUP(H9,TabelProjecten,2,FALSE)),"",VLOOKUP(H9,TabelProjecten,2,FALSE)) | L9: =IF(ISERROR(VLOOKUP(K9,UrenTabel,3,FALSE)),"",VLOOKUP(K9,UrenTabel,3,FALSE)) | M9: =IF(ISERROR(VLOOKUP(K9,UrenTabel,2,FALSE)),"",VLOOKUP(K9,UrenTabel,2,FALSE)) | P9: 0 | Q9: =IF(ISNUMBER(Q8),IF(ISNUMBER(P9),Q8+P9,0),0) -> 0 | R9: =O9*P9 -> 0 | S9: =L9&B9 | T9: =M9&B9 | U9: =M9&E9
B10: =IF(E10="","",MONTH(E10)) | C10: =IF(E10="","",INT((E10-SUM(MOD(DATE(YEAR(E10-MOD(E10-2,7)+3),1,2),{1E+99;7})*{1;-1})+5)/7)) | D10: =IF(E10="","",E10) | G10: =IF(ISERROR(VLOOKUP(F10,TabelKlanten,2,FALSE)),"",VLOOKUP(F10,TabelKlanten,2,FALSE)) | I10: =IF(ISERROR(VLOOKUP(H10,TabelProjecten,2,FALSE)),"",VLOOKUP(H10,TabelProjecten,2,FALSE)) | L10: =IF(ISERROR(VLOOKUP(K10,UrenTabel,3,FALSE)),"",VLOOKUP(K10,UrenTabel,3,FALSE)) | M10: =IF(ISERROR(VLOOKUP(K10,UrenTabel,2,FALSE)),"",VLOOKUP(K10,UrenTabel,2,FALSE)) | P10: 0 | Q10: =IF(ISNUMBER(Q9),IF(ISNUMBER(P10),Q9+P10,0),0) -> 0 | R10: =O10*P10 -> 0 | S10: =L10&B10 | T10: =M10&B10 | U10: =M10&E10
B11: =IF(E11="","",MONTH(E11)) | C11: =IF(E11="","",INT((E11-SUM(MOD(DATE(YEAR(E11-MOD(E11-2,7)+3),1,2),{1E+99;7})*{1;-1})+5)/7)) | D11: =IF(E11="","",E11) | G11: =IF(ISERROR(VLOOKUP(F11,TabelKlanten,2,FALSE)),"",VLOOKUP(F11,TabelKlanten,2,FALSE)) | I11: =IF(ISERROR(VLOOKUP(H11,TabelProjecten,2,FALSE)),"",VLOOKUP(H11,TabelProjecten,2,FALSE)) | L11: =IF(ISERROR(VLOOKUP(K11,UrenTabel,3,FALSE)),"",VLOOKUP(K11,UrenTabel,3,FALSE)) | M11: =IF(ISERROR(VLOOKUP(K11,UrenTabel,2,FALSE)),"",VLOOKUP(K11,UrenTabel,2,FALSE)) | P11: 0 | Q11: =IF(ISNUMBER(Q10),IF(ISNUMBER(P11),Q10+P11,0),0) -> 0 | R11: =O11*P11 -> 0 | S11: =L11&B11 | T11: =M11&B11 | U11: =M11&E11
B12: =IF(E12="","",MONTH(E12)) | C12: =IF(E12="","",INT((E12-SUM(MOD(DATE(YEAR(E12-MOD(E12-2,7)+3),1,2),{1E+99;7})*{1;-1})+5)/7)) | D12: =IF(E12="","",E12) | G12: =IF(ISERROR(VLOOKUP(F12,TabelKlanten,2,FALSE)),"",VLOOKUP(F12,TabelKlanten,2,FALSE)) | I12: =IF(ISERROR(VLOOKUP(H12,TabelProjecten,2,FALSE)),"",VLOOKUP(H12,TabelProjecten,2,FALSE)) | L12: =IF(ISERROR(VLOOKUP(K12,UrenTabel,3,FALSE)),"",VLOOKUP(K12,UrenTabel,3,FALSE)) | M12: =IF(ISERROR(VLOOKUP(K12,UrenTabel,2,FALSE)),"",VLOOKUP(K12,UrenTabel,2,FALSE)) | P12: 0 | Q12: =IF(ISNUMBER(Q11),IF(ISNUMBER(P12),Q11+P12,0),0) -> 0 | R12: =O12*P12 -> 0 | S12: =L12&B12 | T12: =M12&B12 | U12: =M12&E12
B13: =IF(E13="","",MONTH(E13)) | C13: =IF(E13="","",INT((E13-SUM(MOD(DATE(YEAR(E13-MOD(E13-2,7)+3),1,2),{1E+99;7})*{1;-1})+5)/7)) | D13: =IF(E13="","",E13) | G13: =IF(ISERROR(VLOOKUP(F13,TabelKlanten,2,FALSE)),"",VLOOKUP(F13,TabelKlanten,2,FALSE)) | I13: =IF(ISERROR(VLOOKUP(H13,TabelProjecten,2,FALSE)),"",VLOOKUP(H13,TabelProjecten,2,FALSE)) | L13: =IF(ISERROR(VLOOKUP(K13,UrenTabel,3,FALSE)),"",VLOOKUP(K13,UrenTabel,3,FALSE)) | M13: =IF(ISERROR(VLOOKUP(K13,UrenTabel,2,FALSE)),"",VLOOKUP(K13,UrenTabel,2,FALSE)) | P13: 0 | Q13: =IF(ISNUMBER(Q12),IF(ISNUMBER(P13),Q12+P13,0),0) -> 0 | R13: =O13*P13 -> 0 | S13: =L13&B13 | T13: =M13&B13 | U13: =M13&E13
B14: =IF(E14="","",MONTH(E14)) | C14: =IF(E14="","",INT((E14-SUM(MOD(DATE(YEAR(E14-MOD(E14-2,7)+3),1,2),{1E+99;7})*{1;-1})+5)/7)) | D14: =IF(E14="","",E14) | G14: =IF(ISERROR(VLOOKUP(F14,TabelKlanten,2,FALSE)),"",VLOOKUP(F14,TabelKlanten,2,FALSE)) | I14: =IF(ISERROR(VLOOKUP(H14,TabelProjecten,2,FALSE)),"",VLOOKUP(H14,TabelProjecten,2,FALSE)) | L14: =IF(ISERROR(VLOOKUP(K14,UrenTabel,3,FALSE)),"",VLOOKUP(K14,UrenTabel,3,FALSE)) | M14: =IF(ISERROR(VLOOKUP(K14,UrenTabel,2,FALSE)),"",VLOOKUP(K14,UrenTabel,2,FALSE)) | P14: 0 | Q14: =IF(ISNUMBER(Q13),IF(ISNUMBER(P14),Q13+P14,0),0) -> 0 | R14: =O14*P14 -> 0 | S14: =L14&B14 | T14: =M14&B14 | U14: =M14&E14
B15: =IF(E15="","",MONTH(E15)) | C15: =IF(E15="","",INT((E15-SUM(MOD(DATE(YEAR(E15-MOD(E15-2,7)+3),1,2),{1E+99;7})*{1;-1})+5)/7)) | D15: =IF(E15="","",E15) | G15: =IF(ISERROR(VLOOKUP(F15,TabelKlanten,2,FALSE)),"",VLOOKUP(F15,TabelKlanten,2,FALSE)) | I15: =IF(ISERROR(VLOOKUP(H15,TabelProjecten,2,FALSE)),"",VLOOKUP(H15,TabelProjecten,2,FALSE)) | L15: =IF(ISERROR(VLOOKUP(K15,UrenTabel,3,FALSE)),"",VLOOKUP(K15,UrenTabel,3,FALSE)) | M15: =IF(ISERROR(VLOOKUP(K15,UrenTabel,2,FALSE)),"",VLOOKUP(K15,UrenTabel,2,FALSE)) | P15: 0 | Q15: =IF(ISNUMBER(Q14),IF(ISNUMBER(P15),Q14+P15,0),0) -> 0 | R15: =O15*P15 -> 0 | S15: =L15&B15 | T15: =M15&B15 | U15: =M15&E15
B16: =IF(E16="","",MONTH(E16)) | C16: =IF(E16="","",INT((E16-SUM(MOD(DATE(YEAR(E16-MOD(E16-2,7)+3),1,2),{1E+99;7})*{1;-1})+5)/7)) | D16: =IF(E16="","",E16) | G16: =IF(ISERROR(VLOOKUP(F16,TabelKlanten,2,FALSE)),"",VLOOKUP(F16,TabelKlanten,2,FALSE)) | I16: =IF(ISERROR(VLOOKUP(H16,TabelProjecten,2,FALSE)),"",VLOOKUP(H16,TabelProjecten,2,FALSE)) | L16: =IF(ISERROR(VLOOKUP(K16,UrenTabel,3,FALSE)),"",VLOOKUP(K16,UrenTabel,3,FALSE)) | M16: =IF(ISERROR(VLOOKUP(K16,UrenTabel,2,FALSE)),"",VLOOKUP(K16,UrenTabel,2,FALSE)) | P16: 0 | Q16: =IF(ISNUMBER(Q15),IF(ISNUMBER(P16),Q15+P16,0),0) -> 0 | R16: =O16*P16 -> 0 | S16: =L16&B16 | T16: =M16&B16 | U16: =M16&E16
B17: =IF(E17="","",MONTH(E17)) | C17: =IF(E17="","",INT((E17-SUM(MOD(DATE(YEAR(E17-MOD(E17-2,7)+3),1,2),{1E+99;7})*{1;-1})+5)/7)) | D17: =IF(E17="","",E17) | G17: =IF(ISERROR(VLOOKUP(F17,TabelKlanten,2,FALSE)),"",VLOOKUP(F17,TabelKlanten,2,FALSE)) | I17: =IF(ISERROR(VLOOKUP(H17,TabelProjecten,2,FALSE)),"",VLOOKUP(H17,TabelProjecten,2,FALSE)) | L17: =IF(ISERROR(VLOOKUP(K17,UrenTabel,3,FALSE)),"",VLOOKUP(K17,UrenTabel,3,FALSE)) | M17: =IF(ISERROR(VLOOKUP(K17,UrenTabel,2,FALSE)),"",VLOOKUP(K17,UrenTabel,2,FALSE)) | P17: 0 | Q17: =IF(ISNUMBER(Q16),IF(ISNUMBER(P17),Q16+P17,0),0) -> 0 | R17: =O17*P17 -> 0 | S17: =L17&B17 | T17: =M17&B17 | U17: =M17&E17
B18: =IF(E18="","",MONTH(E18)) | C18: =IF(E18="","",INT((E18-SUM(MOD(DATE(YEAR(E18-MOD(E18-2,7)+3),1,2),{1E+99;7})*{1;-1})+5)/7)) | D18: =IF(E18="","",E18) | G18: =IF(ISERROR(VLOOKUP(F18,TabelKlanten,2,FALSE)),"",VLOOKUP(F18,TabelKlanten,2,FALSE)) | I18: =IF(ISERROR(VLOOKUP(H18,TabelProjecten,2,FALSE)),"",VLOOKUP(H18,TabelProjecten,2,FALSE)) | L18: =IF(ISERROR(VLOOKUP(K18,UrenTabel,3,FALSE)),"",VLOOKUP(K18,UrenTabel,3,FALSE)) | M18: =IF(ISERROR(VLOOKUP(K18,UrenTabel,2,FALSE)),"",VLOOKUP(K18,UrenTabel,2,FALSE)) | P18: 0 | Q18: =IF(ISNUMBER(Q17),IF(ISNUMBER(P18),Q17+P18,0),0) -> 0 | R18: =O18*P18 -> 0 | S18: =L18&B18 | T18: =M18&B18 | U18: =M18&E18
B19: =IF(E19="","",MONTH(E19)) | C19: =IF(E19="","",INT((E19-SUM(MOD(DATE(YEAR(E19-MOD(E19-2,7)+3),1,2),{1E+99;7})*{1;-1})+5)/7)) | D19: =IF(E19="","",E19) | G19: =IF(ISERROR(VLOOKUP(F19,TabelKlanten,2,FALSE)),"",VLOOKUP(F19,TabelKlanten,2,FALSE)) | I19: =IF(ISERROR(VLOOKUP(H19,TabelProjecten,2,FALSE)),"",VLOOKUP(H19,TabelProjecten,2,FALSE)) | L19: =IF(ISERROR(VLOOKUP(K19,UrenTabel,3,FALSE)),"",VLOOKUP(K19,UrenTabel,3,FALSE)) | M19: =IF(ISERROR(VLOOKUP(K19,UrenTabel,2,FALSE)),"",VLOOKUP(K19,UrenTabel,2,FALSE)) | P19: 0 | Q19: =IF(ISNUMBER(Q18),IF(ISNUMBER(P19),Q18+P19,0),0) -> 0 | R19: =O19*P19 -> 0 | S19: =L19&B19 | T19: =M19&B19 | U19: =M19&E19
B20: =IF(E20="","",MONTH(E20)) | C20: =IF(E20="","",INT((E20-SUM(MOD(DATE(YEAR(E20-MOD(E20-2,7)+3),1,2),{1E+99;7})*{1;-1})+5)/7)) | D20: =IF(E20="","",E20) | G20: =IF(ISERROR(VLOOKUP(F20,TabelKlanten,2,FALSE)),"",VLOOKUP(F20,TabelKlanten,2,FALSE)) | I20: =IF(ISERROR(VLOOKUP(H20,TabelProjecten,2,FALSE)),"",VLOOKUP(H20,TabelProjecten,2,FALSE)) | L20: =IF(ISERROR(VLOOKUP(K20,UrenTabel,3,FALSE)),"",VLOOKUP(K20,UrenTabel,3,FALSE)) | M20: =IF(ISERROR(VLOOKUP(K20,UrenTabel,2,FALSE)),"",VLOOKUP(K20,UrenTabel,2,FALSE)) | P20: 0 | Q20: =IF(ISNUMBER(Q19),IF(ISNUMBER(P20),Q19+P20,0),0) -> 0 | R20: =O20*P20 -> 0
B21: =IF(E21="","",MONTH(E21)) | C21: =IF(E21="","",INT((E21-SUM(MOD(DATE(YEAR(E21-MOD(E21-2,7)+3),1,2),{1E+99;7})*{1;-1})+5)/7)) | D21: =IF(E21="","",E21) | G21: =IF(ISERROR(VLOOKUP(F21,TabelKlanten,2,FALSE)),"",VLOOKUP(F21,TabelKlanten,2,FALSE)) | I21: =IF(ISERROR(VLOOKUP(H21,TabelProjecten,2,FALSE)),"",VLOOKUP(H21,TabelProjecten,2,FALSE)) | L21: =IF(ISERROR(VLOOKUP(K21,UrenTabel,3,FALSE)),"",VLOOKUP(K21,UrenTabel,3,FALSE)) | M21: =IF(ISERROR(VLOOKUP(K21,UrenTabel,2,FALSE)),"",VLOOKUP(K21,UrenTabel,2,FALSE)) | P21: 0 | Q21: =IF(ISNUMBER(Q20),IF(ISNUMBER(P21),Q20+P21,0),0) -> 0 | R21: =O21*P21 -> 0 | S21: =L21&B21 | T21: =M21&B21 | U21: =M21&E21
B22: =IF(E22="","",MONTH(E22)) | C22: =IF(E22="","",INT((E22-SUM(MOD(DATE(YEAR(E22-MOD(E22-2,7)+3),1,2),{1E+99;7})*{1;-1})+5)/7)) | D22: =IF(E22="","",E22) | G22: =IF(ISERROR(VLOOKUP(F22,TabelKlanten,2,FALSE)),"",VLOOKUP(F22,TabelKlanten,2,FALSE)) | I22: =IF(ISERROR(VLOOKUP(H22,TabelProjecten,2,FALSE)),"",VLOOKUP(H22,TabelProjecten,2,FALSE)) | L22: =IF(ISERROR(VLOOKUP(K22,UrenTabel,3,FALSE)),"",VLOOKUP(K22,UrenTabel,3,FALSE)) | M22: =IF(ISERROR(VLOOKUP(K22,UrenTabel,2,FALSE)),"",VLOOKUP(K22,UrenTabel,2,FALSE)) | P22: 0 | Q22: =IF(ISNUMBER(Q21),IF(ISNUMBER(P22),Q21+P22,0),0) -> 0 | R22: =O22*P22 -> 0 | S22: =L22&B22 | T22: =M22&B22 | U22: =M22&E22
B23: =IF(E23="","",MONTH(E23)) | C23: =IF(E23="","",INT((E23-SUM(MOD(DATE(YEAR(E23-MOD(E23-2,7)+3),1,2),{1E+99;7})*{1;-1})+5)/7)) | D23: =IF(E23="","",E23) | G23: =IF(ISERROR(VLOOKUP(F23,TabelKlanten,2,FALSE)),"",VLOOKUP(F23,TabelKlanten,2,FALSE)) | I23: =IF(ISERROR(VLOOKUP(H23,TabelProjecten,2,FALSE)),"",VLOOKUP(H23,TabelProjecten,2,FALSE)) | L23: =IF(ISERROR(VLOOKUP(K23,UrenTabel,3,FALSE)),"",VLOOKUP(K23,UrenTabel,3,FALSE)) | M23: =IF(ISERROR(VLOOKUP(K23,UrenTabel,2,FALSE)),"",VLOOKUP(K23,UrenTabel,2,FALSE)) | P23: 0 | Q23: =IF(ISNUMBER(Q22),IF(ISNUMBER(P23),Q22+P23,0),0) -> 0 | R23: =O23*P23 -> 0 | S23: =L23&B23 | T23: =M23&B23 | U23: =M23&E23
B24: =IF(E24="","",MONTH(E24)) | C24: =IF(E24="","",INT((E24-SUM(MOD(DATE(YEAR(E24-MOD(E24-2,7)+3),1,2),{1E+99;7})*{1;-1})+5)/7)) | D24: =IF(E24="","",E24) | G24: =IF(ISERROR(VLOOKUP(F24,TabelKlanten,2,FALSE)),"",VLOOKUP(F24,TabelKlanten,2,FALSE)) | I24: =IF(ISERROR(VLOOKUP(H24,TabelProjecten,2,FALSE)),"",VLOOKUP(H24,TabelProjecten,2,FALSE)) | L24: =IF(ISERROR(VLOOKUP(K24,UrenTabel,3,FALSE)),"",VLOOKUP(K24,UrenTabel,3,FALSE)) | M24: =IF(ISERROR(VLOOKUP(K24,UrenTabel,2,FALSE)),"",VLOOKUP(K24,UrenTabel,2,FALSE)) | P24: 0 | Q24: =IF(ISNUMBER(Q23),IF(ISNUMBER(P24),Q23+P24,0),0) -> 0 | R24: =O24*P24 -> 0 | S24: =L24&B24 | T24: =M24&B24 | U24: =M24&E24
B25: =IF(E25="","",MONTH(E25)) | C25: =IF(E25="","",INT((E25-SUM(MOD(DATE(YEAR(E25-MOD(E25-2,7)+3),1,2),{1E+99;7})*{1;-1})+5)/7)) | D25: =IF(E25="","",E25) | G25: =IF(ISERROR(VLOOKUP(F25,TabelKlanten,2,FALSE)),"",VLOOKUP(F25,TabelKlanten,2,FALSE)) | I25: =IF(ISERROR(VLOOKUP(H25,TabelProjecten,2,FALSE)),"",VLOOKUP(H25,TabelProjecten,2,FALSE)) | L25: =IF(ISERROR(VLOOKUP(K25,UrenTabel,3,FALSE)),"",VLOOKUP(K25,UrenTabel,3,FALSE)) | M25: =IF(ISERROR(VLOOKUP(K25,UrenTabel,2,FALSE)),"",VLOOKUP(K25,UrenTabel,2,FALSE)) | P25: 0 | Q25: =IF(ISNUMBER(Q24),IF(ISNUMBER(P25),Q24+P25,0),0) -> 0 | R25: =O25*P25 -> 0 | S25: =L25&B25 | T25: =M25&B25 | U25: =M25&E25
B26: =IF(E26="","",MONTH(E26)) | C26: =IF(E26="","",INT((E26-SUM(MOD(DATE(YEAR(E26-MOD(E26-2,7)+3),1,2),{1E+99;7})*{1;-1})+5)/7)) | D26: =IF(E26="","",E26) | G26: =IF(ISERROR(VLOOKUP(F26,TabelKlanten,2,FALSE)),"",VLOOKUP(F26,TabelKlanten,2,FALSE)) | I26: =IF(ISERROR(VLOOKUP(H26,TabelProjecten,2,FALSE)),"",VLOOKUP(H26,TabelProjecten,2,FALSE)) | L26: =IF(ISERROR(VLOOKUP(K26,UrenTabel,3,FALSE)),"",VLOOKUP(K26,UrenTabel,3,FALSE)) | M26: =IF(ISERROR(VLOOKUP(K26,UrenTabel,2,FALSE)),"",VLOOKUP(K26,UrenTabel,2,FALSE)) | P26: 0 | Q26: =IF(ISNUMBER(Q25),IF(ISNUMBER(P26),Q25+P26,0),0) -> 0 | R26: =O26*P26 -> 0 | S26: =L26&B26 | T26: =M26&B26 | U26: =M26&E26
B27: =IF(E27="","",MONTH(E27)) | C27: =IF(E27="","",INT((E27-SUM(MOD(DATE(YEAR(E27-MOD(E27-2,7)+3),1,2),{1E+99;7})*{1;-1})+5)/7)) | D27: =IF(E27="","",E27) | G27: =IF(ISERROR(VLOOKUP(F27,TabelKlanten,2,FALSE)),"",VLOOKUP(F27,TabelKlanten,2,FALSE)) | I27: =IF(ISERROR(VLOOKUP(H27,TabelProjecten,2,FALSE)),"",VLOOKUP(H27,TabelProjecten,2,FALSE)) | L27: =IF(ISERROR(VLOOKUP(K27,UrenTabel,3,FALSE)),"",VLOOKUP(K27,UrenTabel,3,FALSE)) | M27: =IF(ISERROR(VLOOKUP(K27,UrenTabel,2,FALSE)),"",VLOOKUP(K27,UrenTabel,2,FALSE)) | P27: 0 | Q27: =IF(ISNUMBER(Q26),IF(ISNUMBER(P27),Q26+P27,0),0) -> 0 | R27: =O27*P27 -> 0 | S27: =L27&B27 | T27: =M27&B27 | U27: =M27&E27
B28: =IF(E28="","",MONTH(E28)) | C28: =IF(E28="","",INT((E28-SUM(MOD(DATE(YEAR(E28-MOD(E28-2,7)+3),1,2),{1E+99;7})*{1;-1})+5)/7)) | D28: =IF(E28="","",E28) | G28: =IF(ISERROR(VLOOKUP(F28,TabelKlanten,2,FALSE)),"",VLOOKUP(F28,TabelKlanten,2,FALSE)) | I28: =IF(ISERROR(VLOOKUP(H28,TabelProjecten,2,FALSE)),"",VLOOKUP(H28,TabelProjecten,2,FALSE)) | L28: =IF(ISERROR(VLOOKUP(K28,UrenTabel,3,FALSE)),"",VLOOKUP(K28,UrenTabel,3,FALSE)) | M28: =IF(ISERROR(VLOOKUP(K28,UrenTabel,2,FALSE)),"",VLOOKUP(K28,UrenTabel,2,FALSE)) | P28: 0 | Q28: =IF(ISNUMBER(Q27),IF(ISNUMBER(P28),Q27+P28,0),0) -> 0 | R28: =O28*P28 -> 0 | S28: =L28&B28 | T28: =M28&B28 | U28: =M28&E28
B29: =IF(E29="","",MONTH(E29)) | C29: =IF(E29="","",INT((E29-SUM(MOD(DATE(YEAR(E29-MOD(E29-2,7)+3),1,2),{1E+99;7})*{1;-1})+5)/7)) | D29: =IF(E29="","",E29) | G29: =IF(ISERROR(VLOOKUP(F29,TabelKlanten,2,FALSE)),"",VLOOKUP(F29,TabelKlanten,2,FALSE)) | I29: =IF(ISERROR(VLOOKUP(H29,TabelProjecten,2,FALSE)),"",VLOOKUP(H29,TabelProjecten,2,FALSE)) | L29: =IF(ISERROR(VLOOKUP(K29,UrenTabel,3,FALSE)),"",VLOOKUP(K29,UrenTabel,3,FALSE)) | M29: =IF(ISERROR(VLOOKUP(K29,UrenTabel,2,FALSE)),"",VLOOKUP(K29,UrenTabel,2,FALSE)) | P29: 0 | Q29: =IF(ISNUMBER(Q28),IF(ISNUMBER(P29),Q28+P29,0),0) -> 0 | R29: =O29*P29 -> 0 | S29: =L29&B29 | T29: =M29&B29 | U29: =M29&E29
B30: =IF(E30="","",MONTH(E30)) | C30: =IF(E30="","",INT((E30-SUM(MOD(DATE(YEAR(E30-MOD(E30-2,7)+3),1,2),{1E+99;7})*{1;-1})+5)/7)) | D30: =IF(E30="","",E30) | G30: =IF(ISERROR(VLOOKUP(F30,TabelKlanten,2,FALSE)),"",VLOOKUP(F30,TabelKlanten,2,FALSE)) | I30: =IF(ISERROR(VLOOKUP(H30,TabelProjecten,2,FALSE)),"",VLOOKUP(H30,TabelProjecten,2,FALSE)) | L30: =IF(ISERROR(VLOOKUP(K30,UrenTabel,3,FALSE)),"",VLOOKUP(K30,UrenTabel,3,FALSE)) | M30: =IF(ISERROR(VLOOKUP(K30,UrenTabel,2,FALSE)),"",VLOOKUP(K30,UrenTabel,2,FALSE)) | P30: 0 | Q30: =IF(ISNUMBER(Q29),IF(ISNUMBER(P30),Q29+P30,0),0) -> 0 | R30: =O30*P30 -> 0 | S30: =L30&B30 | T30: =M30&B30 | U30: =M30&E30
B31: =IF(E31="","",MONTH(E31)) | C31: =IF(E31="","",INT((E31-SUM(MOD(DATE(YEAR(E31-MOD(E31-2,7)+3),1,2),{1E+99;7})*{1;-1})+5)/7)) | D31: =IF(E31="","",E31) | G31: =IF(ISERROR(VLOOKUP(F31,TabelKlanten,2,FALSE)),"",VLOOKUP(F31,TabelKlanten,2,FALSE)) | I31: =IF(ISERROR(VLOOKUP(H31,TabelProjecten,2,FALSE)),"",VLOOKUP(H31,TabelProjecten,2,FALSE)) | L31: =IF(ISERROR(VLOOKUP(K31,UrenTabel,3,FALSE)),"",VLOOKUP(K31,UrenTabel,3,FALSE)) | M31: =IF(ISERROR(VLOOKUP(K31,UrenTabel,2,FALSE)),"",VLOOKUP(K31,UrenTabel,2,FALSE)) | P31: 0 | Q31: =IF(ISNUMBER(Q30),IF(ISNUMBER(P31),Q30+P31,0),0) -> 0 | R31: =O31*P31 -> 0 | S31: =L31&B31 | T31: =M31&B31 | U31: =M31&E31
B32: =IF(E32="","",MONTH(E32)) | C32: =IF(E32="","",INT((E32-SUM(MOD(DATE(YEAR(E32-MOD(E32-2,7)+3),1,2),{1E+99;7})*{1;-1})+5)/7)) | D32: =IF(E32="","",E32) | G32: =IF(ISERROR(VLOOKUP(F32,TabelKlanten,2,FALSE)),"",VLOOKUP(F32,TabelKlanten,2,FALSE)) | I32: =IF(ISERROR(VLOOKUP(H32,TabelProjecten,2,FALSE)),"",VLOOKUP(H32,TabelProjecten,2,FALSE)) | L32: =IF(ISERROR(VLOOKUP(K32,UrenTabel,3,FALSE)),"",VLOOKUP(K32,UrenTabel,3,FALSE)) | M32: =IF(ISERROR(VLOOKUP(K32,UrenTabel,2,FALSE)),"",VLOOKUP(K32,UrenTabel,2,FALSE)) | P32: 0 | Q32: =IF(ISNUMBER(Q31),IF(ISNUMBER(P32),Q31+P32,0),0) -> 0 | R32: =O32*P32 -> 0 | S32: =L32&B32 | T32: =M32&B32 | U32: =M32&E32
... B43: =IF(E43="","",MONTH(E43)) | C43: =IF(E43="","",INT((E43-SUM(MOD(DATE(YEAR(E43-MOD(E43-2,7)+3),1,2),{1E+99;7})*{1;-1})+5)/7)) | D43: =IF(E43="","",E43) | G43: =IF(ISERROR(VLOOKUP(F43,TabelKlanten,2,FALSE)),"",VLOOKUP(F43,TabelKlanten,2,FALSE)) | I43: =IF(ISERROR(VLOOKUP(H43,TabelProjecten,2,FALSE)),"",VLOOKUP(H43,TabelProjecten,2,FALSE)) | L43: =IF(ISERROR(VLOOKUP(K43,UrenTabel,3,FALSE)),"",VLOOKUP(K43,UrenTabel,3,FALSE)) | M43: =IF(ISERROR(VLOOKUP(K43,UrenTabel,2,FALSE)),"",VLOOKUP(K43,UrenTabel,2,FALSE)) | P43: 0 | Q43: =IF(ISNUMBER(Q42),IF(ISNUMBER(P43),Q42+P43,0),0) -> 0 | R43: =O43*P43 -> 0 | S43: =L43&B43 | T43: =M43&B43 | U43: =M43&E43
B44: =IF(E44="","",MONTH(E44)) | C44: =IF(E44="","",INT((E44-SUM(MOD(DATE(YEAR(E44-MOD(E44-2,7)+3),1,2),{1E+99;7})*{1;-1})+5)/7)) | D44: =IF(E44="","",E44) | G44: =IF(ISERROR(VLOOKUP(F44,TabelKlanten,2,FALSE)),"",VLOOKUP(F44,TabelKlanten,2,FALSE)) | I44: =IF(ISERROR(VLOOKUP(H44,TabelProjecten,2,FALSE)),"",VLOOKUP(H44,TabelProjecten,2,FALSE)) | L44: =IF(ISERROR(VLOOKUP(K44,UrenTabel,3,FALSE)),"",VLOOKUP(K44,UrenTabel,3,FALSE)) | M44: =IF(ISERROR(VLOOKUP(K44,UrenTabel,2,FALSE)),"",VLOOKUP(K44,UrenTabel,2,FALSE)) | P44: 0 | Q44: =IF(ISNUMBER(Q43),IF(ISNUMBER(P44),Q43+P44,0),0) -> 0 | R44: =O44*P44 -> 0 | U44: =M44&E44
B45: =IF(E45="","",MONTH(E45)) | C45: =IF(E45="","",INT((E45-SUM(MOD(DATE(YEAR(E45-MOD(E45-2,7)+3),1,2),{1E+99;7})*{1;-1})+5)/7)) | D45: =IF(E45="","",E45) | G45: =IF(ISERROR(VLOOKUP(F45,TabelKlanten,2,FALSE)),"",VLOOKUP(F45,TabelKlanten,2,FALSE)) | I45: =IF(ISERROR(VLOOKUP(H45,TabelProjecten,2,FALSE)),"",VLOOKUP(H45,TabelProjecten,2,FALSE)) | L45: =IF(ISERROR(VLOOKUP(K45,UrenTabel,3,FALSE)),"",VLOOKUP(K45,UrenTabel,3,FALSE)) | M45: =IF(ISERROR(VLOOKUP(K45,UrenTabel,2,FALSE)),"",VLOOKUP(K45,UrenTabel,2,FALSE)) | P45: 0 | Q45: =IF(ISNUMBER(Q44),IF(ISNUMBER(P45),Q44+P45,0),0) -> 0 | R45: =O45*P45 -> 0 | S45: =L45&B45 | T45: =M45&B45 | U45: =M45&E45
B46: =IF(E46="","",MONTH(E46)) | C46: =IF(E46="","",INT((E46-SUM(MOD(DATE(YEAR(E46-MOD(E46-2,7)+3),1,2),{1E+99;7})*{1;-1})+5)/7)) | D46: =IF(E46="","",E46) | G46: =IF(ISERROR(VLOOKUP(F46,TabelKlanten,2,FALSE)),"",VLOOKUP(F46,TabelKlanten,2,FALSE)) | I46: =IF(ISERROR(VLOOKUP(H46,TabelProjecten,2,FALSE)),"",VLOOKUP(H46,TabelProjecten,2,FALSE)) | L46: =IF(ISERROR(VLOOKUP(K46,UrenTabel,3,FALSE)),"",VLOOKUP(K46,UrenTabel,3,FALSE)) | M46: =IF(ISERROR(VLOOKUP(K46,UrenTabel,2,FALSE)),"",VLOOKUP(K46,UrenTabel,2,FALSE)) | P46: 0 | Q46: =IF(ISNUMBER(Q45),IF(ISNUMBER(P46),Q45+P46,0),0) -> 0 | R46: =O46*P46 -> 0 | S46: =L46&B46 | T46: =M46&B46 | U46: =M46&E46
B47: =IF(E47="","",MONTH(E47)) | C47: =IF(E47="","",INT((E47-SUM(MOD(DATE(YEAR(E47-MOD(E47-2,7)+3),1,2),{1E+99;7})*{1;-1})+5)/7)) | D47: =IF(E47="","",E47) | G47: =IF(ISERROR(VLOOKUP(F47,TabelKlanten,2,FALSE)),"",VLOOKUP(F47,TabelKlanten,2,FALSE)) | I47: =IF(ISERROR(VLOOKUP(H47,TabelProjecten,2,FALSE)),"",VLOOKUP(H47,TabelProjecten,2,FALSE)) | L47: =IF(ISERROR(VLOOKUP(K47,UrenTabel,3,FALSE)),"",VLOOKUP(K47,UrenTabel,3,FALSE)) | M47: =IF(ISERROR(VLOOKUP(K47,UrenTabel,2,FALSE)),"",VLOOKUP(K47,UrenTabel,2,FALSE)) | P47: 0 | Q47: =IF(ISNUMBER(Q46),IF(ISNUMBER(P47),Q46+P47,0),0) -> 0 | R47: =O47*P47 -> 0 | S47: =L47&B47 | T47: =M47&B47 | U47: =M47&E47
B48: =IF(E48="","",MONTH(E48)) | C48: =IF(E48="","",INT((E48-SUM(MOD(DATE(YEAR(E48-MOD(E48-2,7)+3),1,2),{1E+99;7})*{1;-1})+5)/7)) | D48: =IF(E48="","",E48) | G48: =IF(ISERROR(VLOOKUP(F48,TabelKlanten,2,FALSE)),"",VLOOKUP(F48,TabelKlanten,2,FALSE)) | I48: =IF(ISERROR(VLOOKUP(H48,TabelProjecten,2,FALSE)),"",VLOOKUP(H48,TabelProjecten,2,FALSE)) | L48: =IF(ISERROR(VLOOKUP(K48,UrenTabel,3,FALSE)),"",VLOOKUP(K48,UrenTabel,3,FALSE)) | M48: =IF(ISERROR(VLOOKUP(K48,UrenTabel,2,FALSE)),"",VLOOKUP(K48,UrenTabel,2,FALSE)) | P48: 0 | Q48: =IF(ISNUMBER(Q47),IF(ISNUMBER(P48),Q47+P48,0),0) -> 0 | R48: =O48*P48 -> 0 | U48: =M48&E48
B49: =IF(E49="","",MONTH(E49)) | C49: =IF(E49="","",INT((E49-SUM(MOD(DATE(YEAR(E49-MOD(E49-2,7)+3),1,2),{1E+99;7})*{1;-1})+5)/7)) | D49: =IF(E49="","",E49) | G49: =IF(ISERROR(VLOOKUP(F49,TabelKlanten,2,FALSE)),"",VLOOKUP(F49,TabelKlanten,2,FALSE)) | I49: =IF(ISERROR(VLOOKUP(H49,TabelProjecten,2,FALSE)),"",VLOOKUP(H49,TabelProjecten,2,FALSE)) | L49: =IF(ISERROR(VLOOKUP(K49,UrenTabel,3,FALSE)),"",VLOOKUP(K49,UrenTabel,3,FALSE)) | M49: =IF(ISERROR(VLOOKUP(K49,UrenTabel,2,FALSE)),"",VLOOKUP(K49,UrenTabel,2,FALSE)) | P49: 0 | Q49: =IF(ISNUMBER(Q48),IF(ISNUMBER(P49),Q48+P49,0),0) -> 0 | R49: =O49*P49 -> 0 | U49: =M49&E49
B50: =IF(E50="","",MONTH(E50)) | C50: =IF(E50="","",INT((E50-SUM(MOD(DATE(YEAR(E50-MOD(E50-2,7)+3),1,2),{1E+99;7})*{1;-1})+5)/7)) | D50: =IF(E50="","",E50) | G50: =IF(ISERROR(VLOOKUP(F50,TabelKlanten,2,FALSE)),"",VLOOKUP(F50,TabelKlanten,2,FALSE)) | I50: =IF(ISERROR(VLOOKUP(H50,TabelProjecten,2,FALSE)),"",VLOOKUP(H50,TabelProjecten,2,FALSE)) | L50: =IF(ISERROR(VLOOKUP(K50,UrenTabel,3,FALSE)),"",VLOOKUP(K50,UrenTabel,3,FALSE)) | M50: =IF(ISERROR(VLOOKUP(K50,UrenTabel,2,FALSE)),"",VLOOKUP(K50,UrenTabel,2,FALSE)) | P50: 0 | Q50: =IF(ISNUMBER(Q49),IF(ISNUMBER(P50),Q49+P50,0),0) -> 0 | R50: =O50*P50 -> 0 | U50: =M50&E50
B51: =IF(E51="","",MONTH(E51)) | C51: =IF(E51="","",INT((E51-SUM(MOD(DATE(YEAR(E51-MOD(E51-2,7)+3),1,2),{1E+99;7})*{1;-1})+5)/7)) | D51: =IF(E51="","",E51) | G51: =IF(ISERROR(VLOOKUP(F51,TabelKlanten,2,FALSE)),"",VLOOKUP(F51,TabelKlanten,2,FALSE)) | I51: =IF(ISERROR(VLOOKUP(H51,TabelProjecten,2,FALSE)),"",VLOOKUP(H51,TabelProjecten,2,FALSE)) | L51: =IF(ISERROR(VLOOKUP(K51,UrenTabel,3,FALSE)),"",VLOOKUP(K51,UrenTabel,3,FALSE)) | M51: =IF(ISERROR(VLOOKUP(K51,UrenTabel,2,FALSE)),"",VLOOKUP(K51,UrenTabel,2,FALSE)) | P51: 0 | Q51: =IF(ISNUMBER(Q50),IF(ISNUMBER(P51),Q50+P51,0),0) -> 0 | R51: =O51*P51 -> 0 | U51: =M51&E51
B52: =IF(E52="","",MONTH(E52)) | C52: =IF(E52="","",INT((E52-SUM(MOD(DATE(YEAR(E52-MOD(E52-2,7)+3),1,2),{1E+99;7})*{1;-1})+5)/7)) | D52: =IF(E52="","",E52) | G52: =IF(ISERROR(VLOOKUP(F52,TabelKlanten,2,FALSE)),"",VLOOKUP(F52,TabelKlanten,2,FALSE)) | I52: =IF(ISERROR(VLOOKUP(H52,TabelProjecten,2,FALSE)),"",VLOOKUP(H52,TabelProjecten,2,FALSE)) | L52: =IF(ISERROR(VLOOKUP(K52,UrenTabel,3,FALSE)),"",VLOOKUP(K52,UrenTabel,3,FALSE)) | M52: =IF(ISERROR(VLOOKUP(K52,UrenTabel,2,FALSE)),"",VLOOKUP(K52,UrenTabel,2,FALSE)) | P52: 0 | Q52: =IF(ISNUMBER(Q51),IF(ISNUMBER(P52),Q51+P52,0),0) -> 0 | R52: =O52*P52 -> 0 | U52: =M52&E52
B53: =IF(E53="","",MONTH(E53)) | C53: =IF(E53="","",INT((E53-SUM(MOD(DATE(YEAR(E53-MOD(E53-2,7)+3),1,2),{1E+99;7})*{1;-1})+5)/7)) | D53: =IF(E53="","",E53) | G53: =IF(ISERROR(VLOOKUP(F53,TabelKlanten,2,FALSE)),"",VLOOKUP(F53,TabelKlanten,2,FALSE)) | I53: =IF(ISERROR(VLOOKUP(H53,TabelProjecten,2,FALSE)),"",VLOOKUP(H53,TabelProjecten,2,FALSE)) | L53: =IF(ISERROR(VLOOKUP(K53,UrenTabel,3,FALSE)),"",VLOOKUP(K53,UrenTabel,3,FALSE)) | M53: =IF(ISERROR(VLOOKUP(K53,UrenTabel,2,FALSE)),"",VLOOKUP(K53,UrenTabel,2,FALSE)) | P53: 0 | Q53: =IF(ISNUMBER(Q52),IF(ISNUMBER(P53),Q52+P53,0),0) -> 0 | R53: =O53*P53 -> 0 | U53: =M53&E53
B54: =IF(E54="","",MONTH(E54)) | C54: =IF(E54="","",INT((E54-SUM(MOD(DATE(YEAR(E54-MOD(E54-2,7)+3),1,2),{1E+99;7})*{1;-1})+5)/7)) | D54: =IF(E54="","",E54) | G54: =IF(ISERROR(VLOOKUP(F54,TabelKlanten,2,FALSE)),"",VLOOKUP(F54,TabelKlanten,2,FALSE)) | I54: =IF(ISERROR(VLOOKUP(H54,TabelProjecten,2,FALSE)),"",VLOOKUP(H54,TabelProjecten,2,FALSE)) | L54: =IF(ISERROR(VLOOKUP(K54,UrenTabel,3,FALSE)),"",VLOOKUP(K54,UrenTabel,3,FALSE)) | M54: =IF(ISERROR(VLOOKUP(K54,UrenTabel,2,FALSE)),"",VLOOKUP(K54,UrenTabel,2,FALSE)) | P54: 0 | Q54: =IF(ISNUMBER(Q53),IF(ISNUMBER(P54),Q53+P54,0),0) -> 0 | R54: =O54*P54 -> 0 | U54: =M54&E54
B55: =IF(E55="","",MONTH(E55)) | C55: =IF(E55="","",INT((E55-SUM(MOD(DATE(YEAR(E55-MOD(E55-2,7)+3),1,2),{1E+99;7})*{1;-1})+5)/7)) | D55: =IF(E55="","",E55) | G55: =IF(ISERROR(VLOOKUP(F55,TabelKlanten,2,FALSE)),"",VLOOKUP(F55,TabelKlanten,2,FALSE)) | I55: =IF(ISERROR(VLOOKUP(H55,TabelProjecten,2,FALSE)),"",VLOOKUP(H55,TabelProjecten,2,FALSE)) | L55: =IF(ISERROR(VLOOKUP(K55,UrenTabel,3,FALSE)),"",VLOOKUP(K55,UrenTabel,3,FALSE)) | M55: =IF(ISERROR(VLOOKUP(K55,UrenTabel,2,FALSE)),"",VLOOKUP(K55,UrenTabel,2,FALSE)) | P55: 0 | Q55: =IF(ISNUMBER(Q54),IF(ISNUMBER(P55),Q54+P55,0),0) -> 0 | U55: =M55&E55
B56: =IF(E56="","",MONTH(E56)) | C56: =IF(E56="","",INT((E56-SUM(MOD(DATE(YEAR(E56-MOD(E56-2,7)+3),1,2),{1E+99;7})*{1;-1})+5)/7)) | D56: =IF(E56="","",E56) | G56: =IF(ISERROR(VLOOKUP(F56,TabelKlanten,2,FALSE)),"",VLOOKUP(F56,TabelKlanten,2,FALSE)) | I56: =IF(ISERROR(VLOOKUP(H56,TabelProjecten,2,FALSE)),"",VLOOKUP(H56,TabelProjecten,2,FALSE)) | L56: =IF(ISERROR(VLOOKUP(K56,UrenTabel,3,FALSE)),"",VLOOKUP(K56,UrenTabel,3,FALSE)) | M56: =IF(ISERROR(VLOOKUP(K56,UrenTabel,2,FALSE)),"",VLOOKUP(K56,UrenTabel,2,FALSE)) | P56: 0 | Q56: =IF(ISNUMBER(Q55),IF(ISNUMBER(P56),Q55+P56,0),0) -> 0 | R56: =O56*P56 -> 0 | S56: =L56&B56 | T56: =M56&B56 | U56: =M56&E56
B57: =IF(E57="","",MONTH(E57)) | C57: =IF(E57="","",INT((E57-SUM(MOD(DATE(YEAR(E57-MOD(E57-2,7)+3),1,2),{1E+99;7})*{1;-1})+5)/7)) | D57: =IF(E57="","",E57) | G57: =IF(ISERROR(VLOOKUP(F57,TabelKlanten,2,FALSE)),"",VLOOKUP(F57,TabelKlanten,2,FALSE)) | I57: =IF(ISERROR(VLOOKUP(H57,TabelProjecten,2,FALSE)),"",VLOOKUP(H57,TabelProjecten,2,FALSE)) | L57: =IF(ISERROR(VLOOKUP(K57,UrenTabel,3,FALSE)),"",VLOOKUP(K57,UrenTabel,3,FALSE)) | M57: =IF(ISERROR(VLOOKUP(K57,UrenTabel,2,FALSE)),"",VLOOKUP(K57,UrenTabel,2,FALSE)) | P57: 0 | Q57: =IF(ISNUMBER(Q56),IF(ISNUMBER(P57),Q56+P57,0),0) -> 0 | R57: =O57*P57 -> 0 | S57: =L57&B57 | T57: =M57&B57 | U57: =M57&E57
B58: =IF(E58="","",MONTH(E58)) | C58: =IF(E58="","",INT((E58-SUM(MOD(DATE(YEAR(E58-MOD(E58-2,7)+3),1,2),{1E+99;7})*{1;-1})+5)/7)) | D58: =IF(E58="","",E58) | G58: =IF(ISERROR(VLOOKUP(F58,TabelKlanten,2,FALSE)),"",VLOOKUP(F58,TabelKlanten,2,FALSE)) | I58: =IF(ISERROR(VLOOKUP(H58,TabelProjecten,2,FALSE)),"",VLOOKUP(H58,TabelProjecten,2,FALSE)) | L58: =IF(ISERROR(VLOOKUP(K58,UrenTabel,3,FALSE)),"",VLOOKUP(K58,UrenTabel,3,FALSE)) | M58: =IF(ISERROR(VLOOKUP(K58,UrenTabel,2,FALSE)),"",VLOOKUP(K58,UrenTabel,2,FALSE)) | P58: 0 | Q58: =IF(ISNUMBER(Q57),IF(ISNUMBER(P58),Q57+P58,0),0) -> 0 | R58: =O58*P58 -> 0 | S58: =L58&B58 | T58: =M58&B58 | U58: =M58&E58
B59: =IF(E59="","",MONTH(E59)) | C59: =IF(E59="","",INT((E59-SUM(MOD(DATE(YEAR(E59-MOD(E59-2,7)+3),1,2),{1E+99;7})*{1;-1})+5)/7)) | D59: =IF(E59="","",E59) | G59: =IF(ISERROR(VLOOKUP(F59,TabelKlanten,2,FALSE)),"",VLOOKUP(F59,TabelKlanten,2,FALSE)) | I59: =IF(ISERROR(VLOOKUP(H59,TabelProjecten,2,FALSE)),"",VLOOKUP(H59,TabelProjecten,2,FALSE)) | L59: =IF(ISERROR(VLOOKUP(K59,UrenTabel,3,FALSE)),"",VLOOKUP(K59,UrenTabel,3,FALSE)) | M59: =IF(ISERROR(VLOOKUP(K59,UrenTabel,2,FALSE)),"",VLOOKUP(K59,UrenTabel,2,FALSE)) | P59: 0 | Q59: =IF(ISNUMBER(Q58),IF(ISNUMBER(P59),Q58+P59,0),0) -> 0 | U59: =M59&E59
B60: =IF(E60="","",MONTH(E60)) | C60: =IF(E60="","",INT((E60-SUM(MOD(DATE(YEAR(E60-MOD(E60-2,7)+3),1,2),{1E+99;7})*{1;-1})+5)/7)) | D60: =IF(E60="","",E60) | G60: =IF(ISERROR(VLOOKUP(F60,TabelKlanten,2,FALSE)),"",VLOOKUP(F60,TabelKlanten,2,FALSE)) | I60: =IF(ISERROR(VLOOKUP(H60,TabelProjecten,2,FALSE)),"",VLOOKUP(H60,TabelProjecten,2,FALSE)) | L60: =IF(ISERROR(VLOOKUP(K60,UrenTabel,3,FALSE)),"",VLOOKUP(K60,UrenTabel,3,FALSE)) | M60: =IF(ISERROR(VLOOKUP(K60,UrenTabel,2,FALSE)),"",VLOOKUP(K60,UrenTabel,2,FALSE)) | P60: 0 | Q60: =IF(ISNUMBER(Q59),IF(ISNUMBER(P60),Q59+P60,0),0) -> 0 | R60: =O60*P60 -> 0 | S60: =L60&B60 | T60: =M60&B60 | U60: =M60&E60
B61: =IF(E61="","",MONTH(E61)) | C61: =IF(E61="","",INT((E61-SUM(MOD(DATE(YEAR(E61-MOD(E61-2,7)+3),1,2),{1E+99;7})*{1;-1})+5)/7)) | D61: =IF(E61="","",E61) | G61: =IF(ISERROR(VLOOKUP(F61,TabelKlanten,2,FALSE)),"",VLOOKUP(F61,TabelKlanten,2,FALSE)) | I61: =IF(ISERROR(VLOOKUP(H61,TabelProjecten,2,FALSE)),"",VLOOKUP(H61,TabelProjecten,2,FALSE)) | L61: =IF(ISERROR(VLOOKUP(K61,UrenTabel,3,FALSE)),"",VLOOKUP(K61,UrenTabel,3,FALSE)) | M61: =IF(ISERROR(VLOOKUP(K61,UrenTabel,2,FALSE)),"",VLOOKUP(K61,UrenTabel,2,FALSE)) | P61: 0 | Q61: =IF(ISNUMBER(Q60),IF(ISNUMBER(P61),Q60+P61,0),0) -> 0 | R61: =O61*P61 -> 0 | S61: =L61&B61 | T61: =M61&B61 | U61: =M61&E61
B62: =IF(E62="","",MONTH(E62)) | C62: =IF(E62="","",INT((E62-SUM(MOD(DATE(YEAR(E62-MOD(E62-2,7)+3),1,2),{1E+99;7})*{1;-1})+5)/7)) | D62: =IF(E62="","",E62) | G62: =IF(ISERROR(VLOOKUP(F62,TabelKlanten,2,FALSE)),"",VLOOKUP(F62,TabelKlanten,2,FALSE)) | I62: =IF(ISERROR(VLOOKUP(H62,TabelProjecten,2,FALSE)),"",VLOOKUP(H62,TabelProjecten,2,FALSE)) | L62: =IF(ISERROR(VLOOKUP(K62,UrenTabel,3,FALSE)),"",VLOOKUP(K62,UrenTabel,3,FALSE)) | M62: =IF(ISERROR(VLOOKUP(K62,UrenTabel,2,FALSE)),"",VLOOKUP(K62,UrenTabel,2,FALSE)) | P62: 0 | Q62: =IF(ISNUMBER(Q61),IF(ISNUMBER(P62),Q61+P62,0),0) -> 0 | R62: =O62*P62 -> 0
B63: =IF(E63="","",MONTH(E63)) | C63: =IF(E63="","",INT((E63-SUM(MOD(DATE(YEAR(E63-MOD(E63-2,7)+3),1,2),{1E+99;7})*{1;-1})+5)/7)) | D63: =IF(E63="","",E63) | G63: =IF(ISERROR(VLOOKUP(F63,TabelKlanten,2,FALSE)),"",VLOOKUP(F63,TabelKlanten,2,FALSE)) | I63: =IF(ISERROR(VLOOKUP(H63,TabelProjecten,2,FALSE)),"",VLOOKUP(H63,TabelProjecten,2,FALSE)) | L63: =IF(ISERROR(VLOOKUP(K63,UrenTabel,3,FALSE)),"",VLOOKUP(K63,UrenTabel,3,FALSE)) | M63: =IF(ISERROR(VLOOKUP(K63,UrenTabel,2,FALSE)),"",VLOOKUP(K63,UrenTabel,2,FALSE)) | P63: 0 | Q63: =IF(ISNUMBER(Q62),IF(ISNUMBER(P63),Q62+P63,0),0) -> 0 | R63: =O63*P63 -> 0 | S63: =L63&B63 | T63: =M63&B63 | U63: =M63&E63
B64: =IF(E64="","",MONTH(E64)) | C64: =IF(E64="","",INT((E64-SUM(MOD(DATE(YEAR(E64-MOD(E64-2,7)+3),1,2),{1E+99;7})*{1;-1})+5)/7)) | D64: =IF(E64="","",E64) | G64: =IF(ISERROR(VLOOKUP(F64,TabelKlanten,2,FALSE)),"",VLOOKUP(F64,TabelKlanten,2,FALSE)) | I64: =IF(ISERROR(VLOOKUP(H64,TabelProjecten,2,FALSE)),"",VLOOKUP(H64,TabelProjecten,2,FALSE)) | L64: =IF(ISERROR(VLOOKUP(K64,UrenTabel,3,FALSE)),"",VLOOKUP(K64,UrenTabel,3,FALSE)) | M64: =IF(ISERROR(VLOOKUP(K64,UrenTabel,2,FALSE)),"",VLOOKUP(K64,UrenTabel,2,FALSE)) | P64: 0 | Q64: =IF(ISNUMBER(Q63),IF(ISNUMBER(P64),Q63+P64,0),0) -> 0 | R64: =O64*P64 -> 0 | S64: =L64&B64 | T64: =M64&B64 | U64: =M64&E64
B65: =IF(E65="","",MONTH(E65)) | C65: =IF(E65="","",INT((E65-SUM(MOD(DATE(YEAR(E65-MOD(E65-2,7)+3),1,2),{1E+99;7})*{1;-1})+5)/7)) | D65: =IF(E65="","",E65) | G65: =IF(ISERROR(VLOOKUP(F65,TabelKlanten,2,FALSE)),"",VLOOKUP(F65,TabelKlanten,2,FALSE)) | I65: =IF(ISERROR(VLOOKUP(H65,TabelProjecten,2,FALSE)),"",VLOOKUP(H65,TabelProjecten,2,FALSE)) | L65: =IF(ISERROR(VLOOKUP(K65,UrenTabel,3,FALSE)),"",VLOOKUP(K65,UrenTabel,3,FALSE)) | M65: =IF(ISERROR(VLOOKUP(K65,UrenTabel,2,FALSE)),"",VLOOKUP(K65,UrenTabel,2,FALSE)) | P65: 0 | Q65: =IF(ISNUMBER(Q64),IF(ISNUMBER(P65),Q64+P65,0),0) -> 0 | R65: =O65*P65 -> 0 | S65: =L65&B65 | T65: =M65&B65 | U65: =M65&E65
B66: =IF(E66="","",MONTH(E66)) | C66: =IF(E66="","",INT((E66-SUM(MOD(DATE(YEAR(E66-MOD(E66-2,7)+3),1,2),{1E+99;7})*{1;-1})+5)/7)) | D66: =IF(E66="","",E66) | G66: =IF(ISERROR(VLOOKUP(F66,TabelKlanten,2,FALSE)),"",VLOOKUP(F66,TabelKlanten,2,FALSE)) | I66: =IF(ISERROR(VLOOKUP(H66,TabelProjecten,2,FALSE)),"",VLOOKUP(H66,TabelProjecten,2,FALSE)) | L66: =IF(ISERROR(VLOOKUP(K66,UrenTabel,3,FALSE)),"",VLOOKUP(K66,UrenTabel,3,FALSE)) | M66: =IF(ISERROR(VLOOKUP(K66,UrenTabel,2,FALSE)),"",VLOOKUP(K66,UrenTabel,2,FALSE)) | P66: 0 | Q66: =IF(ISNUMBER(Q65),IF(ISNUMBER(P66),Q65+P66,0),0) -> 0 | R66: =O66*P66 -> 0
B67: =IF(E67="","",MONTH(E67)) | C67: =IF(E67="","",INT((E67-SUM(MOD(DATE(YEAR(E67-MOD(E67-2,7)+3),1,2),{1E+99;7})*{1;-1})+5)/7)) | D67: =IF(E67="","",E67) | G67: =IF(ISERROR(VLOOKUP(F67,TabelKlanten,2,FALSE)),"",VLOOKUP(F67,TabelKlanten,2,FALSE)) | I67: =IF(ISERROR(VLOOKUP(H67,TabelProjecten,2,FALSE)),"",VLOOKUP(H67,TabelProjecten,2,FALSE)) | L67: =IF(ISERROR(VLOOKUP(K67,UrenTabel,3,FALSE)),"",VLOOKUP(K67,UrenTabel,3,FALSE)) | M67: =IF(ISERROR(VLOOKUP(K67,UrenTabel,2,FALSE)),"",VLOOKUP(K67,UrenTabel,2,FALSE)) | P67: 0 | Q67: =IF(ISNUMBER(Q66),IF(ISNUMBER(P67),Q66+P67,0),0) -> 0
B68: =IF(E68="","",MONTH(E68)) | C68: =IF(E68="","",INT((E68-SUM(MOD(DATE(YEAR(E68-MOD(E68-2,7)+3),1,2),{1E+99;7})*{1;-1})+5)/7)) | D68: =IF(E68="","",E68) | G68: =IF(ISERROR(VLOOKUP(F68,TabelKlanten,2,FALSE)),"",VLOOKUP(F68,TabelKlanten,2,FALSE)) | I68: =IF(ISERROR(VLOOKUP(H68,TabelProjecten,2,FALSE)),"",VLOOKUP(H68,TabelProjecten,2,FALSE)) | L68: =IF(ISERROR(VLOOKUP(K68,UrenTabel,3,FALSE)),"",VLOOKUP(K68,UrenTabel,3,FALSE)) | M68: =IF(ISERROR(VLOOKUP(K68,UrenTabel,2,FALSE)),"",VLOOKUP(K68,UrenTabel,2,FALSE)) | P68: 0 | Q68: =IF(ISNUMBER(Q67),IF(ISNUMBER(P68),Q67+P68,0),0) -> 0
B69: =IF(E69="","",MONTH(E69)) | C69: =IF(E69="","",INT((E69-SUM(MOD(DATE(YEAR(E69-MOD(E69-2,7)+3),1,2),{1E+99;7})*{1;-1})+5)/7)) | D69: =IF(E69="","",E69) | G69: =IF(ISERROR(VLOOKUP(F69,TabelKlanten,2,FALSE)),"",VLOOKUP(F69,TabelKlanten,2,FALSE)) | I69: =IF(ISERROR(VLOOKUP(H69,TabelProjecten,2,FALSE)),"",VLOOKUP(H69,TabelProjecten,2,FALSE)) | L69: =IF(ISERROR(VLOOKUP(K69,UrenTabel,3,FALSE)),"",VLOOKUP(K69,UrenTabel,3,FALSE)) | M69: =IF(ISERROR(VLOOKUP(K69,UrenTabel,2,FALSE)),"",VLOOKUP(K69,UrenTabel,2,FALSE)) | P69: 0 | Q69: =IF(ISNUMBER(Q68),IF(ISNUMBER(P69),Q68+P69,0),0) -> 0
B70: =IF(E70="","",MONTH(E70)) | C70: =IF(E70="","",INT((E70-SUM(MOD(DATE(YEAR(E70-MOD(E70-2,7)+3),1,2),{1E+99;7})*{1;-1})+5)/7)) | D70: =IF(E70="","",E70) | G70: =IF(ISERROR(VLOOKUP(F70,TabelKlanten,2,FALSE)),"",VLOOKUP(F70,TabelKlanten,2,FALSE)) | I70: =IF(ISERROR(VLOOKUP(H70,TabelProjecten,2,FALSE)),"",VLOOKUP(H70,TabelProjecten,2,FALSE)) | L70: =IF(ISERROR(VLOOKUP(K70,UrenTabel,3,FALSE)),"",VLOOKUP(K70,UrenTabel,3,FALSE)) | M70: =IF(ISERROR(VLOOKUP(K70,UrenTabel,2,FALSE)),"",VLOOKUP(K70,UrenTabel,2,FALSE)) | P70: 0 | Q70: =IF(ISNUMBER(Q69),IF(ISNUMBER(P70),Q69+P70,0),0) -> 0
B71: =IF(E71="","",MONTH(E71)) | C71: =IF(E71="","",INT((E71-SUM(MOD(DATE(YEAR(E71-MOD(E71-2,7)+3),1,2),{1E+99;7})*{1;-1})+5)/7)) | D71: =IF(E71="","",E71) | G71: =IF(ISERROR(VLOOKUP(F71,TabelKlanten,2,FALSE)),"",VLOOKUP(F71,TabelKlanten,2,FALSE)) | I71: =IF(ISERROR(VLOOKUP(H71,TabelProjecten,2,FALSE)),"",VLOOKUP(H71,TabelProjecten,2,FALSE)) | L71: =IF(ISERROR(VLOOKUP(K71,UrenTabel,3,FALSE)),"",VLOOKUP(K71,UrenTabel,3,FALSE)) | M71: =IF(ISERROR(VLOOKUP(K71,UrenTabel,2,FALSE)),"",VLOOKUP(K71,UrenTabel,2,FALSE)) | P71: 0 | Q71: =IF(ISNUMBER(Q70),IF(ISNUMBER(P71),Q70+P71,0),0) -> 0 | R71: =O71*P71 -> 0 | S71: =L71&B71 | T71: =M71&B71 | U71: =M71&E71
B72: =IF(E72="","",MONTH(E72)) | C72: =IF(E72="","",INT((E72-SUM(MOD(DATE(YEAR(E72-MOD(E72-2,7)+3),1,2),{1E+99;7})*{1;-1})+5)/7)) | D72: =IF(E72="","",E72) | G72: =IF(ISERROR(VLOOKUP(F72,TabelKlanten,2,FALSE)),"",VLOOKUP(F72,TabelKlanten,2,FALSE)) | I72: =IF(ISERROR(VLOOKUP(H72,TabelProjecten,2,FALSE)),"",VLOOKUP(H72,TabelProjecten,2,FALSE)) | L72: =IF(ISERROR(VLOOKUP(K72,UrenTabel,3,FALSE)),"",VLOOKUP(K72,UrenTabel,3,FALSE)) | M72: =IF(ISERROR(VLOOKUP(K72,UrenTabel,2,FALSE)),"",VLOOKUP(K72,UrenTabel,2,FALSE)) | P72: 0 | Q72: =IF(ISNUMBER(Q71),IF(ISNUMBER(P72),Q71+P72,0),0) -> 0 | R72: =O72*P72 -> 0 | S72: =L72&B72 | T72: =M72&B72 | U72: =M72&E72
B73: =IF(E73="","",MONTH(E73)) | C73: =IF(E73="","",INT((E73-SUM(MOD(DATE(YEAR(E73-MOD(E73-2,7)+3),1,2),{1E+99;7})*{1;-1})+5)/7)) | D73: =IF(E73="","",E73) | G73: =IF(ISERROR(VLOOKUP(F73,TabelKlanten,2,FALSE)),"",VLOOKUP(F73,TabelKlanten,2,FALSE)) | I73: =IF(ISERROR(VLOOKUP(H73,TabelProjecten,2,FALSE)),"",VLOOKUP(H73,TabelProjecten,2,FALSE)) | L73: =IF(ISERROR(VLOOKUP(K73,UrenTabel,3,FALSE)),"",VLOOKUP(K73,UrenTabel,3,FALSE)) | M73: =IF(ISERROR(VLOOKUP(K73,UrenTabel,2,FALSE)),"",VLOOKUP(K73,UrenTabel,2,FALSE)) | P73: 0 | Q73: =IF(ISNUMBER(Q72),IF(ISNUMBER(P73),Q72+P73,0),0) -> 0 | R73: =O73*P73 -> 0 | S73: =L73&B73 | T73: =M73&B73 | U73: =M73&E73
B74: =IF(E74="","",MONTH(E74)) | C74: =IF(E74="","",INT((E74-SUM(MOD(DATE(YEAR(E74-MOD(E74-2,7)+3),1,2),{1E+99;7})*{1;-1})+5)/7)) | D74: =IF(E74="","",E74) | G74: =IF(ISERROR(VLOOKUP(F74,TabelKlanten,2,FALSE)),"",VLOOKUP(F74,TabelKlanten,2,FALSE)) | I74: =IF(ISERROR(VLOOKUP(H74,TabelProjecten,2,FALSE)),"",VLOOKUP(H74,TabelProjecten,2,FALSE)) | L74: =IF(ISERROR(VLOOKUP(K74,UrenTabel,3,FALSE)),"",VLOOKUP(K74,UrenTabel,3,FALSE)) | M74: =IF(ISERROR(VLOOKUP(K74,UrenTabel,2,FALSE)),"",VLOOKUP(K74,UrenTabel,2,FALSE)) | P74: 0 | Q74: =IF(ISNUMBER(Q73),IF(ISNUMBER(P74),Q73+P74,0),0) -> 0 | R74: =O74*P74 -> 0 | S74: =L74&B74 | T74: =M74&B74 | U74: =M74&E74
B75: =IF(E75="","",MONTH(E75)) | C75: =IF(E75="","",INT((E75-SUM(MOD(DATE(YEAR(E75-MOD(E75-2,7)+3),1,2),{1E+99;7})*{1;-1})+5)/7)) | D75: =IF(E75="","",E75) | G75: =IF(ISERROR(VLOOKUP(F75,TabelKlanten,2,FALSE)),"",VLOOKUP(F75,TabelKlanten,2,FALSE)) | I75: =IF(ISERROR(VLOOKUP(H75,TabelProjecten,2,FALSE)),"",VLOOKUP(H75,TabelProjecten,2,FALSE)) | L75: =IF(ISERROR(VLOOKUP(K75,UrenTabel,3,FALSE)),"",VLOOKUP(K75,UrenTabel,3,FALSE)) | M75: =IF(ISERROR(VLOOKUP(K75,UrenTabel,2,FALSE)),"",VLOOKUP(K75,UrenTabel,2,FALSE)) | P75: 0 | Q75: =IF(ISNUMBER(Q74),IF(ISNUMBER(P75),Q74+P75,0),0) -> 0 | R75: =O75*P75 -> 0 | S75: =L75&B75 | T75: =M75&B75 | U75: =M75&E75
B76: =IF(E76="","",MONTH(E76)) | C76: =IF(E76="","",INT((E76-SUM(MOD(DATE(YEAR(E76-MOD(E76-2,7)+3),1,2),{1E+99;7})*{1;-1})+5)/7)) | D76: =IF(E76="","",E76) | G76: =IF(ISERROR(VLOOKUP(F76,TabelKlanten,2,FALSE)),"",VLOOKUP(F76,TabelKlanten,2,FALSE)) | I76: =IF(ISERROR(VLOOKUP(H76,TabelProjecten,2,FALSE)),"",VLOOKUP(H76,TabelProjecten,2,FALSE)) | L76: =IF(ISERROR(VLOOKUP(K76,UrenTabel,3,FALSE)),"",VLOOKUP(K76,UrenTabel,3,FALSE)) | M76: =IF(ISERROR(VLOOKUP(K76,UrenTabel,2,FALSE)),"",VLOOKUP(K76,UrenTabel,2,FALSE)) | P76: 0 | Q76: =IF(ISNUMBER(Q75),IF(ISNUMBER(P76),Q75+P76,0),0) -> 0 | R76: =O76*P76 -> 0 | S76: =L76&B76 | T76: =M76&B76 | U76: =M76&E76
B77: =IF(E77="","",MONTH(E77)) | C77: =IF(E77="","",INT((E77-SUM(MOD(DATE(YEAR(E77-MOD(E77-2,7)+3),1,2),{1E+99;7})*{1;-1})+5)/7)) | D77: =IF(E77="","",E77) | G77: =IF(ISERROR(VLOOKUP(F77,TabelKlanten,2,FALSE)),"",VLOOKUP(F77,TabelKlanten,2,FALSE)) | I77: =IF(ISERROR(VLOOKUP(H77,TabelProjecten,2,FALSE)),"",VLOOKUP(H77,TabelProjecten,2,FALSE)) | L77: =IF(ISERROR(VLOOKUP(K77,UrenTabel,3,FALSE)),"",VLOOKUP(K77,UrenTabel,3,FALSE)) | M77: =IF(ISERROR(VLOOKUP(K77,UrenTabel,2,FALSE)),"",VLOOKUP(K77,UrenTabel,2,FALSE)) | P77: 0 | Q77: =IF(ISNUMBER(Q76),IF(ISNUMBER(P77),Q76+P77,0),0) -> 0 | R77: =O77*P77 -> 0 | S77: =L77&B77 | T77: =M77&B77 | U77: =M77&E77
B78: =IF(E78="","",MONTH(E78)) | C78: =IF(E78="","",INT((E78-SUM(MOD(DATE(YEAR(E78-MOD(E78-2,7)+3),1,2),{1E+99;7})*{1;-1})+5)/7)) | D78: =IF(E78="","",E78) | G78: =IF(ISERROR(VLOOKUP(F78,TabelKlanten,2,FALSE)),"",VLOOKUP(F78,TabelKlanten,2,FALSE)) | I78: =IF(ISERROR(VLOOKUP(H78,TabelProjecten,2,FALSE)),"",VLOOKUP(H78,TabelProjecten,2,FALSE)) | L78: =IF(ISERROR(VLOOKUP(K78,UrenTabel,3,FALSE)),"",VLOOKUP(K78,UrenTabel,3,FALSE)) | M78: =IF(ISERROR(VLOOKUP(K78,UrenTabel,2,FALSE)),"",VLOOKUP(K78,UrenTabel,2,FALSE)) | P78: 0 | Q78: =IF(ISNUMBER(Q77),IF(ISNUMBER(P78),Q77+P78,0),0) -> 0 | R78: =O78*P78 -> 0 | S78: =L78&B78 | T78: =M78&B78 | U78: =M78&E78
B79: =IF(E79="","",MONTH(E79)) | C79: =IF(E79="","",INT((E79-SUM(MOD(DATE(YEAR(E79-MOD(E79-2,7)+3),1,2),{1E+99;7})*{1;-1})+5)/7)) | D79: =IF(E79="","",E79) | G79: =IF(ISERROR(VLOOKUP(F79,TabelKlanten,2,FALSE)),"",VLOOKUP(F79,TabelKlanten,2,FALSE)) | I79: =IF(ISERROR(VLOOKUP(H79,TabelProjecten,2,FALSE)),"",VLOOKUP(H79,TabelProjecten,2,FALSE)) | L79: =IF(ISERROR(VLOOKUP(K79,UrenTabel,3,FALSE)),"",VLOOKUP(K79,UrenTabel,3,FALSE)) | M79: =IF(ISERROR(VLOOKUP(K79,UrenTabel,2,FALSE)),"",VLOOKUP(K79,UrenTabel,2,FALSE)) | P79: 0 | Q79: =IF(ISNUMBER(Q78),IF(ISNUMBER(P79),Q78+P79,0),0) -> 0 | R79: =O79*P79 -> 0 | S79: =L79&B79 | T79: =M79&B79 | U79: =M79&E79
B80: =IF(E80="","",MONTH(E80)) | C80: =IF(E80="","",INT((E80-SUM(MOD(DATE(YEAR(E80-MOD(E80-2,7)+3),1,2),{1E+99;7})*{1;-1})+5)/7)) | D80: =IF(E80="","",E80) | G80: =IF(ISERROR(VLOOKUP(F80,TabelKlanten,2,FALSE)),"",VLOOKUP(F80,TabelKlanten,2,FALSE)) | I80: =IF(ISERROR(VLOOKUP(H80,TabelProjecten,2,FALSE)),"",VLOOKUP(H80,TabelProjecten,2,FALSE)) | L80: =IF(ISERROR(VLOOKUP(K80,UrenTabel,3,FALSE)),"",VLOOKUP(K80,UrenTabel,3,FALSE)) | M80: =IF(ISERROR(VLOOKUP(K80,UrenTabel,2,FALSE)),"",VLOOKUP(K80,UrenTabel,2,FALSE)) | P80: 0 | Q80: =IF(ISNUMBER(Q79),IF(ISNUMBER(P80),Q79+P80,0),0) -> 0 | R80: =O80*P80 -> 0 | S80: =L80&B80 | T80: =M80&B80 | U80: =M80&E80
B81: =IF(E81="","",MONTH(E81)) | C81: =IF(E81="","",INT((E81-SUM(MOD(DATE(YEAR(E81-MOD(E81-2,7)+3),1,2),{1E+99;7})*{1;-1})+5)/7)) | D81: =IF(E81="","",E81) | G81: =IF(ISERROR(VLOOKUP(F81,TabelKlanten,2,FALSE)),"",VLOOKUP(F81,TabelKlanten,2,FALSE)) | I81: =IF(ISERROR(VLOOKUP(H81,TabelProjecten,2,FALSE)),"",VLOOKUP(H81,TabelProjecten,2,FALSE)) | L81: =IF(ISERROR(VLOOKUP(K81,UrenTabel,3,FALSE)),"",VLOOKUP(K81,UrenTabel,3,FALSE)) | M81: =IF(ISERROR(VLOOKUP(K81,UrenTabel,2,FALSE)),"",VLOOKUP(K81,UrenTabel,2,FALSE)) | P81: 0 | Q81: =IF(ISNUMBER(Q80),IF(ISNUMBER(P81),Q80+P81,0),0) -> 0 | R81: =O81*P81 -> 0 | S81: =L81&B81 | T81: =M81&B81 | U81: =M81&E81
B82: =IF(E82="","",MONTH(E82)) | C82: =IF(E82="","",INT((E82-SUM(MOD(DATE(YEAR(E82-MOD(E82-2,7)+3),1,2),{1E+99;7})*{1;-1})+5)/7)) | D82: =IF(E82="","",E82) | G82: =IF(ISERROR(VLOOKUP(F82,TabelKlanten,2,FALSE)),"",VLOOKUP(F82,TabelKlanten,2,FALSE)) | I82: =IF(ISERROR(VLOOKUP(H82,TabelProjecten,2,FALSE)),"",VLOOKUP(H82,TabelProjecten,2,FALSE)) | L82: =IF(ISERROR(VLOOKUP(K82,UrenTabel,3,FALSE)),"",VLOOKUP(K82,UrenTabel,3,FALSE)) | M82: =IF(ISERROR(VLOOKUP(K82,UrenTabel,2,FALSE)),"",VLOOKUP(K82,UrenTabel,2,FALSE)) | P82: 0 | Q82: =IF(ISNUMBER(Q81),IF(ISNUMBER(P82),Q81+P82,0),0) -> 0 | R82: =O82*P82 -> 0 | S82: =L82&B82 | T82: =M82&B82 | U82: =M82&E82
... B320: =IF(E320="","",MONTH(E320)) | C320: =IF(E320="","",INT((E320-SUM(MOD(DATE(YEAR(E320-MOD(E320-2,7)+3),1,2),{1E+99;7})*{1;-1})+5)/7)) | D320: =IF(E320="","",E320) | G320: =IF(ISERROR(VLOOKUP(F320,TabelKlanten,2,FALSE)),"",VLOOKUP(F320,TabelKlanten,2,FALSE)) | I320: =IF(ISERROR(VLOOKUP(H320,TabelProjecten,2,FALSE)),"",VLOOKUP(H320,TabelProjecten,2,FALSE)) | L320: =IF(ISERROR(VLOOKUP(K320,UrenTabel,3,FALSE)),"",VLOOKUP(K320,UrenTabel,3,FALSE)) | M320: =IF(ISERROR(VLOOKUP(K320,UrenTabel,2,FALSE)),"",VLOOKUP(K320,UrenTabel,2,FALSE)) | P320: 0 | Q320: =IF(ISNUMBER(Q319),IF(ISNUMBER(P320),Q319+P320,0),0) -> 0 | R320: =O320*P320 -> 0 | S320: =L320&B320 | T320: =M320&B320 | U320: =M320&E320
B321: =IF(E321="","",MONTH(E321)) | C321: =IF(E321="","",INT((E321-SUM(MOD(DATE(YEAR(E321-MOD(E321-2,7)+3),1,2),{1E+99;7})*{1;-1})+5)/7)) | D321: =IF(E321="","",E321) | G321: =IF(ISERROR(VLOOKUP(F321,TabelKlanten,2,FALSE)),"",VLOOKUP(F321,TabelKlanten,2,FALSE)) | I321: =IF(ISERROR(VLOOKUP(H321,TabelProjecten,2,FALSE)),"",VLOOKUP(H321,TabelProjecten,2,FALSE)) | L321: =IF(ISERROR(VLOOKUP(K321,UrenTabel,3,FALSE)),"",VLOOKUP(K321,UrenTabel,3,FALSE)) | M321: =IF(ISERROR(VLOOKUP(K321,UrenTabel,2,FALSE)),"",VLOOKUP(K321,UrenTabel,2,FALSE)) | P321: 0 | Q321: =IF(ISNUMBER(Q320),IF(ISNUMBER(P321),Q320+P321,0),0) -> 0 | R321: =O321*P321 -> 0
B322: =IF(E322="","",MONTH(E322)) | C322: =IF(E322="","",INT((E322-SUM(MOD(DATE(YEAR(E322-MOD(E322-2,7)+3),1,2),{1E+99;7})*{1;-1})+5)/7)) | D322: =IF(E322="","",E322) | G322: =IF(ISERROR(VLOOKUP(F322,TabelKlanten,2,FALSE)),"",VLOOKUP(F322,TabelKlanten,2,FALSE)) | I322: =IF(ISERROR(VLOOKUP(H322,TabelProjecten,2,FALSE)),"",VLOOKUP(H322,TabelProjecten,2,FALSE)) | L322: =IF(ISERROR(VLOOKUP(K322,UrenTabel,3,FALSE)),"",VLOOKUP(K322,UrenTabel,3,FALSE)) | M322: =IF(ISERROR(VLOOKUP(K322,UrenTabel,2,FALSE)),"",VLOOKUP(K322,UrenTabel,2,FALSE)) | P322: 0 | Q322: =IF(ISNUMBER(Q321),IF(ISNUMBER(P322),Q321+P322,0),0) -> 0 | R322: =O322*P322 -> 0
B323: =IF(E323="","",MONTH(E323)) | C323: =IF(E323="","",INT((E323-SUM(MOD(DATE(YEAR(E323-MOD(E323-2,7)+3),1,2),{1E+99;7})*{1;-1})+5)/7)) | D323: =IF(E323="","",E323) | G323: =IF(ISERROR(VLOOKUP(F323,TabelKlanten,2,FALSE)),"",VLOOKUP(F323,TabelKlanten,2,FALSE)) | I323: =IF(ISERROR(VLOOKUP(H323,TabelProjecten,2,FALSE)),"",VLOOKUP(H323,TabelProjecten,2,FALSE)) | L323: =IF(ISERROR(VLOOKUP(K323,UrenTabel,3,FALSE)),"",VLOOKUP(K323,UrenTabel,3,FALSE)) | M323: =IF(ISERROR(VLOOKUP(K323,UrenTabel,2,FALSE)),"",VLOOKUP(K323,UrenTabel,2,FALSE)) | P323: 0 | Q323: =IF(ISNUMBER(Q322),IF(ISNUMBER(P323),Q322+P323,0),0) -> 0 | R323: =O323*P323 -> 0
B324: =IF(E324="","",MONTH(E324)) | C324: =IF(E324="","",INT((E324-SUM(MOD(DATE(YEAR(E324-MOD(E324-2,7)+3),1,2),{1E+99;7})*{1;-1})+5)/7)) | D324: =IF(E324="","",E324) | G324: =IF(ISERROR(VLOOKUP(F324,TabelKlanten,2,FALSE)),"",VLOOKUP(F324,TabelKlanten,2,FALSE)) | I324: =IF(ISERROR(VLOOKUP(H324,TabelProjecten,2,FALSE)),"",VLOOKUP(H324,TabelProjecten,2,FALSE)) | L324: =IF(ISERROR(VLOOKUP(K324,UrenTabel,3,FALSE)),"",VLOOKUP(K324,UrenTabel,3,FALSE)) | M324: =IF(ISERROR(VLOOKUP(K324,UrenTabel,2,FALSE)),"",VLOOKUP(K324,UrenTabel,2,FALSE)) | P324: 0 | Q324: =IF(ISNUMBER(Q323),IF(ISNUMBER(P324),Q323+P324,0),0) -> 0 | R324: =O324*P324 -> 0
B325: =IF(E325="","",MONTH(E325)) | C325: =IF(E325="","",INT((E325-SUM(MOD(DATE(YEAR(E325-MOD(E325-2,7)+3),1,2),{1E+99;7})*{1;-1})+5)/7)) | D325: =IF(E325="","",E325) | G325: =IF(ISERROR(VLOOKUP(F325,TabelKlanten,2,FALSE)),"",VLOOKUP(F325,TabelKlanten,2,FALSE)) | I325: =IF(ISERROR(VLOOKUP(H325,TabelProjecten,2,FALSE)),"",VLOOKUP(H325,TabelProjecten,2,FALSE)) | L325: =IF(ISERROR(VLOOKUP(K325,UrenTabel,3,FALSE)),"",VLOOKUP(K325,UrenTabel,3,FALSE)) | M325: =IF(ISERROR(VLOOKUP(K325,UrenTabel,2,FALSE)),"",VLOOKUP(K325,UrenTabel,2,FALSE)) | P325: 0 | Q325: =IF(ISNUMBER(Q324),IF(ISNUMBER(P325),Q324+P325,0),0) -> 0 | R325: =O325*P325 -> 0
B326: =IF(E326="","",MONTH(E326)) | C326: =IF(E326="","",INT((E326-SUM(MOD(DATE(YEAR(E326-MOD(E326-2,7)+3),1,2),{1E+99;7})*{1;-1})+5)/7)) | D326: =IF(E326="","",E326) | G326: =IF(ISERROR(VLOOKUP(F326,TabelKlanten,2,FALSE)),"",VLOOKUP(F326,TabelKlanten,2,FALSE)) | I326: =IF(ISERROR(VLOOKUP(H326,TabelProjecten,2,FALSE)),"",VLOOKUP(H326,TabelProjecten,2,FALSE)) | L326: =IF(ISERROR(VLOOKUP(K326,UrenTabel,3,FALSE)),"",VLOOKUP(K326,UrenTabel,3,FALSE)) | M326: =IF(ISERROR(VLOOKUP(K326,UrenTabel,2,FALSE)),"",VLOOKUP(K326,UrenTabel,2,FALSE)) | P326: 0 | Q326: =IF(ISNUMBER(Q325),IF(ISNUMBER(P326),Q325+P326,0),0) -> 0 | R326: =O326*P326 -> 0
B327: =IF(E327="","",MONTH(E327)) | C327: =IF(E327="","",INT((E327-SUM(MOD(DATE(YEAR(E327-MOD(E327-2,7)+3),1,2),{1E+99;7})*{1;-1})+5)/7)) | D327: =IF(E327="","",E327) | G327: =IF(ISERROR(VLOOKUP(F327,TabelKlanten,2,FALSE)),"",VLOOKUP(F327,TabelKlanten,2,FALSE)) | I327: =IF(ISERROR(VLOOKUP(H327,TabelProjecten,2,FALSE)),"",VLOOKUP(H327,TabelProjecten,2,FALSE)) | L327: =IF(ISERROR(VLOOKUP(K327,UrenTabel,3,FALSE)),"",VLOOKUP(K327,UrenTabel,3,FALSE)) | M327: =IF(ISERROR(VLOOKUP(K327,UrenTabel,2,FALSE)),"",VLOOKUP(K327,UrenTabel,2,FALSE)) | P327: 0 | Q327: =IF(ISNUMBER(Q320),IF(ISNUMBER(P327),Q320+P327,0),0) -> 0 | R327: =O327*P327 -> 0 | S327: =L327&B327 | T327: =M327&B327 | U327: =M327&E327
B328: =IF(E328="","",MONTH(E328)) | C328: =IF(E328="","",INT((E328-SUM(MOD(DATE(YEAR(E328-MOD(E328-2,7)+3),1,2),{1E+99;7})*{1;-1})+5)/7)) | D328: =IF(E328="","",E328) | G328: =IF(ISERROR(VLOOKUP(F328,TabelKlanten,2,FALSE)),"",VLOOKUP(F328,TabelKlanten,2,FALSE)) | I328: =IF(ISERROR(VLOOKUP(H328,TabelProjecten,2,FALSE)),"",VLOOKUP(H328,TabelProjecten,2,FALSE)) | L328: =IF(ISERROR(VLOOKUP(K328,UrenTabel,3,FALSE)),"",VLOOKUP(K328,UrenTabel,3,FALSE)) | M328: =IF(ISERROR(VLOOKUP(K328,UrenTabel,2,FALSE)),"",VLOOKUP(K328,UrenTabel,2,FALSE)) | P328: 0 | Q328: =IF(ISNUMBER(Q327),IF(ISNUMBER(P328),Q327+P328,0),0) -> 0 | R328: =O328*P328 -> 0 | S328: =L328&B328 | T328: =M328&B328 | U328: =M328&E328
B329: =IF(E329="","",MONTH(E329)) | C329: =IF(E329="","",INT((E329-SUM(MOD(DATE(YEAR(E329-MOD(E329-2,7)+3),1,2),{1E+99;7})*{1;-1})+5)/7)) | D329: =IF(E329="","",E329) | G329: =IF(ISERROR(VLOOKUP(F329,TabelKlanten,2,FALSE)),"",VLOOKUP(F329,TabelKlanten,2,FALSE)) | I329: =IF(ISERROR(VLOOKUP(H329,TabelProjecten,2,FALSE)),"",VLOOKUP(H329,TabelProjecten,2,FALSE)) | L329: =IF(ISERROR(VLOOKUP(K329,UrenTabel,3,FALSE)),"",VLOOKUP(K329,UrenTabel,3,FALSE)) | M329: =IF(ISERROR(VLOOKUP(K329,UrenTabel,2,FALSE)),"",VLOOKUP(K329,UrenTabel,2,FALSE)) | P329: 0 | Q329: =IF(ISNUMBER(Q328),IF(ISNUMBER(P329),Q328+P329,0),0) -> 0 | R329: =O329*P329 -> 0 | S329: =L329&B329 | T329: =M329&B329 | U329: =M329&E329
B330: =IF(E330="","",MONTH(E330)) | C330: =IF(E330="","",INT((E330-SUM(MOD(DATE(YEAR(E330-MOD(E330-2,7)+3),1,2),{1E+99;7})*{1;-1})+5)/7)) | D330: =IF(E330="","",E330) | G330: =IF(ISERROR(VLOOKUP(F330,TabelKlanten,2,FALSE)),"",VLOOKUP(F330,TabelKlanten,2,FALSE)) | I330: =IF(ISERROR(VLOOKUP(H330,TabelProjecten,2,FALSE)),"",VLOOKUP(H330,TabelProjecten,2,FALSE)) | L330: =IF(ISERROR(VLOOKUP(K330,UrenTabel,3,FALSE)),"",VLOOKUP(K330,UrenTabel,3,FALSE)) | M330: =IF(ISERROR(VLOOKUP(K330,UrenTabel,2,FALSE)),"",VLOOKUP(K330,UrenTabel,2,FALSE)) | P330: 0 | Q330: =IF(ISNUMBER(Q329),IF(ISNUMBER(P330),Q329+P330,0),0) -> 0 | R330: =O330*P330 -> 0 | S330: =L330&B330 | T330: =M330&B330 | U330: =M330&E330
B331: =IF(E331="","",MONTH(E331)) | C331: =IF(E331="","",INT((E331-SUM(MOD(DATE(YEAR(E331-MOD(E331-2,7)+3),1,2),{1E+99;7})*{1;-1})+5)/7)) | D331: =IF(E331="","",E331) | G331: =IF(ISERROR(VLOOKUP(F331,TabelKlanten,2,FALSE)),"",VLOOKUP(F331,TabelKlanten,2,FALSE)) | I331: =IF(ISERROR(VLOOKUP(H331,TabelProjecten,2,FALSE)),"",VLOOKUP(H331,TabelProjecten,2,FALSE)) | L331: =IF(ISERROR(VLOOKUP(K331,UrenTabel,3,FALSE)),"",VLOOKUP(K331,UrenTabel,3,FALSE)) | M331: =IF(ISERROR(VLOOKUP(K331,UrenTabel,2,FALSE)),"",VLOOKUP(K331,UrenTabel,2,FALSE)) | P331: 0 | Q331: =IF(ISNUMBER(Q330),IF(ISNUMBER(P331),Q330+P331,0),0) -> 0 | R331: =O331*P331 -> 0 | S331: =L331&B331 | T331: =M331&B331 | U331: =M331&E331
B332: =IF(E332="","",MONTH(E332)) | C332: =IF(E332="","",INT((E332-SUM(MOD(DATE(YEAR(E332-MOD(E332-2,7)+3),1,2),{1E+99;7})*{1;-1})+5)/7)) | D332: =IF(E332="","",E332) | G332: =IF(ISERROR(VLOOKUP(F332,TabelKlanten,2,FALSE)),"",VLOOKUP(F332,TabelKlanten,2,FALSE)) | I332: =IF(ISERROR(VLOOKUP(H332,TabelProjecten,2,FALSE)),"",VLOOKUP(H332,TabelProjecten,2,FALSE)) | L332: =IF(ISERROR(VLOOKUP(K332,UrenTabel,3,FALSE)),"",VLOOKUP(K332,UrenTabel,3,FALSE)) | M332: =IF(ISERROR(VLOOKUP(K332,UrenTabel,2,FALSE)),"",VLOOKUP(K332,UrenTabel,2,FALSE)) | P332: 0 | Q332: =IF(ISNUMBER(Q331),IF(ISNUMBER(P332),Q331+P332,0),0) -> 0 | R332: =O332*P332 -> 0 | S332: =L332&B332 | T332: =M332&B332 | U332: =M332&E332
B333: =IF(E333="","",MONTH(E333)) | C333: =IF(E333="","",INT((E333-SUM(MOD(DATE(YEAR(E333-MOD(E333-2,7)+3),1,2),{1E+99;7})*{1;-1})+5)/7)) | D333: =IF(E333="","",E333) | G333: =IF(ISERROR(VLOOKUP(F333,TabelKlanten,2,FALSE)),"",VLOOKUP(F333,TabelKlanten,2,FALSE)) | I333: =IF(ISERROR(VLOOKUP(H333,TabelProjecten,2,FALSE)),"",VLOOKUP(H333,TabelProjecten,2,FALSE)) | L333: =IF(ISERROR(VLOOKUP(K333,UrenTabel,3,FALSE)),"",VLOOKUP(K333,UrenTabel,3,FALSE)) | M333: =IF(ISERROR(VLOOKUP(K333,UrenTabel,2,FALSE)),"",VLOOKUP(K333,UrenTabel,2,FALSE)) | P333: 0 | Q333: =IF(ISNUMBER(Q332),IF(ISNUMBER(P333),Q332+P333,0),0) -> 0 | R333: =O333*P333 -> 0 | S333: =L333&B333 | T333: =M333&B333 | U333: =M333&E333
B334: =IF(E334="","",MONTH(E334)) | C334: =IF(E334="","",INT((E334-SUM(MOD(DATE(YEAR(E334-MOD(E334-2,7)+3),1,2),{1E+99;7})*{1;-1})+5)/7)) | D334: =IF(E334="","",E334) | G334: =IF(ISERROR(VLOOKUP(F334,TabelKlanten,2,FALSE)),"",VLOOKUP(F334,TabelKlanten,2,FALSE)) | I334: =IF(ISERROR(VLOOKUP(H334,TabelProjecten,2,FALSE)),"",VLOOKUP(H334,TabelProjecten,2,FALSE)) | L334: =IF(ISERROR(VLOOKUP(K334,UrenTabel,3,FALSE)),"",VLOOKUP(K334,UrenTabel,3,FALSE)) | M334: =IF(ISERROR(VLOOKUP(K334,UrenTabel,2,FALSE)),"",VLOOKUP(K334,UrenTabel,2,FALSE)) | P334: 0 | Q334: =IF(ISNUMBER(Q333),IF(ISNUMBER(P334),Q333+P334,0),0) -> 0 | R334: =O334*P334 -> 0 | S334: =L334&B334 | T334: =M334&B334 | U334: =M334&E334
B335: =IF(E335="","",MONTH(E335)) | C335: =IF(E335="","",INT((E335-SUM(MOD(DATE(YEAR(E335-MOD(E335-2,7)+3),1,2),{1E+99;7})*{1;-1})+5)/7)) | D335: =IF(E335="","",E335) | G335: =IF(ISERROR(VLOOKUP(F335,TabelKlanten,2,FALSE)),"",VLOOKUP(F335,TabelKlanten,2,FALSE)) | I335: =IF(ISERROR(VLOOKUP(H335,TabelProjecten,2,FALSE)),"",VLOOKUP(H335,TabelProjecten,2,FALSE)) | L335: =IF(ISERROR(VLOOKUP(K335,UrenTabel,3,FALSE)),"",VLOOKUP(K335,UrenTabel,3,FALSE)) | M335: =IF(ISERROR(VLOOKUP(K335,UrenTabel,2,FALSE)),"",VLOOKUP(K335,UrenTabel,2,FALSE)) | P335: 0 | Q335: =IF(ISNUMBER(Q334),IF(ISNUMBER(P335),Q334+P335,0),0) -> 0 | R335: =O335*P335 -> 0 | S335: =L335&B335 | T335: =M335&B335 | U335: =M335&E335
B336: =IF(E336="","",MONTH(E336)) | C336: =IF(E336="","",INT((E336-SUM(MOD(DATE(YEAR(E336-MOD(E336-2,7)+3),1,2),{1E+99;7})*{1;-1})+5)/7)) | D336: =IF(E336="","",E336) | G336: =IF(ISERROR(VLOOKUP(F336,TabelKlanten,2,FALSE)),"",VLOOKUP(F336,TabelKlanten,2,FALSE)) | I336: =IF(ISERROR(VLOOKUP(H336,TabelProjecten,2,FALSE)),"",VLOOKUP(H336,TabelProjecten,2,FALSE)) | L336: =IF(ISERROR(VLOOKUP(K336,UrenTabel,3,FALSE)),"",VLOOKUP(K336,UrenTabel,3,FALSE)) | M336: =IF(ISERROR(VLOOKUP(K336,UrenTabel,2,FALSE)),"",VLOOKUP(K336,UrenTabel,2,FALSE)) | P336: 0 | Q336: =IF(ISNUMBER(Q335),IF(ISNUMBER(P336),Q335+P336,0),0) -> 0 | R336: =O336*P336 -> 0 | S336: =L336&B336 | T336: =M336&B336 | U336: =M336&E336
B337: =IF(E337="","",MONTH(E337)) | C337: =IF(E337="","",INT((E337-SUM(MOD(DATE(YEAR(E337-MOD(E337-2,7)+3),1,2),{1E+99;7})*{1;-1})+5)/7)) | D337: =IF(E337="","",E337) | G337: =IF(ISERROR(VLOOKUP(F337,TabelKlanten,2,FALSE)),"",VLOOKUP(F337,TabelKlanten,2,FALSE)) | I337: =IF(ISERROR(VLOOKUP(H337,TabelProjecten,2,FALSE)),"",VLOOKUP(H337,TabelProjecten,2,FALSE)) | L337: =IF(ISERROR(VLOOKUP(K337,UrenTabel,3,FALSE)),"",VLOOKUP(K337,UrenTabel,3,FALSE)) | M337: =IF(ISERROR(VLOOKUP(K337,UrenTabel,2,FALSE)),"",VLOOKUP(K337,UrenTabel,2,FALSE)) | P337: 0 | Q337: =IF(ISNUMBER(Q336),IF(ISNUMBER(P337),Q336+P337,0),0) -> 0 | R337: =O337*P337 -> 0 | S337: =L337&B337 | T337: =M337&B337 | U337: =M337&E337
B338: =IF(E338="","",MONTH(E338)) | C338: =IF(E338="","",INT((E338-SUM(MOD(DATE(YEAR(E338-MOD(E338-2,7)+3),1,2),{1E+99;7})*{1;-1})+5)/7)) | D338: =IF(E338="","",E338) | G338: =IF(ISERROR(VLOOKUP(F338,TabelKlanten,2,FALSE)),"",VLOOKUP(F338,TabelKlanten,2,FALSE)) | I338: =IF(ISERROR(VLOOKUP(H338,TabelProjecten,2,FALSE)),"",VLOOKUP(H338,TabelProjecten,2,FALSE)) | L338: =IF(ISERROR(VLOOKUP(K338,UrenTabel,3,FALSE)),"",VLOOKUP(K338,UrenTabel,3,FALSE)) | M338: =IF(ISERROR(VLOOKUP(K338,UrenTabel,2,FALSE)),"",VLOOKUP(K338,UrenTabel,2,FALSE)) | P338: 0 | Q338: =IF(ISNUMBER(Q337),IF(ISNUMBER(P338),Q337+P338,0),0) -> 0 | R338: =O338*P338 -> 0 | S338: =L338&B338 | T338: =M338&B338 | U338: =M338&E338
B339: =IF(E339="","",MONTH(E339)) | C339: =IF(E339="","",INT((E339-SUM(MOD(DATE(YEAR(E339-MOD(E339-2,7)+3),1,2),{1E+99;7})*{1;-1})+5)/7)) | D339: =IF(E339="","",E339) | G339: =IF(ISERROR(VLOOKUP(F339,TabelKlanten,2,FALSE)),"",VLOOKUP(F339,TabelKlanten,2,FALSE)) | I339: =IF(ISERROR(VLOOKUP(H339,TabelProjecten,2,FALSE)),"",VLOOKUP(H339,TabelProjecten,2,FALSE)) | L339: =IF(ISERROR(VLOOKUP(K339,UrenTabel,3,FALSE)),"",VLOOKUP(K339,UrenTabel,3,FALSE)) | M339: =IF(ISERROR(VLOOKUP(K339,UrenTabel,2,FALSE)),"",VLOOKUP(K339,UrenTabel,2,FALSE)) | P339: 0 | Q339: =IF(ISNUMBER(Q338),IF(ISNUMBER(P339),Q338+P339,0),0) -> 0 | R339: =O339*P339 -> 0 | S339: =L339&B339 | T339: =M339&B339 | U339: =M339&E339
... B971: =IF(E971="","",MONTH(E971)) | C971: =IF(E971="","",INT((E971-SUM(MOD(DATE(YEAR(E971-MOD(E971-2,7)+3),1,2),{1E+99;7})*{1;-1})+5)/7)) | D971: =IF(E971="","",E971) | G971: =IF(ISERROR(VLOOKUP(F971,TabelKlanten,2,FALSE)),"",VLOOKUP(F971,TabelKlanten,2,FALSE)) | I971: =IF(ISERROR(VLOOKUP(H971,TabelProjecten,2,FALSE)),"",VLOOKUP(H971,TabelProjecten,2,FALSE)) | L971: =IF(ISERROR(VLOOKUP(K971,UrenTabel,3,FALSE)),"",VLOOKUP(K971,UrenTabel,3,FALSE)) | M971: =IF(ISERROR(VLOOKUP(K971,UrenTabel,2,FALSE)),"",VLOOKUP(K971,UrenTabel,2,FALSE)) | P971: 0 | Q971: =IF(ISNUMBER(Q970),IF(ISNUMBER(P971),Q970+P971,0),0) -> 0 | R971: =O971*P971 -> 0 | S971: =L971&B971 | T971: =M971&B971 | U971: =M971&E971
B972: =IF(E972="","",MONTH(E972)) | C972: =IF(E972="","",INT((E972-SUM(MOD(DATE(YEAR(E972-MOD(E972-2,7)+3),1,2),{1E+99;7})*{1;-1})+5)/7)) | D972: =IF(E972="","",E972) | G972: =IF(ISERROR(VLOOKUP(F972,TabelKlanten,2,FALSE)),"",VLOOKUP(F972,TabelKlanten,2,FALSE)) | I972: =IF(ISERROR(VLOOKUP(H972,TabelProjecten,2,FALSE)),"",VLOOKUP(H972,TabelProjecten,2,FALSE)) | L972: =IF(ISERROR(VLOOKUP(K972,UrenTabel,3,FALSE)),"",VLOOKUP(K972,UrenTabel,3,FALSE)) | M972: =IF(ISERROR(VLOOKUP(K972,UrenTabel,2,FALSE)),"",VLOOKUP(K972,UrenTabel,2,FALSE)) | Q972: =IF(ISNUMBER(Q971),IF(ISNUMBER(P972),Q971+P972,0),0) -> 0 | R972: =O972*P972 -> 0 | S972: =L972&B972 | T972: =M972&B972 | U972: =M972&E972
B973: =IF(E973="","",MONTH(E973)) | C973: =IF(E973="","",INT((E973-SUM(MOD(DATE(YEAR(E973-MOD(E973-2,7)+3),1,2),{1E+99;7})*{1;-1})+5)/7)) | D973: =IF(E973="","",E973) | G973: =IF(ISERROR(VLOOKUP(F973,TabelKlanten,2,FALSE)),"",VLOOKUP(F973,TabelKlanten,2,FALSE)) | I973: =IF(ISERROR(VLOOKUP(H973,TabelProjecten,2,FALSE)),"",VLOOKUP(H973,TabelProjecten,2,FALSE)) | L973: =IF(ISERROR(VLOOKUP(K973,UrenTabel,3,FALSE)),"",VLOOKUP(K973,UrenTabel,3,FALSE)) | M973: =IF(ISERROR(VLOOKUP(K973,UrenTabel,2,FALSE)),"",VLOOKUP(K973,UrenTabel,2,FALSE)) | Q973: =IF(ISNUMBER(Q972),IF(ISNUMBER(P973),Q972+P973,0),0) -> 0 | R973: =O973*P973 -> 0 | S973: =L973&B973 | T973: =M973&B973 | U973: =M973&E973
B974: =IF(E974="","",MONTH(E974)) | C974: =IF(E974="","",INT((E974-SUM(MOD(DATE(YEAR(E974-MOD(E974-2,7)+3),1,2),{1E+99;7})*{1;-1})+5)/7)) | D974: =IF(E974="","",E974) | G974: =IF(ISERROR(VLOOKUP(F974,TabelKlanten,2,FALSE)),"",VLOOKUP(F974,TabelKlanten,2,FALSE)) | I974: =IF(ISERROR(VLOOKUP(H974,TabelProjecten,2,FALSE)),"",VLOOKUP(H974,TabelProjecten,2,FALSE)) | L974: =IF(ISERROR(VLOOKUP(K974,UrenTabel,3,FALSE)),"",VLOOKUP(K974,UrenTabel,3,FALSE)) | M974: =IF(ISERROR(VLOOKUP(K974,UrenTabel,2,FALSE)),"",VLOOKUP(K974,UrenTabel,2,FALSE)) | Q974: =IF(ISNUMBER(Q973),IF(ISNUMBER(P974),Q973+P974,0),0) -> 0 | R974: =O974*P974 -> 0 | S974: =L974&B974 | T974: =M974&B974 | U974: =M974&E974
B975: =IF(E975="","",MONTH(E975)) | C975: =IF(E975="","",INT((E975-SUM(MOD(DATE(YEAR(E975-MOD(E975-2,7)+3),1,2),{1E+99;7})*{1;-1})+5)/7)) | D975: =IF(E975="","",E975) | G975: =IF(ISERROR(VLOOKUP(F975,TabelKlanten,2,FALSE)),"",VLOOKUP(F975,TabelKlanten,2,FALSE)) | I975: =IF(ISERROR(VLOOKUP(H975,TabelProjecten,2,FALSE)),"",VLOOKUP(H975,TabelProjecten,2,FALSE)) | L975: =IF(ISERROR(VLOOKUP(K975,UrenTabel,3,FALSE)),"",VLOOKUP(K975,UrenTabel,3,FALSE)) | M975: =IF(ISERROR(VLOOKUP(K975,UrenTabel,2,FALSE)),"",VLOOKUP(K975,UrenTabel,2,FALSE)) | Q975: =IF(ISNUMBER(Q974),IF(ISNUMBER(P975),Q974+P975,0),0) -> 0 | R975: =O975*P975 -> 0 | S975: =L975&B975 | T975: =M975&B975 | U975: =M975&E975
B976: =IF(E976="","",MONTH(E976)) | C976: =IF(E976="","",INT((E976-SUM(MOD(DATE(YEAR(E976-MOD(E976-2,7)+3),1,2),{1E+99;7})*{1;-1})+5)/7)) | D976: =IF(E976="","",E976) | G976: =IF(ISERROR(VLOOKUP(F976,TabelKlanten,2,FALSE)),"",VLOOKUP(F976,TabelKlanten,2,FALSE)) | I976: =IF(ISERROR(VLOOKUP(H976,TabelProjecten,2,FALSE)),"",VLOOKUP(H976,TabelProjecten,2,FALSE)) | L976: =IF(ISERROR(VLOOKUP(K976,UrenTabel,3,FALSE)),"",VLOOKUP(K976,UrenTabel,3,FALSE)) | M976: =IF(ISERROR(VLOOKUP(K976,UrenTabel,2,FALSE)),"",VLOOKUP(K976,UrenTabel,2,FALSE)) | Q976: =IF(ISNUMBER(Q975),IF(ISNUMBER(P976),Q975+P976,0),0) -> 0 | R976: =O976*P976 -> 0 | S976: =L976&B976 | T976: =M976&B976 | U976: =M976&E976
B977: =IF(E977="","",MONTH(E977)) | C977: =IF(E977="","",INT((E977-SUM(MOD(DATE(YEAR(E977-MOD(E977-2,7)+3),1,2),{1E+99;7})*{1;-1})+5)/7)) | D977: =IF(E977="","",E977) | G977: =IF(ISERROR(VLOOKUP(F977,TabelKlanten,2,FALSE)),"",VLOOKUP(F977,TabelKlanten,2,FALSE)) | I977: =IF(ISERROR(VLOOKUP(H977,TabelProjecten,2,FALSE)),"",VLOOKUP(H977,TabelProjecten,2,FALSE)) | L977: =IF(ISERROR(VLOOKUP(K977,UrenTabel,3,FALSE)),"",VLOOKUP(K977,UrenTabel,3,FALSE)) | M977: =IF(ISERROR(VLOOKUP(K977,UrenTabel,2,FALSE)),"",VLOOKUP(K977,UrenTabel,2,FALSE)) | Q977: =IF(ISNUMBER(Q976),IF(ISNUMBER(P977),Q976+P977,0),0) -> 0 | R977: =O977*P977 -> 0 | S977: =L977&B977 | T977: =M977&B977 | U977: =M977&E977
B978: =IF(E978="","",MONTH(E978)) | C978: =IF(E978="","",INT((E978-SUM(MOD(DATE(YEAR(E978-MOD(E978-2,7)+3),1,2),{1E+99;7})*{1;-1})+5)/7)) | D978: =IF(E978="","",E978) | G978: =IF(ISERROR(VLOOKUP(F978,TabelKlanten,2,FALSE)),"",VLOOKUP(F978,TabelKlanten,2,FALSE)) | I978: =IF(ISERROR(VLOOKUP(H978,TabelProjecten,2,FALSE)),"",VLOOKUP(H978,TabelProjecten,2,FALSE)) | L978: =IF(ISERROR(VLOOKUP(K978,UrenTabel,3,FALSE)),"",VLOOKUP(K978,UrenTabel,3,FALSE)) | M978: =IF(ISERROR(VLOOKUP(K978,UrenTabel,2,FALSE)),"",VLOOKUP(K978,UrenTabel,2,FALSE)) | Q978: =IF(ISNUMBER(Q977),IF(ISNUMBER(P978),Q977+P978,0),0) -> 0 | R978: =O978*P978 -> 0 | S978: =L978&B978 | T978: =M978&B978 | U978: =M978&E978
B979: =IF(E979="","",MONTH(E979)) | C979: =IF(E979="","",INT((E979-SUM(MOD(DATE(YEAR(E979-MOD(E979-2,7)+3),1,2),{1E+99;7})*{1;-1})+5)/7)) | D979: =IF(E979="","",E979) | G979: =IF(ISERROR(VLOOKUP(F979,TabelKlanten,2,FALSE)),"",VLOOKUP(F979,TabelKlanten,2,FALSE)) | I979: =IF(ISERROR(VLOOKUP(H979,TabelProjecten,2,FALSE)),"",VLOOKUP(H979,TabelProjecten,2,FALSE)) | L979: =IF(ISERROR(VLOOKUP(K979,UrenTabel,3,FALSE)),"",VLOOKUP(K979,UrenTabel,3,FALSE)) | M979: =IF(ISERROR(VLOOKUP(K979,UrenTabel,2,FALSE)),"",VLOOKUP(K979,UrenTabel,2,FALSE)) | Q979: =IF(ISNUMBER(Q978),IF(ISNUMBER(P979),Q978+P979,0),0) -> 0 | R979: =O979*P979 -> 0 | S979: =L979&B979 | T979: =M979&B979 | U979: =M979&E979
B980: =IF(E980="","",MONTH(E980)) | C980: =IF(E980="","",INT((E980-SUM(MOD(DATE(YEAR(E980-MOD(E980-2,7)+3),1,2),{1E+99;7})*{1;-1})+5)/7)) | D980: =IF(E980="","",E980) | G980: =IF(ISERROR(VLOOKUP(F980,TabelKlanten,2,FALSE)),"",VLOOKUP(F980,TabelKlanten,2,FALSE)) | I980: =IF(ISERROR(VLOOKUP(H980,TabelProjecten,2,FALSE)),"",VLOOKUP(H980,TabelProjecten,2,FALSE)) | L980: =IF(ISERROR(VLOOKUP(K980,UrenTabel,3,FALSE)),"",VLOOKUP(K980,UrenTabel,3,FALSE)) | M980: =IF(ISERROR(VLOOKUP(K980,UrenTabel,2,FALSE)),"",VLOOKUP(K980,UrenTabel,2,FALSE)) | Q980: =IF(ISNUMBER(Q979),IF(ISNUMBER(P980),Q979+P980,0),0) -> 0 | R980: =O980*P980 -> 0 | S980: =L980&B980 | T980: =M980&B980 | U980: =M980&E980
...

Sheet Urenkaart
B2: ="Urenkaart "&Boekjaar -> Urenkaart 2018
B4: =Bedrijfsnaam -> Bedrijfsnaam
B6: Personeelsgegevens | AB6: Overige informatie
C8: Bedrijf | H8: =Instellingen!D6 -> Bedrijfsnaam
C10: Volledige naam | H10: =Instellingen!D7 -> 0 | Q10: Urencriterium? | V10: Ja
Q11: Jaar | V11: =Boekjaar -> 2018
B14: =IF(V10="Nee","Urenkaart: alle gewerkte uren","Urenkaart: alle criterium-uren") -> Urenkaart: alle criterium-uren
C16: Maand | F16: 1 | G16: 2 | H16: 3 | I16: 4 | J16: 5 | K16: 6 | L16: 7 | M16: 8 | N16: 9 | O16: 10 | P16: 11 | Q16: 12 | R16: 13 | S16: 14 | T16: 15 | U16: 16 | V16: 17 | W16: 18 | X16: 19 | Y16: 20 | Z16: 21 | AA16: 22 | AB16: 23 | AC16: 24 | AD16: 25 | AE16: 26 | AF16: 27 | AG16: 28 | AH16: 29 | AI16: 30 | AJ16: 31 | AK16: Maand | AN16: Uren | AP16: Gewerkt | AR16: Uren-criterium
B17: 1 | C17: Januari | F17: =IF($V$10="Ja",SUMIF(Combi3,$V$10&DATE(Boekjaar,$B17,F$16),UrenAantal),SUMIF(DataRij,DATE(Boekjaar,$B17,F$16),UrenAantal)) -> 0 | G17: =IF($V$10="Ja",SUMIF(Combi3,$V$10&DATE(Boekjaar,$B17,G$16),UrenAantal),SUMIF(DataRij,DATE(Boekjaar,$B17,G$16),UrenAantal)) -> 0 | H17: =IF($V$10="Ja",SUMIF(Combi3,$V$10&DATE(Boekjaar,$B17,H$16),UrenAantal),SUMIF(DataRij,DATE(Boekjaar,$B17,H$16),UrenAantal)) -> 0 | I17: =IF($V$10="Ja",SUMIF(Combi3,$V$10&DATE(Boekjaar,$B17,I$16),UrenAantal),SUMIF(DataRij,DATE(Boekjaar,$B17,I$16),UrenAantal)) -> 0 | J17: =IF($V$10="Ja",SUMIF(Combi3,$V$10&DATE(Boekjaar,$B17,J$16),UrenAantal),SUMIF(DataRij,DATE(Boekjaar,$B17,J$16),UrenAantal)) -> 0 | K17: =IF($V$10="Ja",SUMIF(Combi3,$V$10&DATE(Boekjaar,$B17,K$16),UrenAantal),SUMIF(DataRij,DATE(Boekjaar,$B17,K$16),UrenAantal)) -> 0 | L17: =IF($V$10="Ja",SUMIF(Combi3,$V$10&DATE(Boekjaar,$B17,L$16),UrenAantal),SUMIF(DataRij,DATE(Boekjaar,$B17,L$16),UrenAantal)) -> 0 | M17: =IF($V$10="Ja",SUMIF(Combi3,$V$10&DATE(Boekjaar,$B17,M$16),UrenAantal),SUMIF(DataRij,DATE(Boekjaar,$B17,M$16),UrenAantal)) -> 0 | ... AJ17: =IF($V$10="Ja",SUMIF(Combi3,$V$10&DATE(Boekjaar,$B17,AJ$16),UrenAantal),SUMIF(DataRij,DATE(Boekjaar,$B17,AJ$16),UrenAantal)) -> 0 | AK17: Januari | AN17: =SUM(F17:AJ17) -> 0 | AP17: =SUMIF(UrenMaand,$B17,UrenAantal) -> 0 | AR17: =SUMIF(Combi2,"Ja"&$B17,UrenAantal) -> 0
B18: 2 | C18: Februari | F18: =IF($V$10="Ja",SUMIF(Combi3,$V$10&DATE(Boekjaar,$B18,F$16),UrenAantal),SUMIF(DataRij,DATE(Boekjaar,$B18,F$16),UrenAantal)) -> 0 | G18: =IF($V$10="Ja",SUMIF(Combi3,$V$10&DATE(Boekjaar,$B18,G$16),UrenAantal),SUMIF(DataRij,DATE(Boekjaar,$B18,G$16),UrenAantal)) -> 0 | H18: =IF($V$10="Ja",SUMIF(Combi3,$V$10&DATE(Boekjaar,$B18,H$16),UrenAantal),SUMIF(DataRij,DATE(Boekjaar,$B18,H$16),UrenAantal)) -> 0 | I18: =IF($V$10="Ja",SUMIF(Combi3,$V$10&DATE(Boekjaar,$B18,I$16),UrenAantal),SUMIF(DataRij,DATE(Boekjaar,$B18,I$16),UrenAantal)) -> 0 | J18: =IF($V$10="Ja",SUMIF(Combi3,$V$10&DATE(Boekjaar,$B18,J$16),UrenAantal),SUMIF(DataRij,DATE(Boekjaar,$B18,J$16),UrenAantal)) -> 0 | K18: =IF($V$10="Ja",SUMIF(Combi3,$V$10&DATE(Boekjaar,$B18,K$16),UrenAantal),SUMIF(DataRij,DATE(Boekjaar,$B18,K$16),UrenAantal)) -> 0 | L18: =IF($V$10="Ja",SUMIF(Combi3,$V$10&DATE(Boekjaar,$B18,L$16),UrenAantal),SUMIF(DataRij,DATE(Boekjaar,$B18,L$16),UrenAantal)) -> 0 | M18: =IF($V$10="Ja",SUMIF(Combi3,$V$10&DATE(Boekjaar,$B18,M$16),UrenAantal),SUMIF(DataRij,DATE(Boekjaar,$B18,M$16),UrenAantal)) -> 0 | ... AG18: =IF($V$10="Ja",SUMIF(Combi3,$V$10&DATE(Boekjaar,$B18,AG$16),UrenAantal),SUMIF(DataRij,DATE(Boekjaar,$B18,AG$16),UrenAantal)) -> 0 | AH18: =IF(OR(MOD(YEAR(DATE(Jaar,$B18,AH$19)),400)=0,AND(MOD(YEAR(DATE(Jaar,$B18,AH$19)),4)=0,MOD(YEAR(DATE(Jaar,$B18,AH$19)),100)<>0)),IF($V$10="Ja",SUMIF(Combi3,$V$10&DATE(Boekjaar,$B18,AH$16),UrenAantal),SUMIF(DataRij,DATE(Boekjaar,$B18,AH$16),UrenAantal)),"") | AK18: Februari | AN18: =SUM(F18:AJ18) -> 0 | AP18: =SUMIF(UrenMaand,$B18,UrenAantal) -> 0 | AR18: =SUMIF(Combi2,"Ja"&$B18,UrenAantal) -> 0
B19: 3 | C19: Maart | F19: =IF($V$10="Ja",SUMIF(Combi3,$V$10&DATE(Boekjaar,$B19,F$16),UrenAantal),SUMIF(DataRij,DATE(Boekjaar,$B19,F$16),UrenAantal)) -> 0 | G19: =IF($V$10="Ja",SUMIF(Combi3,$V$10&DATE(Boekjaar,$B19,G$16),UrenAantal),SUMIF(DataRij,DATE(Boekjaar,$B19,G$16),UrenAantal)) -> 0 | H19: =IF($V$10="Ja",SUMIF(Combi3,$V$10&DATE(Boekjaar,$B19,H$16),UrenAantal),SUMIF(DataRij,DATE(Boekjaar,$B19,H$16),UrenAantal)) -> 0 | I19: =IF($V$10="Ja",SUMIF(Combi3,$V$10&DATE(Boekjaar,$B19,I$16),UrenAantal),SUMIF(DataRij,DATE(Boekjaar,$B19,I$16),UrenAantal)) -> 0 | J19: =IF($V$10="Ja",SUMIF(Combi3,$V$10&DATE(Boekjaar,$B19,J$16),UrenAantal),SUMIF(DataRij,DATE(Boekjaar,$B19,J$16),UrenAantal)) -> 0 | K19: =IF($V$10="Ja",SUMIF(Combi3,$V$10&DATE(Boekjaar,$B19,K$16),UrenAantal),SUMIF(DataRij,DATE(Boekjaar,$B19,K$16),UrenAantal)) -> 0 | L19: =IF($V$10="Ja",SUMIF(Combi3,$V$10&DATE(Boekjaar,$B19,L$16),UrenAantal),SUMIF(DataRij,DATE(Boekjaar,$B19,L$16),UrenAantal)) -> 0 | M19: =IF($V$10="Ja",SUMIF(Combi3,$V$10&DATE(Boekjaar,$B19,M$16),UrenAantal),SUMIF(DataRij,DATE(Boekjaar,$B19,M$16),UrenAantal)) -> 0 | ... AJ19: =IF($V$10="Ja",SUMIF(Combi3,$V$10&DATE(Boekjaar,$B19,AJ$16),UrenAantal),SUMIF(DataRij,DATE(Boekjaar,$B19,AJ$16),UrenAantal)) -> 0 | AK19: Maart | AN19: =SUM(F19:AJ19) -> 0 | AP19: =SUMIF(UrenMaand,$B19,UrenAantal) -> 0 | AR19: =SUMIF(Combi2,"Ja"&$B19,UrenAantal) -> 0
B20: 4 | C20: April | F20: =IF($V$10="Ja",SUMIF(Combi3,$V$10&DATE(Boekjaar,$B20,F$16),UrenAantal),SUMIF(DataRij,DATE(Boekjaar,$B20,F$16),UrenAantal)) -> 0 | G20: =IF($V$10="Ja",SUMIF(Combi3,$V$10&DATE(Boekjaar,$B20,G$16),UrenAantal),SUMIF(DataRij,DATE(Boekjaar,$B20,G$16),UrenAantal)) -> 0 | H20: =IF($V$10="Ja",SUMIF(Combi3,$V$10&DATE(Boekjaar,$B20,H$16),UrenAantal),SUMIF(DataRij,DATE(Boekjaar,$B20,H$16),UrenAantal)) -> 0 | I20: =IF($V$10="Ja",SUMIF(Combi3,$V$10&DATE(Boekjaar,$B20,I$16),UrenAantal),SUMIF(DataRij,DATE(Boekjaar,$B20,I$16),UrenAantal)) -> 0 | J20: =IF($V$10="Ja",SUMIF(Combi3,$V$10&DATE(Boekjaar,$B20,J$16),UrenAantal),SUMIF(DataRij,DATE(Boekjaar,$B20,J$16),UrenAantal)) -> 0 | K20: =IF($V$10="Ja",SUMIF(Combi3,$V$10&DATE(Boekjaar,$B20,K$16),UrenAantal),SUMIF(DataRij,DATE(Boekjaar,$B20,K$16),UrenAantal)) -> 0 | L20: =IF($V$10="Ja",SUMIF(Combi3,$V$10&DATE(Boekjaar,$B20,L$16),UrenAantal),SUMIF(DataRij,DATE(Boekjaar,$B20,L$16),UrenAantal)) -> 0 | M20: =IF($V$10="Ja",SUMIF(Combi3,$V$10&DATE(Boekjaar,$B20,M$16),UrenAantal),SUMIF(DataRij,DATE(Boekjaar,$B20,M$16),UrenAantal)) -> 0 | ... AI20: =IF($V$10="Ja",SUMIF(Combi3,$V$10&DATE(Boekjaar,$B20,AI$16),UrenAantal),SUMIF(DataRij,DATE(Boekjaar,$B20,AI$16),UrenAantal)) -> 0 | AK20: April | AN20: =SUM(F20:AJ20) -> 0 | AP20: =SUMIF(UrenMaand,$B20,UrenAantal) -> 0 | AR20: =SUMIF(Combi2,"Ja"&$B20,UrenAantal) -> 0
B21: 5 | C21: Mei | F21: =IF($V$10="Ja",SUMIF(Combi3,$V$10&DATE(Boekjaar,$B21,F$16),UrenAantal),SUMIF(DataRij,DATE(Boekjaar,$B21,F$16),UrenAantal)) -> 0 | G21: =IF($V$10="Ja",SUMIF(Combi3,$V$10&DATE(Boekjaar,$B21,G$16),UrenAantal),SUMIF(DataRij,DATE(Boekjaar,$B21,G$16),UrenAantal)) -> 0 | H21: =IF($V$10="Ja",SUMIF(Combi3,$V$10&DATE(Boekjaar,$B21,H$16),UrenAantal),SUMIF(DataRij,DATE(Boekjaar,$B21,H$16),UrenAantal)) -> 0 | I21: =IF($V$10="Ja",SUMIF(Combi3,$V$10&DATE(Boekjaar,$B21,I$16),UrenAantal),SUMIF(DataRij,DATE(Boekjaar,$B21,I$16),UrenAantal)) -> 0 | J21: =IF($V$10="Ja",SUMIF(Combi3,$V$10&DATE(Boekjaar,$B21,J$16),UrenAantal),SUMIF(DataRij,DATE(Boekjaar,$B21,J$16),UrenAantal)) -> 0 | K21: =IF($V$10="Ja",SUMIF(Combi3,$V$10&DATE(Boekjaar,$B21,K$16),UrenAantal),SUMIF(DataRij,DATE(Boekjaar,$B21,K$16),UrenAantal)) -> 0 | L21: =IF($V$10="Ja",SUMIF(Combi3,$V$10&DATE(Boekjaar,$B21,L$16),UrenAantal),SUMIF(DataRij,DATE(Boekjaar,$B21,L$16),UrenAantal)) -> 0 | M21: =IF($V$10="Ja",SUMIF(Combi3,$V$10&DATE(Boekjaar,$B21,M$16),UrenAantal),SUMIF(DataRij,DATE(Boekjaar,$B21,M$16),UrenAantal)) -> 0 | ... AJ21: =IF($V$10="Ja",SUMIF(Combi3,$V$10&DATE(Boekjaar,$B21,AJ$16),UrenAantal),SUMIF(DataRij,DATE(Boekjaar,$B21,AJ$16),UrenAantal)) -> 0 | AK21: Mei | AN21: =SUM(F21:AJ21) -> 0 | AP21: =SUMIF(UrenMaand,$B21,UrenAantal) -> 0 | AR21: =SUMIF(Combi2,"Ja"&$B21,UrenAantal) -> 0
B22: 6 | C22: Juni | F22: =IF($V$10="Ja",SUMIF(Combi3,$V$10&DATE(Boekjaar,$B22,F$16),UrenAantal),SUMIF(DataRij,DATE(Boekjaar,$B22,F$16),UrenAantal)) -> 0 | G22: =IF($V$10="Ja",SUMIF(Combi3,$V$10&DATE(Boekjaar,$B22,G$16),UrenAantal),SUMIF(DataRij,DATE(Boekjaar,$B22,G$16),UrenAantal)) -> 0 | H22: =IF($V$10="Ja",SUMIF(Combi3,$V$10&DATE(Boekjaar,$B22,H$16),UrenAantal),SUMIF(DataRij,DATE(Boekjaar,$B22,H$16),UrenAantal)) -> 0 | I22: =IF($V$10="Ja",SUMIF(Combi3,$V$10&DATE(Boekjaar,$B22,I$16),UrenAantal),SUMIF(DataRij,DATE(Boekjaar,$B22,I$16),UrenAantal)) -> 0 | J22: =IF($V$10="Ja",SUMIF(Combi3,$V$10&DATE(Boekjaar,$B22,J$16),UrenAantal),SUMIF(DataRij,DATE(Boekjaar,$B22,J$16),UrenAantal)) -> 0 | K22: =IF($V$10="Ja",SUMIF(Combi3,$V$10&DATE(Boekjaar,$B22,K$16),UrenAantal),SUMIF(DataRij,DATE(Boekjaar,$B22,K$16),UrenAantal)) -> 0 | L22: =IF($V$10="Ja",SUMIF(Combi3,$V$10&DATE(Boekjaar,$B22,L$16),UrenAantal),SUMIF(DataRij,DATE(Boekjaar,$B22,L$16),UrenAantal)) -> 0 | M22: =IF($V$10="Ja",SUMIF(Combi3,$V$10&DATE(Boekjaar,$B22,M$16),UrenAantal),SUMIF(DataRij,DATE(Boekjaar,$B22,M$16),UrenAantal)) -> 0 | ... AI22: =IF($V$10="Ja",SUMIF(Combi3,$V$10&DATE(Boekjaar,$B22,AI$16),UrenAantal),SUMIF(DataRij,DATE(Boekjaar,$B22,AI$16),UrenAantal)) -> 0 | AK22: Juni | AN22: =SUM(F22:AJ22) -> 0 | AP22: =SUMIF(UrenMaand,$B22,UrenAantal) -> 0 | AR22: =SUMIF(Combi2,"Ja"&$B22,UrenAantal) -> 0
B23: 7 | C23: Juli | F23: =IF($V$10="Ja",SUMIF(Combi3,$V$10&DATE(Boekjaar,$B23,F$16),UrenAantal),SUMIF(DataRij,DATE(Boekjaar,$B23,F$16),UrenAantal)) -> 0 | G23: =IF($V$10="Ja",SUMIF(Combi3,$V$10&DATE(Boekjaar,$B23,G$16),UrenAantal),SUMIF(DataRij,DATE(Boekjaar,$B23,G$16),UrenAantal)) -> 0 | H23: =IF($V$10="Ja",SUMIF(Combi3,$V$10&DATE(Boekjaar,$B23,H$16),UrenAantal),SUMIF(DataRij,DATE(Boekjaar,$B23,H$16),UrenAantal)) -> 0 | I23: =IF($V$10="Ja",SUMIF(Combi3,$V$10&DATE(Boekjaar,$B23,I$16),UrenAantal),SUMIF(DataRij,DATE(Boekjaar,$B23,I$16),UrenAantal)) -> 0 | J23: =IF($V$10="Ja",SUMIF(Combi3,$V$10&DATE(Boekjaar,$B23,J$16),UrenAantal),SUMIF(DataRij,DATE(Boekjaar,$B23,J$16),UrenAantal)) -> 0 | K23: =IF($V$10="Ja",SUMIF(Combi3,$V$10&DATE(Boekjaar,$B23,K$16),UrenAantal),SUMIF(DataRij,DATE(Boekjaar,$B23,K$16),UrenAantal)) -> 0 | L23: =IF($V$10="Ja",SUMIF(Combi3,$V$10&DATE(Boekjaar,$B23,L$16),UrenAantal),SUMIF(DataRij,DATE(Boekjaar,$B23,L$16),UrenAantal)) -> 0 | M23: =IF($V$10="Ja",SUMIF(Combi3,$V$10&DATE(Boekjaar,$B23,M$16),UrenAantal),SUMIF(DataRij,DATE(Boekjaar,$B23,M$16),UrenAantal)) -> 0 | ... AJ23: =IF($V$10="Ja",SUMIF(Combi3,$V$10&DATE(Boekjaar,$B23,AJ$16),UrenAantal),SUMIF(DataRij,DATE(Boekjaar,$B23,AJ$16),UrenAantal)) -> 0 | AK23: Juli | AN23: =SUM(F23:AJ23) -> 0 | AP23: =SUMIF(UrenMaand,$B23,UrenAantal) -> 0 | AR23: =SUMIF(Combi2,"Ja"&$B23,UrenAantal) -> 0
B24: 8 | C24: Augustus | F24: =IF($V$10="Ja",SUMIF(Combi3,$V$10&DATE(Boekjaar,$B24,F$16),UrenAantal),SUMIF(DataRij,DATE(Boekjaar,$B24,F$16),UrenAantal)) -> 0 | G24: =IF($V$10="Ja",SUMIF(Combi3,$V$10&DATE(Boekjaar,$B24,G$16),UrenAantal),SUMIF(DataRij,DATE(Boekjaar,$B24,G$16),UrenAantal)) -> 0 | H24: =IF($V$10="Ja",SUMIF(Combi3,$V$10&DATE(Boekjaar,$B24,H$16),UrenAantal),SUMIF(DataRij,DATE(Boekjaar,$B24,H$16),UrenAantal)) -> 0 | I24: =IF($V$10="Ja",SUMIF(Combi3,$V$10&DATE(Boekjaar,$B24,I$16),UrenAantal),SUMIF(DataRij,DATE(Boekjaar,$B24,I$16),UrenAantal)) -> 0 | J24: =IF($V$10="Ja",SUMIF(Combi3,$V$10&DATE(Boekjaar,$B24,J$16),UrenAantal),SUMIF(DataRij,DATE(Boekjaar,$B24,J$16),UrenAantal)) -> 0 | K24: =IF($V$10="Ja",SUMIF(Combi3,$V$10&DATE(Boekjaar,$B24,K$16),UrenAantal),SUMIF(DataRij,DATE(Boekjaar,$B24,K$16),UrenAantal)) -> 0 | L24: =IF($V$10="Ja",SUMIF(Combi3,$V$10&DATE(Boekjaar,$B24,L$16),UrenAantal),SUMIF(DataRij,DATE(Boekjaar,$B24,L$16),UrenAantal)) -> 0 | M24: =IF($V$10="Ja",SUMIF(Combi3,$V$10&DATE(Boekjaar,$B24,M$16),UrenAantal),SUMIF(DataRij,DATE(Boekjaar,$B24,M$16),UrenAantal)) -> 0 | ... AJ24: =IF($V$10="Ja",SUMIF(Combi3,$V$10&DATE(Boekjaar,$B24,AJ$16),UrenAantal),SUMIF(DataRij,DATE(Boekjaar,$B24,AJ$16),UrenAantal)) -> 0 | AK24: Augustus | AN24: =SUM(F24:AJ24) -> 0 | AP24: =SUMIF(UrenMaand,$B24,UrenAantal) -> 0 | AR24: =SUMIF(Combi2,"Ja"&$B24,UrenAantal) -> 0
B25: 9 | C25: September | F25: =IF($V$10="Ja",SUMIF(Combi3,$V$10&DATE(Boekjaar,$B25,F$16),UrenAantal),SUMIF(DataRij,DATE(Boekjaar,$B25,F$16),UrenAantal)) -> 0 | G25: =IF($V$10="Ja",SUMIF(Combi3,$V$10&DATE(Boekjaar,$B25,G$16),UrenAantal),SUMIF(DataRij,DATE(Boekjaar,$B25,G$16),UrenAantal)) -> 0 | H25: =IF($V$10="Ja",SUMIF(Combi3,$V$10&DATE(Boekjaar,$B25,H$16),UrenAantal),SUMIF(DataRij,DATE(Boekjaar,$B25,H$16),UrenAantal)) -> 0 | I25: =IF($V$10="Ja",SUMIF(Combi3,$V$10&DATE(Boekjaar,$B25,I$16),UrenAantal),SUMIF(DataRij,DATE(Boekjaar,$B25,I$16),UrenAantal)) -> 0 | J25: =IF($V$10="Ja",SUMIF(Combi3,$V$10&DATE(Boekjaar,$B25,J$16),UrenAantal),SUMIF(DataRij,DATE(Boekjaar,$B25,J$16),UrenAantal)) -> 0 | K25: =IF($V$10="Ja",SUMIF(Combi3,$V$10&DATE(Boekjaar,$B25,K$16),UrenAantal),SUMIF(DataRij,DATE(Boekjaar,$B25,K$16),UrenAantal)) -> 0 | L25: =IF($V$10="Ja",SUMIF(Combi3,$V$10&DATE(Boekjaar,$B25,L$16),UrenAantal),SUMIF(DataRij,DATE(Boekjaar,$B25,L$16),UrenAantal)) -> 0 | M25: =IF($V$10="Ja",SUMIF(Combi3,$V$10&DATE(Boekjaar,$B25,M$16),UrenAantal),SUMIF(DataRij,DATE(Boekjaar,$B25,M$16),UrenAantal)) -> 0 | ... AI25: =IF($V$10="Ja",SUMIF(Combi3,$V$10&DATE(Boekjaar,$B25,AI$16),UrenAantal),SUMIF(DataRij,DATE(Boekjaar,$B25,AI$16),UrenAantal)) -> 0 | AK25: September | AN25: =SUM(F25:AJ25) -> 0 | AP25: =SUMIF(UrenMaand,$B25,UrenAantal) -> 0 | AR25: =SUMIF(Combi2,"Ja"&$B25,UrenAantal) -> 0
B26: 10 | C26: Oktober | F26: =IF($V$10="Ja",SUMIF(Combi3,$V$10&DATE(Boekjaar,$B26,F$16),UrenAantal),SUMIF(DataRij,DATE(Boekjaar,$B26,F$16),UrenAantal)) -> 0 | G26: =IF($V$10="Ja",SUMIF(Combi3,$V$10&DATE(Boekjaar,$B26,G$16),UrenAantal),SUMIF(DataRij,DATE(Boekjaar,$B26,G$16),UrenAantal)) -> 0 | H26: =IF($V$10="Ja",SUMIF(Combi3,$V$10&DATE(Boekjaar,$B26,H$16),UrenAantal),SUMIF(DataRij,DATE(Boekjaar,$B26,H$16),UrenAantal)) -> 0 | I26: =IF($V$10="Ja",SUMIF(Combi3,$V$10&DATE(Boekjaar,$B26,I$16),UrenAantal),SUMIF(DataRij,DATE(Boekjaar,$B26,I$16),UrenAantal)) -> 0 | J26: =IF($V$10="Ja",SUMIF(Combi3,$V$10&DATE(Boekjaar,$B26,J$16),UrenAantal),SUMIF(DataRij,DATE(Boekjaar,$B26,J$16),UrenAantal)) -> 0 | K26: =IF($V$10="Ja",SUMIF(Combi3,$V$10&DATE(Boekjaar,$B26,K$16),UrenAantal),SUMIF(DataRij,DATE(Boekjaar,$B26,K$16),UrenAantal)) -> 0 | L26: =IF($V$10="Ja",SUMIF(Combi3,$V$10&DATE(Boekjaar,$B26,L$16),UrenAantal),SUMIF(DataRij,DATE(Boekjaar,$B26,L$16),UrenAantal)) -> 0 | M26: =IF($V$10="Ja",SUMIF(Combi3,$V$10&DATE(Boekjaar,$B26,M$16),UrenAantal),SUMIF(DataRij,DATE(Boekjaar,$B26,M$16),UrenAantal)) -> 0 | ... AJ26: =IF($V$10="Ja",SUMIF(Combi3,$V$10&DATE(Boekjaar,$B26,AJ$16),UrenAantal),SUMIF(DataRij,DATE(Boekjaar,$B26,AJ$16),UrenAantal)) -> 0 | AK26: Oktober | AN26: =SUM(F26:AJ26) -> 0 | AP26: =SUMIF(UrenMaand,$B26,UrenAantal) -> 0 | AR26: =SUMIF(Combi2,"Ja"&$B26,UrenAantal) -> 0
B27: 11 | C27: November | F27: =IF($V$10="Ja",SUMIF(Combi3,$V$10&DATE(Boekjaar,$B27,F$16),UrenAantal),SUMIF(DataRij,DATE(Boekjaar,$B27,F$16),UrenAantal)) -> 0 | G27: =IF($V$10="Ja",SUMIF(Combi3,$V$10&DATE(Boekjaar,$B27,G$16),UrenAantal),SUMIF(DataRij,DATE(Boekjaar,$B27,G$16),UrenAantal)) -> 0 | H27: =IF($V$10="Ja",SUMIF(Combi3,$V$10&DATE(Boekjaar,$B27,H$16),UrenAantal),SUMIF(DataRij,DATE(Boekjaar,$B27,H$16),UrenAantal)) -> 0 | I27: =IF($V$10="Ja",SUMIF(Combi3,$V$10&DATE(Boekjaar,$B27,I$16),UrenAantal),SUMIF(DataRij,DATE(Boekjaar,$B27,I$16),UrenAantal)) -> 0 | J27: =IF($V$10="Ja",SUMIF(Combi3,$V$10&DATE(Boekjaar,$B27,J$16),UrenAantal),SUMIF(DataRij,DATE(Boekjaar,$B27,J$16),UrenAantal)) -> 0 | K27: =IF($V$10="Ja",SUMIF(Combi3,$V$10&DATE(Boekjaar,$B27,K$16),UrenAantal),SUMIF(DataRij,DATE(Boekjaar,$B27,K$16),UrenAantal)) -> 0 | L27: =IF($V$10="Ja",SUMIF(Combi3,$V$10&DATE(Boekjaar,$B27,L$16),UrenAantal),SUMIF(DataRij,DATE(Boekjaar,$B27,L$16),UrenAantal)) -> 0 | M27: =IF($V$10="Ja",SUMIF(Combi3,$V$10&DATE(Boekjaar,$B27,M$16),UrenAantal),SUMIF(DataRij,DATE(Boekjaar,$B27,M$16),UrenAantal)) -> 0 | ... AI27: =IF($V$10="Ja",SUMIF(Combi3,$V$10&DATE(Boekjaar,$B27,AI$16),UrenAantal),SUMIF(DataRij,DATE(Boekjaar,$B27,AI$16),UrenAantal)) -> 0 | AK27: November | AN27: =SUM(F27:AJ27) -> 0 | AP27: =SUMIF(UrenMaand,$B27,UrenAantal) -> 0 | AR27: =SUMIF(Combi2,"Ja"&$B27,UrenAantal) -> 0
B28: 12 | C28: December | F28: =IF($V$10="Ja",SUMIF(Combi3,$V$10&DATE(Boekjaar,$B28,F$16),UrenAantal),SUMIF(DataRij,DATE(Boekjaar,$B28,F$16),UrenAantal)) -> 0 | G28: =IF($V$10="Ja",SUMIF(Combi3,$V$10&DATE(Boekjaar,$B28,G$16),UrenAantal),SUMIF(DataRij,DATE(Boekjaar,$B28,G$16),UrenAantal)) -> 0 | H28: =IF($V$10="Ja",SUMIF(Combi3,$V$10&DATE(Boekjaar,$B28,H$16),UrenAantal),SUMIF(DataRij,DATE(Boekjaar,$B28,H$16),UrenAantal)) -> 0 | I28: =IF($V$10="Ja",SUMIF(Combi3,$V$10&DATE(Boekjaar,$B28,I$16),UrenAantal),SUMIF(DataRij,DATE(Boekjaar,$B28,I$16),UrenAantal)) -> 0 | J28: =IF($V$10="Ja",SUMIF(Combi3,$V$10&DATE(Boekjaar,$B28,J$16),UrenAantal),SUMIF(DataRij,DATE(Boekjaar,$B28,J$16),UrenAantal)) -> 0 | K28: =IF($V$10="Ja",SUMIF(Combi3,$V$10&DATE(Boekjaar,$B28,K$16),UrenAantal),SUMIF(DataRij,DATE(Boekjaar,$B28,K$16),UrenAantal)) -> 0 | L28: =IF($V$10="Ja",SUMIF(Combi3,$V$10&DATE(Boekjaar,$B28,L$16),UrenAantal),SUMIF(DataRij,DATE(Boekjaar,$B28,L$16),UrenAantal)) -> 0 | M28: =IF($V$10="Ja",SUMIF(Combi3,$V$10&DATE(Boekjaar,$B28,M$16),UrenAantal),SUMIF(DataRij,DATE(Boekjaar,$B28,M$16),UrenAantal)) -> 0 | ... AJ28: =IF($V$10="Ja",SUMIF(Combi3,$V$10&DATE(Boekjaar,$B28,AJ$16),UrenAantal),SUMIF(DataRij,DATE(Boekjaar,$B28,AJ$16),UrenAantal)) -> 0 | AK28: December | AN28: =SUM(F28:AJ28) -> 0 | AP28: =SUMIF(UrenMaand,$B28,UrenAantal) -> 0 | AR28: =SUMIF(Combi2,"Ja"&$B28,UrenAantal) -> 0
AK29: Totaal | AN29: =SUM(AN17:AO28) -> 0 | AP29: =SUM(AP17:AQ28) -> 0 | AR29: =SUM(AR17:AS28) -> 0
C32: Weekenddag | H32: Feestdag | M32: =IF(OR(MOD(YEAR(DATE(Jaar,$B18,AH$16)),400)=0,AND(MOD(YEAR(DATE(Jaar,$B18,AH$16)),4)=0,MOD(YEAR(DATE(Jaar,$B18,AH$16)),100)<>0)),"Schrikkeldag","")

Sheet Urenrapport
B2: Urenrapportage
B3: =Bedrijfsnaam -> Bedrijfsnaam
B5: Uren per categorie | L5: Uren naar aard
B6: Categorie | D6: Aard | F6: Criterium | G6: Uren | H6: % totaal | L6: Aard | N6: Uren | O6: % totaal
B7: =IF(Instellingen!B31="","",Instellingen!B31) -> Voorbereiden | D7: =IF(ISERROR(VLOOKUP(B7,UrenTabel,3,FALSE)),"",VLOOKUP(B7,UrenTabel,3,FALSE)) -> Direct | F7: =IF(ISERROR(VLOOKUP(B7,UrenTabel,2,FALSE)),"",VLOOKUP(B7,UrenTabel,2,FALSE)) -> Ja | G7: =IF(B7="","",SUMIF(UrenCategorie,B7,UrenAantal)) -> 0 | H7: =IF(ISERROR(+G7/$G$37),0,+G7/$G$37) -> 0 | I7: =H7 -> 0 | L7: =IF(Instellingen!B21="","",Instellingen!B21) -> Direct | N7: =IF(L7="","",SUMIF(UrenAard2,L7,UrenAantal)) -> 0 | O7: =IF(ISERROR(+N7/$N$15),0,+N7/$N$15) -> 0 | P7: =O7 -> 0
B8: =IF(Instellingen!B32="","",Instellingen!B32) -> Uitvoeren | D8: =IF(ISERROR(VLOOKUP(B8,UrenTabel,3,FALSE)),"",VLOOKUP(B8,UrenTabel,3,FALSE)) -> Direct | F8: =IF(ISERROR(VLOOKUP(B8,UrenTabel,2,FALSE)),"",VLOOKUP(B8,UrenTabel,2,FALSE)) -> Ja | G8: =IF(B8="","",SUMIF(UrenCategorie,B8,UrenAantal)) -> 0 | H8: =IF(ISERROR(+G8/$G$37),0,+G8/$G$37) -> 0 | I8: =H8 -> 0 | L8: =IF(Instellingen!B22="","",Instellingen!B22) -> Administratie | N8: =IF(L8="","",SUMIF(UrenAard2,L8,UrenAantal)) -> 0 | O8: =IF(ISERROR(+N8/$N$15),0,+N8/$N$15) -> 0 | P8: =O8 -> 0
B9: =IF(Instellingen!B33="","",Instellingen!B33) -> Overleggen met klant | D9: =IF(ISERROR(VLOOKUP(B9,UrenTabel,3,FALSE)),"",VLOOKUP(B9,UrenTabel,3,FALSE)) -> Direct | F9: =IF(ISERROR(VLOOKUP(B9,UrenTabel,2,FALSE)),"",VLOOKUP(B9,UrenTabel,2,FALSE)) -> Ja | G9: =IF(B9="","",SUMIF(UrenCategorie,B9,UrenAantal)) -> 0 | H9: =IF(ISERROR(+G9/$G$37),0,+G9/$G$37) -> 0 | I9: =H9 -> 0 | L9: =IF(Instellingen!B23="","",Instellingen!B23) -> Acquisitie | N9: =IF(L9="","",SUMIF(UrenAard2,L9,UrenAantal)) -> 0 | O9: =IF(ISERROR(+N9/$N$15),0,+N9/$N$15) -> 0 | P9: =O9 -> 0
B10: =IF(Instellingen!B34="","",Instellingen!B34) -> Verslagleggen | D10: =IF(ISERROR(VLOOKUP(B10,UrenTabel,3,FALSE)),"",VLOOKUP(B10,UrenTabel,3,FALSE)) -> Direct | F10: =IF(ISERROR(VLOOKUP(B10,UrenTabel,2,FALSE)),"",VLOOKUP(B10,UrenTabel,2,FALSE)) -> Ja | G10: =IF(B10="","",SUMIF(UrenCategorie,B10,UrenAantal)) -> 0 | H10: =IF(ISERROR(+G10/$G$37),0,+G10/$G$37) -> 0 | I10: =H10 -> 0 | L10: =IF(Instellingen!B24="","",Instellingen!B24) -> Scholing | N10: =IF(L10="","",SUMIF(UrenAard2,L10,UrenAantal)) -> 0 | O10: =IF(ISERROR(+N10/$N$15),0,+N10/$N$15) -> 0 | P10: =O10 -> 0
B11: =IF(Instellingen!B35="","",Instellingen!B35) -> Reizen | D11: =IF(ISERROR(VLOOKUP(B11,UrenTabel,3,FALSE)),"",VLOOKUP(B11,UrenTabel,3,FALSE)) -> Direct | F11: =IF(ISERROR(VLOOKUP(B11,UrenTabel,2,FALSE)),"",VLOOKUP(B11,UrenTabel,2,FALSE)) -> Ja | G11: =IF(B11="","",SUMIF(UrenCategorie,B11,UrenAantal)) -> 0 | H11: =IF(ISERROR(+G11/$G$37),0,+G11/$G$37) -> 0 | I11: =H11 -> 0 | L11: =IF(Instellingen!B25="","",Instellingen!B25) -> Werkruimte | N11: =IF(L11="","",SUMIF(UrenAard2,L11,UrenAantal)) -> 0 | O11: =IF(ISERROR(+N11/$N$15),0,+N11/$N$15) -> 0 | P11: =O11 -> 0
B12: =IF(Instellingen!B36="","",Instellingen!B36) -> Boekhouden | D12: =IF(ISERROR(VLOOKUP(B12,UrenTabel,3,FALSE)),"",VLOOKUP(B12,UrenTabel,3,FALSE)) -> Administratie | F12: =IF(ISERROR(VLOOKUP(B12,UrenTabel,2,FALSE)),"",VLOOKUP(B12,UrenTabel,2,FALSE)) -> Ja | G12: =IF(B12="","",SUMIF(UrenCategorie,B12,UrenAantal)) -> 0 | H12: =IF(ISERROR(+G12/$G$37),0,+G12/$G$37) -> 0 | I12: =H12 -> 0 | L12: =IF(Instellingen!B26="","",Instellingen!B26) -> Overig | N12: =IF(L12="","",SUMIF(UrenAard2,L12,UrenAantal)) -> 0 | O12: =IF(ISERROR(+N12/$N$15),0,+N12/$N$15) -> 0 | P12: =O12 -> 0
B13: =IF(Instellingen!B37="","",Instellingen!B37) -> Factureren | D13: =IF(ISERROR(VLOOKUP(B13,UrenTabel,3,FALSE)),"",VLOOKUP(B13,UrenTabel,3,FALSE)) -> Administratie | F13: =IF(ISERROR(VLOOKUP(B13,UrenTabel,2,FALSE)),"",VLOOKUP(B13,UrenTabel,2,FALSE)) -> Ja | G13: =IF(B13="","",SUMIF(UrenCategorie,B13,UrenAantal)) -> 0 | H13: =IF(ISERROR(+G13/$G$37),0,+G13/$G$37) -> 0 | I13: =H13 -> 0 | L13: =IF(Instellingen!B27="","",Instellingen!B27) | N13: =IF(L13="","",SUMIF(UrenAard2,L13,UrenAantal)) | O13: =IF(ISERROR(+N13/$N$15),0,+N13/$N$15) -> 0 | P13: =O13 -> 0
B14: =IF(Instellingen!B38="","",Instellingen!B38) -> Betalen | D14: =IF(ISERROR(VLOOKUP(B14,UrenTabel,3,FALSE)),"",VLOOKUP(B14,UrenTabel,3,FALSE)) -> Administratie | F14: =IF(ISERROR(VLOOKUP(B14,UrenTabel,2,FALSE)),"",VLOOKUP(B14,UrenTabel,2,FALSE)) -> Ja | G14: =IF(B14="","",SUMIF(UrenCategorie,B14,UrenAantal)) -> 0 | H14: =IF(ISERROR(+G14/$G$37),0,+G14/$G$37) -> 0 | I14: =H14 -> 0 | L14: =IF(Instellingen!B28="","",Instellingen!B28) | N14: =SUMIF(UrenAard2,L14,UrenAantal) -> 0 | O14: =IF(ISERROR(+N14/$N$15),0,+N14/$N$15) -> 0 | P14: =O14 -> 0
B15: =IF(Instellingen!B39="","",Instellingen!B39) -> Post | D15: =IF(ISERROR(VLOOKUP(B15,UrenTabel,3,FALSE)),"",VLOOKUP(B15,UrenTabel,3,FALSE)) -> Administratie | F15: =IF(ISERROR(VLOOKUP(B15,UrenTabel,2,FALSE)),"",VLOOKUP(B15,UrenTabel,2,FALSE)) -> Ja | G15: =IF(B15="","",SUMIF(UrenCategorie,B15,UrenAantal)) -> 0 | H15: =IF(ISERROR(+G15/$G$37),0,+G15/$G$37) -> 0 | I15: =H15 -> 0 | L15: Totaal | N15: =SUM(N7:N14) -> 0 | O15: =IF(ISERROR(+N15/$N$15),0,+N15/$N$15) -> 0
B16: =IF(Instellingen!B40="","",Instellingen!B40) -> Archiveren | D16: =IF(ISERROR(VLOOKUP(B16,UrenTabel,3,FALSE)),"",VLOOKUP(B16,UrenTabel,3,FALSE)) -> Administratie | F16: =IF(ISERROR(VLOOKUP(B16,UrenTabel,2,FALSE)),"",VLOOKUP(B16,UrenTabel,2,FALSE)) -> Ja | G16: =IF(B16="","",SUMIF(UrenCategorie,B16,UrenAantal)) -> 0 | H16: =IF(ISERROR(+G16/$G$37),0,+G16/$G$37) -> 0 | I16: =H16 -> 0
B17: =IF(Instellingen!B41="","",Instellingen!B41) -> Adverteren | D17: =IF(ISERROR(VLOOKUP(B17,UrenTabel,3,FALSE)),"",VLOOKUP(B17,UrenTabel,3,FALSE)) -> Acquisitie | F17: =IF(ISERROR(VLOOKUP(B17,UrenTabel,2,FALSE)),"",VLOOKUP(B17,UrenTabel,2,FALSE)) -> Ja | G17: =IF(B17="","",SUMIF(UrenCategorie,B17,UrenAantal)) -> 0 | H17: =IF(ISERROR(+G17/$G$37),0,+G17/$G$37) -> 0 | I17: =H17 -> 0
B18: =IF(Instellingen!B42="","",Instellingen!B42) -> Netwerken | D18: =IF(ISERROR(VLOOKUP(B18,UrenTabel,3,FALSE)),"",VLOOKUP(B18,UrenTabel,3,FALSE)) -> Acquisitie | F18: =IF(ISERROR(VLOOKUP(B18,UrenTabel,2,FALSE)),"",VLOOKUP(B18,UrenTabel,2,FALSE)) -> Ja | G18: =IF(B18="","",SUMIF(UrenCategorie,B18,UrenAantal)) -> 0 | H18: =IF(ISERROR(+G18/$G$37),0,+G18/$G$37) -> 0 | I18: =H18 -> 0 | L18: Urencriterium
B19: =IF(Instellingen!B43="","",Instellingen!B43) -> Bellen | D19: =IF(ISERROR(VLOOKUP(B19,UrenTabel,3,FALSE)),"",VLOOKUP(B19,UrenTabel,3,FALSE)) -> Acquisitie | F19: =IF(ISERROR(VLOOKUP(B19,UrenTabel,2,FALSE)),"",VLOOKUP(B19,UrenTabel,2,FALSE)) -> Ja | G19: =IF(B19="","",SUMIF(UrenCategorie,B19,UrenAantal)) -> 0 | H19: =IF(ISERROR(+G19/$G$37),0,+G19/$G$37) -> 0 | I19: =H19 -> 0 | L19: Criterium | N19: Uren | O19: % totaal
B20: =IF(Instellingen!B44="","",Instellingen!B44) -> Mailen | D20: =IF(ISERROR(VLOOKUP(B20,UrenTabel,3,FALSE)),"",VLOOKUP(B20,UrenTabel,3,FALSE)) -> Acquisitie | F20: =IF(ISERROR(VLOOKUP(B20,UrenTabel,2,FALSE)),"",VLOOKUP(B20,UrenTabel,2,FALSE)) -> Ja | G20: =IF(B20="","",SUMIF(UrenCategorie,B20,UrenAantal)) -> 0 | H20: =IF(ISERROR(+G20/$G$37),0,+G20/$G$37) -> 0 | I20: =H20 -> 0 | L20: Ja | N20: =SUMIF(UrenCriterium2,L20,UrenAantal) -> 0 | O20: =IF(ISERROR(+N20/$N$23),0,+N20/$N$23) -> 0 | P20: =O20 -> 0
B21: =IF(Instellingen!B45="","",Instellingen!B45) -> Maken promotiemateriaal | D21: =IF(ISERROR(VLOOKUP(B21,UrenTabel,3,FALSE)),"",VLOOKUP(B21,UrenTabel,3,FALSE)) -> Acquisitie | F21: =IF(ISERROR(VLOOKUP(B21,UrenTabel,2,FALSE)),"",VLOOKUP(B21,UrenTabel,2,FALSE)) -> Ja | G21: =IF(B21="","",SUMIF(UrenCategorie,B21,UrenAantal)) -> 0 | H21: =IF(ISERROR(+G21/$G$37),0,+G21/$G$37) -> 0 | I21: =H21 -> 0 | L21: Nee | N21: =SUMIF(UrenCriterium2,L21,UrenAantal) -> 0 | O21: =IF(ISERROR(+N21/$N$23),0,+N21/$N$23) -> 0 | P21: =O21 -> 0
B22: =IF(Instellingen!B46="","",Instellingen!B46) -> Bezoeken beurzen | D22: =IF(ISERROR(VLOOKUP(B22,UrenTabel,3,FALSE)),"",VLOOKUP(B22,UrenTabel,3,FALSE)) -> Acquisitie | F22: =IF(ISERROR(VLOOKUP(B22,UrenTabel,2,FALSE)),"",VLOOKUP(B22,UrenTabel,2,FALSE)) -> Ja | G22: =IF(B22="","",SUMIF(UrenCategorie,B22,UrenAantal)) -> 0 | H22: =IF(ISERROR(+G22/$G$37),0,+G22/$G$37) -> 0 | I22: =H22 -> 0 | N22: =+N15-N20-N21 -> 0 | O22: =IF(ISERROR(+N22/$N$23),0,+N22/$N$23) -> 0 | P22: =O22 -> 0
B23: =IF(Instellingen!B47="","",Instellingen!B47) -> Opleiden | D23: =IF(ISERROR(VLOOKUP(B23,UrenTabel,3,FALSE)),"",VLOOKUP(B23,UrenTabel,3,FALSE)) -> Scholing | F23: =IF(ISERROR(VLOOKUP(B23,UrenTabel,2,FALSE)),"",VLOOKUP(B23,UrenTabel,2,FALSE)) -> Ja | G23: =IF(B23="","",SUMIF(UrenCategorie,B23,UrenAantal)) -> 0 | H23: =IF(ISERROR(+G23/$G$37),0,+G23/$G$37) -> 0 | I23: =H23 -> 0 | L23: Totaal | N23: =SUM(N20:N22) -> 0 | O23: =IF(ISERROR(+N23/$N$23),0,+N23/$N$23) -> 0
B24: =IF(Instellingen!B48="","",Instellingen!B48) -> Lezen vakliteratuur | D24: =IF(ISERROR(VLOOKUP(B24,UrenTabel,3,FALSE)),"",VLOOKUP(B24,UrenTabel,3,FALSE)) -> Scholing | F24: =IF(ISERROR(VLOOKUP(B24,UrenTabel,2,FALSE)),"",VLOOKUP(B24,UrenTabel,2,FALSE)) -> Ja | G24: =IF(B24="","",SUMIF(UrenCategorie,B24,UrenAantal)) -> 0 | H24: =IF(ISERROR(+G24/$G$37),0,+G24/$G$37) -> 0 | I24: =H24 -> 0 | L24: Benodigd | N24: =UrenUrencriterium -> 1225
B25: =IF(Instellingen!B49="","",Instellingen!B49) -> Intervisie | D25: =IF(ISERROR(VLOOKUP(B25,UrenTabel,3,FALSE)),"",VLOOKUP(B25,UrenTabel,3,FALSE)) -> Scholing | F25: =IF(ISERROR(VLOOKUP(B25,UrenTabel,2,FALSE)),"",VLOOKUP(B25,UrenTabel,2,FALSE)) -> Ja | G25: =IF(B25="","",SUMIF(UrenCategorie,B25,UrenAantal)) -> 0 | H25: =IF(ISERROR(+G25/$G$37),0,+G25/$G$37) -> 0 | I25: =H25 -> 0 | L25: % Behaald | N25: =+N20/N24 -> 0
B26: =IF(Instellingen!B50="","",Instellingen!B50) -> Onderhouden machines | D26: =IF(ISERROR(VLOOKUP(B26,UrenTabel,3,FALSE)),"",VLOOKUP(B26,UrenTabel,3,FALSE)) -> Werkruimte | F26: =IF(ISERROR(VLOOKUP(B26,UrenTabel,2,FALSE)),"",VLOOKUP(B26,UrenTabel,2,FALSE)) -> Ja | G26: =IF(B26="","",SUMIF(UrenCategorie,B26,UrenAantal)) -> 0 | H26: =IF(ISERROR(+G26/$G$37),0,+G26/$G$37) -> 0 | I26: =H26 -> 0
B27: =IF(Instellingen!B51="","",Instellingen!B51) -> Schoonmaken | D27: =IF(ISERROR(VLOOKUP(B27,UrenTabel,3,FALSE)),"",VLOOKUP(B27,UrenTabel,3,FALSE)) -> Werkruimte | F27: =IF(ISERROR(VLOOKUP(B27,UrenTabel,2,FALSE)),"",VLOOKUP(B27,UrenTabel,2,FALSE)) -> Ja | G27: =IF(B27="","",SUMIF(UrenCategorie,B27,UrenAantal)) -> 0 | H27: =IF(ISERROR(+G27/$G$37),0,+G27/$G$37) -> 0 | I27: =H27 -> 0 | L27: Prognose urencriterium
B28: =IF(Instellingen!B52="","",Instellingen!B52) -> Opruimen | D28: =IF(ISERROR(VLOOKUP(B28,UrenTabel,3,FALSE)),"",VLOOKUP(B28,UrenTabel,3,FALSE)) -> Werkruimte | F28: =IF(ISERROR(VLOOKUP(B28,UrenTabel,2,FALSE)),"",VLOOKUP(B28,UrenTabel,2,FALSE)) -> Ja | G28: =IF(B28="","",SUMIF(UrenCategorie,B28,UrenAantal)) -> 0 | H28: =IF(ISERROR(+G28/$G$37),0,+G28/$G$37) -> 0 | I28: =H28 -> 0 | L28: Criterium | N28: Uren
B29: =IF(Instellingen!B53="","",Instellingen!B53) -> Overig | D29: =IF(ISERROR(VLOOKUP(B29,UrenTabel,3,FALSE)),"",VLOOKUP(B29,UrenTabel,3,FALSE)) -> Overig | F29: =IF(ISERROR(VLOOKUP(B29,UrenTabel,2,FALSE)),"",VLOOKUP(B29,UrenTabel,2,FALSE)) -> Nee | G29: =IF(B29="","",SUMIF(UrenCategorie,B29,UrenAantal)) -> 0 | H29: =IF(ISERROR(+G29/$G$37),0,+G29/$G$37) -> 0 | I29: =H29 -> 0 | L29: Minimum datum | N29: =MIN(DataRij) -> 0
B30: =IF(Instellingen!B54="","",Instellingen!B54) -> Vakantie | D30: =IF(ISERROR(VLOOKUP(B30,UrenTabel,3,FALSE)),"",VLOOKUP(B30,UrenTabel,3,FALSE)) -> Overig | F30: =IF(ISERROR(VLOOKUP(B30,UrenTabel,2,FALSE)),"",VLOOKUP(B30,UrenTabel,2,FALSE)) -> Nee | G30: =IF(B30="","",SUMIF(UrenCategorie,B30,UrenAantal)) -> 0 | H30: =IF(ISERROR(+G30/$G$37),0,+G30/$G$37) -> 0 | I30: =H30 -> 0 | L30: Maximum datum | N30: =MAX(DataRij) -> 0
B31: =IF(Instellingen!B55="","",Instellingen!B55) -> Vrij | D31: =IF(ISERROR(VLOOKUP(B31,UrenTabel,3,FALSE)),"",VLOOKUP(B31,UrenTabel,3,FALSE)) -> Overig | F31: =IF(ISERROR(VLOOKUP(B31,UrenTabel,2,FALSE)),"",VLOOKUP(B31,UrenTabel,2,FALSE)) -> Nee | G31: =IF(B31="","",SUMIF(UrenCategorie,B31,UrenAantal)) -> 0 | H31: =IF(ISERROR(+G31/$G$37),0,+G31/$G$37) -> 0 | I31: =H31 -> 0 | L31: Aantal dagen | N31: =N30-N29+1 -> 1
B32: =IF(Instellingen!B56="","",Instellingen!B56) -> Bezoek | D32: =IF(ISERROR(VLOOKUP(B32,UrenTabel,3,FALSE)),"",VLOOKUP(B32,UrenTabel,3,FALSE)) -> Direct | F32: =IF(ISERROR(VLOOKUP(B32,UrenTabel,2,FALSE)),"",VLOOKUP(B32,UrenTabel,2,FALSE)) -> Ja | G32: =IF(B32="","",SUMIF(UrenCategorie,B32,UrenAantal)) -> 0 | H32: =IF(ISERROR(+G32/$G$37),0,+G32/$G$37) -> 0 | I32: =H32 -> 0 | L32: Prognose uren | N32: =365/N31*N20 -> 0 | O32: ="(365 / "&N31&" x "&N20&")" -> (365 / 1 x 0)
B33: =IF(Instellingen!B57="","",Instellingen!B57) | D33: =IF(ISERROR(VLOOKUP(B33,UrenTabel,3,FALSE)),"",VLOOKUP(B33,UrenTabel,3,FALSE)) | F33: =IF(ISERROR(VLOOKUP(B33,UrenTabel,2,FALSE)),"",VLOOKUP(B33,UrenTabel,2,FALSE)) | G33: =IF(B33="","",SUMIF(UrenCategorie,B33,UrenAantal)) | H33: =IF(ISERROR(+G33/$G$37),0,+G33/$G$37) -> 0 | I33: =H33 -> 0 | L33: =IF(N33<1,"Onvoldoende uren","Voldoende uren") -> Onvoldoende uren | N33: =+N32/N24 -> 0
B34: =IF(Instellingen!B58="","",Instellingen!B58) | D34: =IF(ISERROR(VLOOKUP(B34,UrenTabel,3,FALSE)),"",VLOOKUP(B34,UrenTabel,3,FALSE)) | F34: =IF(ISERROR(VLOOKUP(B34,UrenTabel,2,FALSE)),"",VLOOKUP(B34,UrenTabel,2,FALSE)) | G34: =IF(B34="","",SUMIF(UrenCategorie,B34,UrenAantal)) | H34: =IF(ISERROR(+G34/$G$37),0,+G34/$G$37) -> 0 | I34: =H34 -> 0
B35: =IF(Instellingen!B59="","",Instellingen!B59) | D35: =IF(ISERROR(VLOOKUP(B35,UrenTabel,3,FALSE)),"",VLOOKUP(B35,UrenTabel,3,FALSE)) | F35: =IF(ISERROR(VLOOKUP(B35,UrenTabel,2,FALSE)),"",VLOOKUP(B35,UrenTabel,2,FALSE)) | G35: =IF(B35="","",SUMIF(UrenCategorie,B35,UrenAantal)) | H35: =IF(ISERROR(+G35/$G$37),0,+G35/$G$37) -> 0 | I35: =H35 -> 0
B36: =IF(Instellingen!B60="","",Instellingen!B60) | D36: =IF(ISERROR(VLOOKUP(B36,UrenTabel,3,FALSE)),"",VLOOKUP(B36,UrenTabel,3,FALSE)) | F36: =IF(ISERROR(VLOOKUP(B36,UrenTabel,2,FALSE)),"",VLOOKUP(B36,UrenTabel,2,FALSE)) | G36: =SUMIF(UrenCategorie,B36,UrenAantal) -> 0 | H36: =IF(ISERROR(+G36/$G$37),0,+G36/$G$37) -> 0 | I36: =H36 -> 0
B37: Totaal | G37: =SUM(G7:G36) -> 0 | H37: =IF(ISERROR(+G37/$G$37),0,+G37/$G$37) -> 0
B40: Uren per maand naar aard categorie
B41: Aard | D41: 1 | E41: 2 | F41: 3 | G41: 4 | H41: 5 | I41: 6 | J41: 7 | K41: 8 | L41: 9 | M41: 10 | N41: 11 | O41: 12 | P41: Totaal
B42: =IF(Instellingen!B21="","",Instellingen!B21) -> Direct | D42: =IF($B42="","",SUMIF(Combi1,$B42&D$41,UrenAantal)) -> 0 | E42: =IF($B42="","",SUMIF(Combi1,$B42&E$41,UrenAantal)) -> 0 | F42: =IF($B42="","",SUMIF(Combi1,$B42&F$41,UrenAantal)) -> 0 | G42: =IF($B42="","",SUMIF(Combi1,$B42&G$41,UrenAantal)) -> 0 | H42: =IF($B42="","",SUMIF(Combi1,$B42&H$41,UrenAantal)) -> 0 | I42: =IF($B42="","",SUMIF(Combi1,$B42&I$41,UrenAantal)) -> 0 | J42: =IF($B42="","",SUMIF(Combi1,$B42&J$41,UrenAantal)) -> 0 | K42: =IF($B42="","",SUMIF(Combi1,$B42&K$41,UrenAantal)) -> 0 | ... O42: =IF($B42="","",SUMIF(Combi1,$B42&O$41,UrenAantal)) -> 0 | P42: =SUM(D42:O42) -> 0
B43: =IF(Instellingen!B22="","",Instellingen!B22) -> Administratie | D43: =IF($B43="","",SUMIF(Combi1,$B43&D$41,UrenAantal)) -> 0 | E43: =IF($B43="","",SUMIF(Combi1,$B43&E$41,UrenAantal)) -> 0 | F43: =IF($B43="","",SUMIF(Combi1,$B43&F$41,UrenAantal)) -> 0 | G43: =IF($B43="","",SUMIF(Combi1,$B43&G$41,UrenAantal)) -> 0 | H43: =IF($B43="","",SUMIF(Combi1,$B43&H$41,UrenAantal)) -> 0 | I43: =IF($B43="","",SUMIF(Combi1,$B43&I$41,UrenAantal)) -> 0 | J43: =IF($B43="","",SUMIF(Combi1,$B43&J$41,UrenAantal)) -> 0 | K43: =IF($B43="","",SUMIF(Combi1,$B43&K$41,UrenAantal)) -> 0 | ... O43: =IF($B43="","",SUMIF(Combi1,$B43&O$41,UrenAantal)) -> 0 | P43: =SUM(D43:O43) -> 0
B44: =IF(Instellingen!B23="","",Instellingen!B23) -> Acquisitie | D44: =IF($B44="","",SUMIF(Combi1,$B44&D$41,UrenAantal)) -> 0 | E44: =IF($B44="","",SUMIF(Combi1,$B44&E$41,UrenAantal)) -> 0 | F44: =IF($B44="","",SUMIF(Combi1,$B44&F$41,UrenAantal)) -> 0 | G44: =IF($B44="","",SUMIF(Combi1,$B44&G$41,UrenAantal)) -> 0 | H44: =IF($B44="","",SUMIF(Combi1,$B44&H$41,UrenAantal)) -> 0 | I44: =IF($B44="","",SUMIF(Combi1,$B44&I$41,UrenAantal)) -> 0 | J44: =IF($B44="","",SUMIF(Combi1,$B44&J$41,UrenAantal)) -> 0 | K44: =IF($B44="","",SUMIF(Combi1,$B44&K$41,UrenAantal)) -> 0 | ... O44: =IF($B44="","",SUMIF(Combi1,$B44&O$41,UrenAantal)) -> 0 | P44: =SUM(D44:O44) -> 0
B45: =IF(Instellingen!B24="","",Instellingen!B24) -> Scholing | D45: =IF($B45="","",SUMIF(Combi1,$B45&D$41,UrenAantal)) -> 0 | E45: =IF($B45="","",SUMIF(Combi1,$B45&E$41,UrenAantal)) -> 0 | F45: =IF($B45="","",SUMIF(Combi1,$B45&F$41,UrenAantal)) -> 0 | G45: =IF($B45="","",SUMIF(Combi1,$B45&G$41,UrenAantal)) -> 0 | H45: =IF($B45="","",SUMIF(Combi1,$B45&H$41,UrenAantal)) -> 0 | I45: =IF($B45="","",SUMIF(Combi1,$B45&I$41,UrenAantal)) -> 0 | J45: =IF($B45="","",SUMIF(Combi1,$B45&J$41,UrenAantal)) -> 0 | K45: =IF($B45="","",SUMIF(Combi1,$B45&K$41,UrenAantal)) -> 0 | ... O45: =IF($B45="","",SUMIF(Combi1,$B45&O$41,UrenAantal)) -> 0 | P45: =SUM(D45:O45) -> 0
B46: =IF(Instellingen!B25="","",Instellingen!B25) -> Werkruimte | D46: =IF($B46="","",SUMIF(Combi1,$B46&D$41,UrenAantal)) -> 0 | E46: =IF($B46="","",SUMIF(Combi1,$B46&E$41,UrenAantal)) -> 0 | F46: =IF($B46="","",SUMIF(Combi1,$B46&F$41,UrenAantal)) -> 0 | G46: =IF($B46="","",SUMIF(Combi1,$B46&G$41,UrenAantal)) -> 0 | H46: =IF($B46="","",SUMIF(Combi1,$B46&H$41,UrenAantal)) -> 0 | I46: =IF($B46="","",SUMIF(Combi1,$B46&I$41,UrenAantal)) -> 0 | J46: =IF($B46="","",SUMIF(Combi1,$B46&J$41,UrenAantal)) -> 0 | K46: =IF($B46="","",SUMIF(Combi1,$B46&K$41,UrenAantal)) -> 0 | ... O46: =IF($B46="","",SUMIF(Combi1,$B46&O$41,UrenAantal)) -> 0 | P46: =SUM(D46:O46) -> 0
B47: =IF(Instellingen!B26="","",Instellingen!B26) -> Overig | D47: =IF($B47="","",SUMIF(Combi1,$B47&D$41,UrenAantal)) -> 0 | E47: =IF($B47="","",SUMIF(Combi1,$B47&E$41,UrenAantal)) -> 0 | F47: =IF($B47="","",SUMIF(Combi1,$B47&F$41,UrenAantal)) -> 0 | G47: =IF($B47="","",SUMIF(Combi1,$B47&G$41,UrenAantal)) -> 0 | H47: =IF($B47="","",SUMIF(Combi1,$B47&H$41,UrenAantal)) -> 0 | I47: =IF($B47="","",SUMIF(Combi1,$B47&I$41,UrenAantal)) -> 0 | J47: =IF($B47="","",SUMIF(Combi1,$B47&J$41,UrenAantal)) -> 0 | K47: =IF($B47="","",SUMIF(Combi1,$B47&K$41,UrenAantal)) -> 0 | ... O47: =IF($B47="","",SUMIF(Combi1,$B47&O$41,UrenAantal)) -> 0 | P47: =SUM(D47:O47) -> 0
B48: =IF(Instellingen!B27="","",Instellingen!B27) | D48: =IF($B48="","",SUMIF(Combi1,$B48&D$41,UrenAantal)) | E48: =IF($B48="","",SUMIF(Combi1,$B48&E$41,UrenAantal)) | F48: =IF($B48="","",SUMIF(Combi1,$B48&F$41,UrenAantal)) | G48: =IF($B48="","",SUMIF(Combi1,$B48&G$41,UrenAantal)) | H48: =IF($B48="","",SUMIF(Combi1,$B48&H$41,UrenAantal)) | I48: =IF($B48="","",SUMIF(Combi1,$B48&I$41,UrenAantal)) | J48: =IF($B48="","",SUMIF(Combi1,$B48&J$41,UrenAantal)) | K48: =IF($B48="","",SUMIF(Combi1,$B48&K$41,UrenAantal)) | ... O48: =IF($B48="","",SUMIF(Combi1,$B48&O$41,UrenAantal)) | P48: =SUM(D48:O48) -> 0
B49: =IF(Instellingen!B28="","",Instellingen!B28) | D49: =SUMIF(Combi1,$B49&D$41,UrenAantal) -> 0 | E49: =SUMIF(Combi1,$B49&E$41,UrenAantal) -> 0 | F49: =SUMIF(Combi1,$B49&F$41,UrenAantal) -> 0 | G49: =SUMIF(Combi1,$B49&G$41,UrenAantal) -> 0 | H49: =SUMIF(Combi1,$B49&H$41,UrenAantal) -> 0 | I49: =SUMIF(Combi1,$B49&I$41,UrenAantal) -> 0 | J49: =SUMIF(Combi1,$B49&J$41,UrenAantal) -> 0 | K49: =SUMIF(Combi1,$B49&K$41,UrenAantal) -> 0 | ... O49: =SUMIF(Combi1,$B49&O$41,UrenAantal) -> 0 | P49: =SUM(D49:O49) -> 0
B50: Totaal | D50: =SUM(D42:D49) -> 0 | E50: =SUM(E42:E49) -> 0 | F50: =SUM(F42:F49) -> 0 | G50: =SUM(G42:G49) -> 0 | H50: =SUM(H42:H49) -> 0 | I50: =SUM(I42:I49) -> 0 | J50: =SUM(J42:J49) -> 0 | K50: =SUM(K42:K49) -> 0 | ... P50: =SUM(P42:P49) -> 0
B53: Urencriterium per maand
B54: Criterium | D54: 1 | E54: 2 | F54: 3 | G54: 4 | H54: 5 | I54: 6 | J54: 7 | K54: 8 | L54: 9 | M54: 10 | N54: 11 | O54: 12 | P54: Totaal
B55: Ja | D55: =IF($B55="","",SUMIF(Combi2,$B55&D$41,UrenAantal)) -> 0 | E55: =IF($B55="","",SUMIF(Combi2,$B55&E$41,UrenAantal)) -> 0 | F55: =IF($B55="","",SUMIF(Combi2,$B55&F$41,UrenAantal)) -> 0 | G55: =IF($B55="","",SUMIF(Combi2,$B55&G$41,UrenAantal)) -> 0 | H55: =IF($B55="","",SUMIF(Combi2,$B55&H$41,UrenAantal)) -> 0 | I55: =IF($B55="","",SUMIF(Combi2,$B55&I$41,UrenAantal)) -> 0 | J55: =IF($B55="","",SUMIF(Combi2,$B55&J$41,UrenAantal)) -> 0 | K55: =IF($B55="","",SUMIF(Combi2,$B55&K$41,UrenAantal)) -> 0 | ... O55: =IF($B55="","",SUMIF(Combi2,$B55&O$41,UrenAantal)) -> 0 | P55: =SUM(D55:O55) -> 0
B56: Nee | D56: =IF($B56="","",SUMIF(Combi2,$B56&D$41,UrenAantal)) -> 0 | E56: =IF($B56="","",SUMIF(Combi2,$B56&E$41,UrenAantal)) -> 0 | F56: =IF($B56="","",SUMIF(Combi2,$B56&F$41,UrenAantal)) -> 0 | G56: =IF($B56="","",SUMIF(Combi2,$B56&G$41,UrenAantal)) -> 0 | H56: =IF($B56="","",SUMIF(Combi2,$B56&H$41,UrenAantal)) -> 0 | I56: =IF($B56="","",SUMIF(Combi2,$B56&I$41,UrenAantal)) -> 0 | J56: =IF($B56="","",SUMIF(Combi2,$B56&J$41,UrenAantal)) -> 0 | K56: =IF($B56="","",SUMIF(Combi2,$B56&K$41,UrenAantal)) -> 0 | ... O56: =IF($B56="","",SUMIF(Combi2,$B56&O$41,UrenAantal)) -> 0 | P56: =SUM(D56:O56) -> 0
D57: =SUMIF(Combi2,$B57&D$41,UrenAantal) -> 0 | E57: =SUMIF(Combi2,$B57&E$41,UrenAantal) -> 0 | F57: =SUMIF(Combi2,$B57&F$41,UrenAantal) -> 0 | G57: =SUMIF(Combi2,$B57&G$41,UrenAantal) -> 0 | H57: =SUMIF(Combi2,$B57&H$41,UrenAantal) -> 0 | I57: =SUMIF(Combi2,$B57&I$41,UrenAantal) -> 0 | J57: =SUMIF(Combi2,$B57&J$41,UrenAantal) -> 0 | K57: =SUMIF(Combi2,$B57&K$41,UrenAantal) -> 0 | ... O57: =SUMIF(Combi2,$B57&O$41,UrenAantal) -> 0 | P57: =SUM(D57:O57) -> 0
B58: Totaal | D58: =SUM(D55:D57) -> 0 | E58: =SUM(E55:E57) -> 0 | F58: =SUM(F55:F57) -> 0 | G58: =SUM(G55:G57) -> 0 | H58: =SUM(H55:H57) -> 0 | I58: =SUM(I55:I57) -> 0 | J58: =SUM(J55:J57) -> 0 | K58: =SUM(K55:K57) -> 0 | ... P58: =SUM(P55:P57) -> 0

Sheet Klanten
B2: Klanten
B3: =Bedrijfsnaam -> Bedrijfsnaam
B5: Klantnr | C5: Klantnaam | D5: Contactpersoon | E5: Adres | F5: Postcode | G5: Woonplaats | H5: Telefoon | I5: Extra 1 | J5: Extra 2 | K5: Aantal uren | L5: Omzet | M5: Opmerkingen
B6: 1 | C6: Algemeen | D6: Algemeen | K6: =IF(B6="","",SUMIF(Urenklantnr,B6,UrenAantal)) -> 0 | L6: =IF(B6="","",SUMIF(Urenklantnr,B6,UrenOmzet)) -> 0
B7: 2 | C7: Yildiz & Partners | D7: Y.Yildiz | E7: Pisanosstraat 55C | F7: 5623CB | G7: Eindhoven | H7: 641989929 | K7: =IF(B7="","",SUMIF(Urenklantnr,B7,UrenAantal)) -> 0 | L7: =IF(B7="","",SUMIF(Urenklantnr,B7,UrenOmzet)) -> 0
K8: =IF(B8="","",SUMIF(Urenklantnr,B8,UrenAantal)) | L8: =IF(B8="","",SUMIF(Urenklantnr,B8,UrenOmzet))
K9: =IF(B9="","",SUMIF(Urenklantnr,B9,UrenAantal)) | L9: =IF(B9="","",SUMIF(Urenklantnr,B9,UrenOmzet))
K10: =IF(B10="","",SUMIF(Urenklantnr,B10,UrenAantal)) | L10: =IF(B10="","",SUMIF(Urenklantnr,B10,UrenOmzet))
K11: =IF(B11="","",SUMIF(Urenklantnr,B11,UrenAantal)) | L11: =IF(B11="","",SUMIF(Urenklantnr,B11,UrenOmzet))
K12: =IF(B12="","",SUMIF(Urenklantnr,B12,UrenAantal)) | L12: =IF(B12="","",SUMIF(Urenklantnr,B12,UrenOmzet))
K13: =IF(B13="","",SUMIF(Urenklantnr,B13,UrenAantal)) | L13: =IF(B13="","",SUMIF(Urenklantnr,B13,UrenOmzet))
K14: =IF(B14="","",SUMIF(Urenklantnr,B14,UrenAantal)) | L14: =IF(B14="","",SUMIF(Urenklantnr,B14,UrenOmzet))
K15: =IF(B15="","",SUMIF(Urenklantnr,B15,UrenAantal)) | L15: =IF(B15="","",SUMIF(Urenklantnr,B15,UrenOmzet))
K16: =IF(B16="","",SUMIF(Urenklantnr,B16,UrenAantal)) | L16: =IF(B16="","",SUMIF(Urenklantnr,B16,UrenOmzet))
K17: =IF(B17="","",SUMIF(Urenklantnr,B17,UrenAantal)) | L17: =IF(B17="","",SUMIF(Urenklantnr,B17,UrenOmzet))
K18: =IF(B18="","",SUMIF(Urenklantnr,B18,UrenAantal)) | L18: =IF(B18="","",SUMIF(Urenklantnr,B18,UrenOmzet))
K19: =IF(B19="","",SUMIF(Urenklantnr,B19,UrenAantal)) | L19: =IF(B19="","",SUMIF(Urenklantnr,B19,UrenOmzet))
... K44: =IF(B44="","",SUMIF(Urenklantnr,B44,UrenAantal)) | L44: =IF(B44="","",SUMIF(Urenklantnr,B44,UrenOmzet))
K45: 0.5 | L45: =IF(B45="","",SUMIF(Urenklantnr,B45,UrenOmzet))
K46: =IF(B46="","",SUMIF(Urenklantnr,B46,UrenAantal)) | L46: =IF(B46="","",SUMIF(Urenklantnr,B46,UrenOmzet))
K47: =IF(B47="","",SUMIF(Urenklantnr,B47,UrenAantal)) | L47: =IF(B47="","",SUMIF(Urenklantnr,B47,UrenOmzet))
K48: =IF(B48="","",SUMIF(Urenklantnr,B48,UrenAantal)) | L48: =IF(B48="","",SUMIF(Urenklantnr,B48,UrenOmzet))
K49: =IF(B49="","",SUMIF(Urenklantnr,B49,UrenAantal)) | L49: =IF(B49="","",SUMIF(Urenklantnr,B49,UrenOmzet))
K50: =IF(B50="","",SUMIF(Urenklantnr,B50,UrenAantal)) | L50: =IF(B50="","",SUMIF(Urenklantnr,B50,UrenOmzet))
K51: =IF(B51="","",SUMIF(Urenklantnr,B51,UrenAantal)) | L51: =IF(B51="","",SUMIF(Urenklantnr,B51,UrenOmzet))
K52: =IF(B52="","",SUMIF(Urenklantnr,B52,UrenAantal)) | L52: =IF(B52="","",SUMIF(Urenklantnr,B52,UrenOmzet))
K53: =IF(B53="","",SUMIF(Urenklantnr,B53,UrenAantal)) | L53: =IF(B53="","",SUMIF(Urenklantnr,B53,UrenOmzet))
K54: =IF(B54="","",SUMIF(Urenklantnr,B54,UrenAantal)) | L54: =IF(B54="","",SUMIF(Urenklantnr,B54,UrenOmzet))
K55: =IF(B55="","",SUMIF(Urenklantnr,B55,UrenAantal)) | L55: =IF(B55="","",SUMIF(Urenklantnr,B55,UrenOmzet))
K56: =IF(B56="","",SUMIF(Urenklantnr,B56,UrenAantal)) | L56: =IF(B56="","",SUMIF(Urenklantnr,B56,UrenOmzet))
K57: =IF(B57="","",SUMIF(Urenklantnr,B57,UrenAantal)) | L57: =IF(B57="","",SUMIF(Urenklantnr,B57,UrenOmzet))
... K105: =IF(B105="","",SUMIF(Urenklantnr,B105,UrenAantal)) | L105: =IF(B105="","",SUMIF(Urenklantnr,B105,UrenOmzet))

Sheet Projecten
B2: Projecten
B3: =Bedrijfsnaam -> Bedrijfsnaam
B5: Projectnaam | C5: Project-code | D5: Klantnr | E5: Klantnaam | F5: Begindatum | G5: Einddatum | H5: Extra 1 | I5: Extra 2 | J5: Extra 3 | K5: Aantal uren | L5: Omzet | M5: Opmerkingen
B6: Algemeen | C6: 1 | E6: =IF(ISERROR(VLOOKUP(D6,TabelKlanten,2,FALSE)),"",VLOOKUP(D6,TabelKlanten,2,FALSE)) | K6: =IF(B6="","",SUMIF(Urenregister!$H$6:$H$1029,Projecten!B6,UrenAantal)) -> 0 | L6: =IF(B6="","",SUMIF(UrenProjectcode,Projecten!B6,UrenOmzet)) -> 0
B7: Inboeken | C7: 2 | E7: =IF(ISERROR(VLOOKUP(D7,TabelKlanten,2,FALSE)),"",VLOOKUP(D7,TabelKlanten,2,FALSE)) | K7: =IF(B7="","",SUMIF(Urenregister!$H$6:$H$1029,Projecten!B7,UrenAantal)) -> 0 | L7: =IF(B7="","",SUMIF(UrenProjectcode,Projecten!B7,UrenOmzet)) -> 0
B8: Jaarrekening | C8: 3 | E8: =IF(ISERROR(VLOOKUP(D8,TabelKlanten,2,FALSE)),"",VLOOKUP(D8,TabelKlanten,2,FALSE)) | K8: =IF(B8="","",SUMIF(Urenregister!$H$6:$H$1029,Projecten!B8,UrenAantal)) -> 0 | L8: =IF(B8="","",SUMIF(UrenProjectcode,Projecten!B8,UrenOmzet)) -> 0
B9: Inkomsten Belasting | C9: 4 | E9: =IF(ISERROR(VLOOKUP(D9,TabelKlanten,2,FALSE)),"",VLOOKUP(D9,TabelKlanten,2,FALSE)) | K9: =IF(B9="","",SUMIF(Urenregister!$H$6:$H$1029,Projecten!B9,UrenAantal)) -> 0 | L9: =IF(B9="","",SUMIF(UrenProjectcode,Projecten!B9,UrenOmzet)) -> 0
B10: BTW | C10: 5 | E10: =IF(ISERROR(VLOOKUP(D10,TabelKlanten,2,FALSE)),"",VLOOKUP(D10,TabelKlanten,2,FALSE)) | K10: =IF(B10="","",SUMIF(Urenregister!$H$6:$H$1029,Projecten!B10,UrenAantal)) -> 0 | L10: =IF(B10="","",SUMIF(UrenProjectcode,Projecten!B10,UrenOmzet)) -> 0
B11: Loonadministratie | C11: 6 | E11: =IF(ISERROR(VLOOKUP(D11,TabelKlanten,2,FALSE)),"",VLOOKUP(D11,TabelKlanten,2,FALSE)) | K11: =IF(B11="","",SUMIF(Urenregister!$H$6:$H$1029,Projecten!B11,UrenAantal)) -> 0 | L11: =IF(B11="","",SUMIF(UrenProjectcode,Projecten!B11,UrenOmzet)) -> 0
B12: Besprekingen | C12: 7 | E12: =IF(ISERROR(VLOOKUP(D12,TabelKlanten,2,FALSE)),"",VLOOKUP(D12,TabelKlanten,2,FALSE)) | K12: =IF(B12="","",SUMIF(Urenregister!$H$6:$H$1029,Projecten!B12,UrenAantal)) -> 0 | L12: =IF(B12="","",SUMIF(UrenProjectcode,Projecten!B12,UrenOmzet)) -> 0
B13: Vergadering | C13: 8 | E13: =IF(ISERROR(VLOOKUP(D13,TabelKlanten,2,FALSE)),"",VLOOKUP(D13,TabelKlanten,2,FALSE)) | K13: =IF(B13="","",SUMIF(Urenregister!$H$6:$H$1029,Projecten!B13,UrenAantal)) -> 0 | L13: =IF(B13="","",SUMIF(UrenProjectcode,Projecten!B13,UrenOmzet)) -> 0
B14: Telefonisch | C14: 9 | E14: =IF(ISERROR(VLOOKUP(D14,TabelKlanten,2,FALSE)),"",VLOOKUP(D14,TabelKlanten,2,FALSE)) | K14: =IF(B14="","",SUMIF(Urenregister!$H$6:$H$1029,Projecten!B14,UrenAantal)) -> 0 | L14: =IF(B14="","",SUMIF(UrenProjectcode,Projecten!B14,UrenOmzet)) -> 0
B15: Interim | C15: 10 | E15: =IF(ISERROR(VLOOKUP(D15,TabelKlanten,2,FALSE)),"",VLOOKUP(D15,TabelKlanten,2,FALSE)) | K15: =IF(B15="","",SUMIF(Urenregister!$H$6:$H$1029,Projecten!B15,UrenAantal)) -> 0 | L15: =IF(B15="","",SUMIF(UrenProjectcode,Projecten!B15,UrenOmzet)) -> 0
B16: Bezoek | C16: 11 | E16: =IF(ISERROR(VLOOKUP(D16,TabelKlanten,2,FALSE)),"",VLOOKUP(D16,TabelKlanten,2,FALSE)) | K16: =IF(B16="","",SUMIF(Urenregister!$H$6:$H$1029,Projecten!B16,UrenAantal)) -> 0 | L16: =IF(B16="","",SUMIF(UrenProjectcode,Projecten!B16,UrenOmzet)) -> 0
B17: Voorbereiding | C17: 12 | E17: =IF(ISERROR(VLOOKUP(D17,TabelKlanten,2,FALSE)),"",VLOOKUP(D17,TabelKlanten,2,FALSE)) | K17: =IF(B17="","",SUMIF(Urenregister!$H$6:$H$1029,Projecten!B17,UrenAantal)) -> 0 | L17: =IF(B17="","",SUMIF(UrenProjectcode,Projecten!B17,UrenOmzet)) -> 0
... B22: Correspondentie | C22: 17 | E22: =IF(ISERROR(VLOOKUP(D22,TabelKlanten,2,FALSE)),"",VLOOKUP(D22,TabelKlanten,2,FALSE)) | K22: =IF(B22="","",SUMIF(Urenregister!$H$6:$H$1029,Projecten!B22,UrenAantal)) -> 0 | L22: =IF(B22="","",SUMIF(UrenProjectcode,Projecten!B22,UrenOmzet)) -> 0
E23: =IF(ISERROR(VLOOKUP(D23,TabelKlanten,2,FALSE)),"",VLOOKUP(D23,TabelKlanten,2,FALSE)) | K23: =IF(B23="","",SUMIF(Urenregister!$H$6:$H$1029,Projecten!B23,UrenAantal)) | L23: =IF(B23="","",SUMIF(UrenProjectcode,Projecten!B23,UrenOmzet))
E24: =IF(ISERROR(VLOOKUP(D24,TabelKlanten,2,FALSE)),"",VLOOKUP(D24,TabelKlanten,2,FALSE)) | K24: =IF(B24="","",SUMIF(Urenregister!$H$6:$H$1029,Projecten!B24,UrenAantal)) | L24: =IF(B24="","",SUMIF(UrenProjectcode,Projecten!B24,UrenOmzet))
E25: =IF(ISERROR(VLOOKUP(D25,TabelKlanten,2,FALSE)),"",VLOOKUP(D25,TabelKlanten,2,FALSE)) | K25: =IF(B25="","",SUMIF(Urenregister!$H$6:$H$1029,Projecten!B25,UrenAantal)) | L25: =IF(B25="","",SUMIF(UrenProjectcode,Projecten!B25,UrenOmzet))
E26: =IF(ISERROR(VLOOKUP(D26,TabelKlanten,2,FALSE)),"",VLOOKUP(D26,TabelKlanten,2,FALSE)) | K26: =IF(B26="","",SUMIF(Urenregister!$H$6:$H$1029,Projecten!B26,UrenAantal)) | L26: =IF(B26="","",SUMIF(UrenProjectcode,Projecten!B26,UrenOmzet))
E27: =IF(ISERROR(VLOOKUP(D27,TabelKlanten,2,FALSE)),"",VLOOKUP(D27,TabelKlanten,2,FALSE)) | K27: =IF(B27="","",SUMIF(Urenregister!$H$6:$H$1029,Projecten!B27,UrenAantal)) | L27: =IF(B27="","",SUMIF(UrenProjectcode,Projecten!B27,UrenOmzet))
E28: =IF(ISERROR(VLOOKUP(D28,TabelKlanten,2,FALSE)),"",VLOOKUP(D28,TabelKlanten,2,FALSE)) | K28: =IF(B28="","",SUMIF(Urenregister!$H$6:$H$1029,Projecten!B28,UrenAantal)) | L28: =IF(B28="","",SUMIF(UrenProjectcode,Projecten!B28,UrenOmzet))
E29: =IF(ISERROR(VLOOKUP(D29,TabelKlanten,2,FALSE)),"",VLOOKUP(D29,TabelKlanten,2,FALSE)) | K29: =IF(B29="","",SUMIF(Urenregister!$H$6:$H$1029,Projecten!B29,UrenAantal)) | L29: =IF(B29="","",SUMIF(UrenProjectcode,Projecten!B29,UrenOmzet))
E30: =IF(ISERROR(VLOOKUP(D30,TabelKlanten,2,FALSE)),"",VLOOKUP(D30,TabelKlanten,2,FALSE)) | K30: =IF(B30="","",SUMIF(Urenregister!$H$6:$H$1029,Projecten!B30,UrenAantal)) | L30: =IF(B30="","",SUMIF(UrenProjectcode,Projecten!B30,UrenOmzet))
E31: =IF(ISERROR(VLOOKUP(D31,TabelKlanten,2,FALSE)),"",VLOOKUP(D31,TabelKlanten,2,FALSE)) | K31: =IF(B31="","",SUMIF(Urenregister!$H$6:$H$1029,Projecten!B31,UrenAantal)) | L31: =IF(B31="","",SUMIF(UrenProjectcode,Projecten!B31,UrenOmzet))
E32: =IF(ISERROR(VLOOKUP(D32,TabelKlanten,2,FALSE)),"",VLOOKUP(D32,TabelKlanten,2,FALSE)) | K32: =IF(B32="","",SUMIF(Urenregister!$H$6:$H$1029,Projecten!B32,UrenAantal)) | L32: =IF(B32="","",SUMIF(UrenProjectcode,Projecten!B32,UrenOmzet))
E33: =IF(ISERROR(VLOOKUP(D33,TabelKlanten,2,FALSE)),"",VLOOKUP(D33,TabelKlanten,2,FALSE)) | K33: =IF(B33="","",SUMIF(Urenregister!$H$6:$H$1029,Projecten!B33,UrenAantal)) | L33: =IF(B33="","",SUMIF(UrenProjectcode,Projecten!B33,UrenOmzet))
E34: =IF(ISERROR(VLOOKUP(D34,TabelKlanten,2,FALSE)),"",VLOOKUP(D34,TabelKlanten,2,FALSE)) | K34: =IF(B34="","",SUMIF(Urenregister!$H$6:$H$1029,Projecten!B34,UrenAantal)) | L34: =IF(B34="","",SUMIF(UrenProjectcode,Projecten!B34,UrenOmzet))
... E105: =IF(ISERROR(VLOOKUP(D105,TabelKlanten,2,FALSE)),"",VLOOKUP(D105,TabelKlanten,2,FALSE)) | K105: =IF(B105="","",SUMIF(Urenregister!$H$6:$H$1029,Projecten!B105,UrenAantal)) | L105: =IF(B105="","",SUMIF(UrenProjectcode,Projecten!B105,UrenOmzet))

Sheet Instellingen
B2: Instellingen
B5: Variabele | D5: Waarde
B6: Bedrijfsnaam | D6: Bedrijfsnaam
B7: Uw naam
B8: Uw adres
B9: Uw postcode
B10: Uw woonplaats
B11: Uw telefoonnummer
B12: Uw e-mail
B13: Uw website
B14: Boekjaar | D14: 2018
B15: Begindatum boekjaar | D15: 43101
B16: Einddatum boekjaar | D16: 43465
B17: Uren t.b.v. urencriterium | D17: 1225
B18: Versienummer | D18: 1.11
B20: Uren aard | D20: JaNee
B21: Direct | D21: Ja
B22: Administratie | D22: Nee
B23: Acquisitie
B24: Scholing
B25: Werkruimte
B26: Overig
B30: Soort uren | C30: Urencrit. | D30: Aard activiteit
B31: Voorbereiden | C31: Ja | D31: Direct
B32: Uitvoeren | C32: Ja | D32: Direct
B33: Overleggen met klant | C33: Ja | D33: Direct
B34: Verslagleggen | C34: Ja | D34: Direct
B35: Reizen | C35: Ja | D35: Direct
B36: Boekhouden | C36: Ja | D36: Administratie
B37: Factureren | C37: Ja | D37: Administratie
B38: Betalen | C38: Ja | D38: Administratie
B39: Post | C39: Ja | D39: Administratie
B40: Archiveren | C40: Ja | D40: Administratie
B41: Adverteren | C41: Ja | D41: Acquisitie
... B56: Bezoek | C56: Ja | D56: Direct
B62: Datum | C62: Feestdag
B63: 42839 | C63: Goede vrijdag
B64: 42841 | C64: 2e Paasdag
B65: 42852 | C65: Koningsdag
B66: 42860 | C66: Bevrijdingsdag
B67: 42880 | C67: Hemelvaartsdag
B68: 42891 | C68: 2e Pinksterdag
B69: 43094 | C69: 1e Kerstdag
B70: 43095 | C70: 2e Kerstdag
B71: 43101 | C71: Nieuwjaarsdag
B72: 43189 | C72: Goede vrijdag
B73: 43191 | C73: 1e Paasdag
B74: 43192 | C74: 2e Paasdag
... B81: 43460 | C81: 2e Kerstdag

Sheet Draaitabel
B2: Draaitabel
B3: =Bedrijfsnaam -> Bedrijfsnaam
B6: Uren- criterium
B8: Uren | E8: Column Labels
B9: Row Labels | C9: Aard | D9: UrenCategorie | E9: Grand Total
B10: Grand Total
